BEGIN:VCALENDAR
VERSION:2.0
PRODID:-//https://techplay.jp//JP
CALSCALE:GREGORIAN
METHOD:PUBLISH
X-WR-CALDESC:JXUGC #9 Xamarin.Forms Mvvm Teachathon 大阪サテライト
X-WR-CALNAME:JXUGC #9 Xamarin.Forms Mvvm Teachathon 大阪サテライト
X-WR-TIMEZONE:Asia/Tokyo
BEGIN:VTIMEZONE
TZID:Asia/Tokyo
BEGIN:STANDARD
DTSTART:19700101T000000
TZOFFSETFROM:+0900
TZOFFSETTO:+0900
TZNAME:JST
END:STANDARD
END:VTIMEZONE
BEGIN:VEVENT
UID:575353@techplay.jp
SUMMARY:JXUGC #9 Xamarin.Forms Mvvm Teachathon 大阪サテライト
DTSTART;TZID=Asia/Tokyo:20151217T185000
DTEND;TZID=Asia/Tokyo:20151217T210000
DTSTAMP:20260420T183145Z
CREATED:20151119T120350Z
DESCRIPTION:イベント詳細はこちら\nhttps://techplay.jp/event/57535
 3?utm_medium=referral&utm_source=ics&utm_campaign=ics\n\n東京で開催
 されるJXUGC #9 Xamarin.Forms Mvvm 実装方法 Teachathonのストリ
 ーミングを見る会です。\nXamarin.Forms や MVVM の勉強にな
 る良い会だと思ってたんですが、やはりストリーミン
 グを個人で見るよりもみんなでディスカッションしな
 がら見たいと思ったので建てました。\nタイムテーブ
 ル\n同じ会場で開催される他の勉強会よりも早い時間
 に集合となりますのでご注意ください！\n\n\n\n時間\n発
 表者\n内容\n\n\n\n\n18:50\n\n集合、会場入り\n\n\n19:00\n@ytabu
 chi\n本編 (ストリーミングを見る)\n\n\n20:30\nみなさん\n
 振り返りとフリーディスカッション (ストリーミング
 見ながら)\n\n\n\n場所\nフェンリル株式会社 大阪本社\n
 大阪府大阪市北区大深町3-1 グランフロント大阪 北館 
 タワーB(オフィス) 14F\n集合場所：9F タワーBオフィス 
 スカイロビー\n\n参考画像：https://twitter.com/yashigani/status
 /400788907328937984\nタワーBオフィスへのエレベーターに乗
 り、9Fまで進みます。ある程度集まってから 14F の会場
 へ移動します。\n通常の商業エリアのエレベータでは9F
 にたどり着くことはかなり困難です。ご注意ください
 。\n\n\n\n入場について\n\n\n18:50 を目途に9Fオフィスロビ
 ーのベンチでおまちください。\n\n18:40 ごろくらいから
 黒い名札を下げているフェンリルの社員が集合場所付
 近にいます。\n18:55 になると、全員そろっていなくて
 も 14F へ移動します。遅れてくる場合は 9F に到着した
 タイミングで @iseebi まで mention してください。お迎え
 にあがります。\n\n\n
LOCATION:フェンリル株式会社 大阪本社 大阪府大阪市北区
 大深町 3-1 (グランフロント大阪タワーB（オフィス）14F
 )
URL:https://techplay.jp/event/575353?utm_medium=referral&utm_source=ics&utm
 _campaign=ics
END:VEVENT
END:VCALENDAR
