BEGIN:VCALENDAR
VERSION:2.0
PRODID:-//https://techplay.jp//JP
CALSCALE:GREGORIAN
METHOD:PUBLISH
X-WR-CALDESC:第2回　ネイティブゲーム★Techセミナー
X-WR-CALNAME:第2回　ネイティブゲーム★Techセミナー
X-WR-TIMEZONE:Asia/Tokyo
BEGIN:VTIMEZONE
TZID:Asia/Tokyo
BEGIN:STANDARD
DTSTART:19700101T000000
TZOFFSETFROM:+0900
TZOFFSETTO:+0900
TZNAME:JST
END:STANDARD
END:VTIMEZONE
BEGIN:VEVENT
UID:57780@techplay.jp
SUMMARY:第2回　ネイティブゲーム★Techセミナー
DTSTART;TZID=Asia/Tokyo:20140709T183000
DTEND;TZID=Asia/Tokyo:20140709T203000
DTSTAMP:20260419T211148Z
CREATED:20140613T190032Z
DESCRIPTION:イベント詳細はこちら\nhttps://techplay.jp/event/57780
 ?utm_medium=referral&utm_source=ics&utm_campaign=ics\n\n 【最終増枠
 】好評につき更に増枠しました！90名⇒100名\n好評につ
 き更に増枠しました！80名⇒90名\n好評につき増枠しま
 した！50名⇒80名\nネイティブゲームのトレンド・情報
 を大公開！\n成功に欠かせないTipsを教えます\n\n海外に
 向けてサービスを提供しようと考えている\nモバイル
 アプリの最新トレンドを知りたい\nアプリの出来には
 自信があるけど、マーケティング施策が分からない\n
 ゲーム開発に集中したいから便利なプラットフォーム
 が欲しい\nビッグデータサービスを利用したゲーム解
 析情報を収集したい\n\nどれか一つでも引っかかる事が
 あれば是非ご参加ください！！\n講演者\n\nKLab株式会社
 　Kラボラトリー　山本 雅也氏\nApp Annie Japan 株式会社
 　ビジネスデベロップメントマネージャー　滝澤 琢人
 氏\n株式会社 ドリコム 　メディア企画開発部長　松江
  好洋氏\n株式会社IDCフロンティア　R&D室長　大屋 誠\n
 トレジャーデータ株式会社　エバンジェリスト 鈴木 
 理恵子氏\n\nタイムテーブル\n\n\n\n時間\n講演\nタイトル
 \n\n\n\n\n18:00\n受付開始\n-\n\n\n18:30\nKLab株式会社\n長距離
 ネットワークにおけるTCPの性能問題と改善策\n\n\n18:55\n
 株式会社IDCフロンティア\nMBaaS サービス"Fairy"の新機能
 紹介\n\n\n19：15\nApp Annie Japan株式会社\nアプリ市場の最
 新動向、 ASO ・アナリティクス活用法\n\n\n19:40\n株式会
 社ドリコム\nフライングガチャによる事前登録の効果\n
 \n\n20:05\nトレジャーデータ株式会社\nゲーム業界に特化
 したビッグデータ分析ソリューションのご紹介\n\n\n20
 ：25\n懇親会（無料）\n自由参加。軽食とドリンクをご
 用意します。\n\n\n\n※講演内容・タイムテーブルは変
 更になる可能性がございます。\n講演詳細\n【講演1】KL
 ab株式会社\n『 長距離ネットワークにおけるTCPの性能
 問題と改善策 』\n日本国内のデータセンターから海外
 のユーザーに対して快適なプレ イ環境を提供するため
 に、 ネットワークの通信遅延を最小限に抑えるための
 試みをご紹介します。\n【講演2】 株式会社IDCフロンテ
 ィア\n『 MBaaS サービス"Fairy"の新機能紹介 』\nゲーム開
 発に集中できるプラットフォーム「Native Apps Platform　GS
 S　Fairy」。\n資金決済法、充実のKPIレポート、PUSH通知
 など、欲しかった機能はすべてパッケージ化され、ゲ
 ーム開発・運用が格段にラクに、早くなります。\nセ
 ミナーでは、今後追加予定の新機能を中心にご紹介し
 ます。\n【講演3】  App Annie Japan 株式会社\n『 アプリ市
 場の最新動向、 ASO ・アナリティクス活用法 』\nグロ
 ーバルに急成長するモバイルアプリ市場の最新動向つ
 いて新興国市場のトレンドとあわせてご説明いたしま
 す。また現在注目を集めているASO（アプリ検索最適化
 ）およびアナリティクス等の無料製品についての活用
 方法についてのご紹介もさせていただきます。\n【講
 演4】  株式会社ドリコム\n『フライングゲットガチャ
 による事前登録の効果』\n【講演5】  トレジャーデー
 タ株式会社\n『ゲーム業界に特化したビッグデータ分
 析ソリューションのご紹介』\n持ち物\n名刺を2枚以上
 お持ちください。\n対象\n\nネイティブアプリゲームの
 プロデューサー\nネイティブゲーム・アプリの企画、
 開発担当者\nネイティブアプリのインフラ責任者、担
 当者\n\n参加費\n無料\n会場\n株式会社IDCフロンティア　
 本社　セミナールーム\n東京都新宿区四谷4-29\n東京メ
 トロ丸ノ内線「新宿御苑前駅」大木戸門（２番）出口
 を出て四谷方面に徒歩5分\n\n\n\n※Wi-Fiをご使用いただ
 けます。\nその他\n参加が難しくなった場合は、お早め
 にキャンセルいただけますようよろしくお願いいたし
 ます。\nネイティブゲーム開発に関連した「こんなこ
 と聞いてみたい！」、がありましたらぜひ事前にお寄
 せください！
LOCATION:IDCフロンティア セミナールーム 新宿区四谷4-29
URL:https://techplay.jp/event/57780?utm_medium=referral&utm_source=ics&utm_
 campaign=ics
END:VEVENT
END:VCALENDAR
