BEGIN:VCALENDAR
VERSION:2.0
PRODID:-//https://techplay.jp//JP
CALSCALE:GREGORIAN
METHOD:PUBLISH
X-WR-CALDESC:【二次募集開始！】Girls.Product vol.1　〜アイデ
 ィア発表会〜　女性のチカラで世の中を、もっと楽し
 く、もっと便利に
X-WR-CALNAME:【二次募集開始！】Girls.Product vol.1　〜アイデ
 ィア発表会〜　女性のチカラで世の中を、もっと楽し
 く、もっと便利に
X-WR-TIMEZONE:Asia/Tokyo
BEGIN:VTIMEZONE
TZID:Asia/Tokyo
BEGIN:STANDARD
DTSTART:19700101T000000
TZOFFSETFROM:+0900
TZOFFSETTO:+0900
TZNAME:JST
END:STANDARD
END:VTIMEZONE
BEGIN:VEVENT
UID:581424@techplay.jp
SUMMARY:【二次募集開始！】Girls.Product vol.1　〜アイディア
 発表会〜　女性のチカラで世の中を、もっと楽しく、
 もっと便利に
DTSTART;TZID=Asia/Tokyo:20160422T190000
DTEND;TZID=Asia/Tokyo:20160422T220000
DTSTAMP:20260421T125556Z
CREATED:20160216T095418Z
DESCRIPTION:イベント詳細はこちら\nhttps://techplay.jp/event/58142
 4?utm_medium=referral&utm_source=ics&utm_campaign=ics\n\n            Girl
 s.Product vol.1        アイディア発表会        Presented by dots.
 女子部        女性のチカラで世の中を、もっと楽しく
 、もっと便利に            概要                  dots.女子部
 がお送りする『Girls.Product』が始まります！               
      今回は第一弾！アイディア発表兼チームづくりを
 する会です。                    アイディア発表会では、
 アイディアをお持ちの方々に、考えぬいていただいた
 アイディアを集まっていただいたデザイナー、エンジ
 ニアに向けて発表していただきます。          デザイナ
 ー、エンジニアは発表を聞いていただき、気に入った
 、一緒に開発したいアイディアに投票していただきま
 す。           投票でいただいた希望や経験を加味して
 チームづくりを行います。          チームができたら7
 月の最終発表までプロダクト開発を進めていただきま
 す！                    イベント参加方法：          ■アイ
 ディアをお持ちの方は以下のページよりご応募下さい
 。アイディアをお持ちの方の募集ページはこちら       
        　※アイディアをお持ちの方のご応募は締め切り
 ました※          ■デザイナー、エンジニアとしてご参
 加下さる方はこのページの「イベントに参加する」ボ
 タンよりご応募下さい。           ※二次募集開始しま
 した！                    プロデューサーのアディアが募
 り次第、このページに掲載していく予定ですのでチェ
 ックをお忘れなく！                『Girls.Product』とは     
            女性チカラで、テクノロジーを使って世の中
 をもっと便利にしよう！というプロジェクトです。    
             参加者は全員女性！        プロデューサー1名
 、デザイナー1名、エンジニア2名でプロダクト開発を
 進めて頂く予定です！(人数は前後あり)※ 開発期間中
 に助っ人を頼んだり、アドバイスを他の方に仰ぐこと
 はOKです(性別不問)                日頃から感じている、
 「こんなの欲しい。」「ちょっと違うんだよなあ…」
 を自分たちの手で解決しましょう！        女性から湧
 き上がってくる、今までカタチにされなかったアイデ
 ィアを募集しています！                詳細は↓コチラ↓
 からもご覧いただけます        △▼△Girls.Product△▼△ 
        私たちのこのプロジェクトにかける思いも以下で
 ご覧いただけます！        女子たちの「こんなの欲し
 い」を実現！ 女性だけでつくる『GIRLS.PRODUCT』(THE LANCER
 )        あなたと一緒に世の中を変えたいです！          
       『Girls.Product』の進め方                ご参加頂く皆
 様は4月末から7月末までの3ヶ月間でプロダクトを開発
 していただきます。        必須でご参加頂きたいのは
 下記3回の発表会です。                第1回： アイディア
 発表会 (4/22)        第2回： プロトタイプ開発 (5月末)    
     第3回： 最終発表会 (7月末)                あとはチー
 ム毎、自由に最終発表会へ向けて開発して下さい。    
     開発期間中は審査員の方によるアドバイスや、dots.
 女子部によるサポートなど定期的に行わせていただき
 ます。                『Girls.Product』審査員          Girls Prod
 uctの全工程で審査をして下さる審査員の方々です。    
                             Toreta\, Inc. CTO/MobiRuby inventor          
     増井 雄一郎 氏              大学時代に起業しWebサイ
 ト制作などを行う傍ら、PukiWikiなどのオープンソース
 開発にも積極的に参加。中島聡氏と共にアプリ開発会
 社を起業するために2008年に渡米。iPhone向け写真共有ア
 プリPhotoShareをリリース。2010年に帰国し、アプリSDK『Ti
 tanium Mobile』の伝道師として活動。2012年9月に退職、Frog
 Apps\, Inc(現 miil Inc)を設立しiOS/Android向けにミイルをリ
 リース。現在は2013年に起業したToreta\, Inc. CTO。オープ
 ンソース活動としてMobiRuby、個人サービスとしてwri.pe
 を作成中。趣味はお風呂でコーディング。                
                                               株式会社 Zaim 代表取
 締役              閑歳 孝子 氏 - @kansai_takako              1979
 年生まれ。慶應義塾大学環境情報学部卒業後、出版社
 で記者・編集に携わる。29歳からエンジニアとして働
 き始め、Web系ベンチャー在籍中の2011年にプライベート
 で開発したオンライン家計簿サービス「Zaim」のiPhoneア
 プリ版をリリース。2012年に法人化し、日本最大級のサ
 ービスとなった。日経新聞による家計簿アプリランキ
 ング一位・グッドデザイン賞ベスト100など受賞。       
                                                        クックパッド
 株式会社 デザイナー              池田 拓司 氏 - 池田 拓
 司              1978年生まれ。福岡県北九州市出身。多摩
 美術大学美術学部2部デザイン学科を卒業。ニフティ株
 式会社、株式会社はてなを経て、2012年4月よりクック
 パッド株式会社。サービスのデザインやユーザー体験
 に対する責任を持つ。                                           
                    クラスメソッド株式会社 執行役員 モバ
 イルサービス部長              大橋 力丈 氏 - 大橋 力丈  
             1978年生まれ。専門学校で3DCG科を卒業後、ソ
 フトウェアハウスでエンジニアとして働き、2009年にク
 ラスメソッド株式会社に入社。クラスメソッドでは、
 モバイルアプリサービス事業を行っており、様々な事
 業会社のモバイルアプリサービスを、「iOS」「Android」
 「AWS」といった技術を利用し、様々な支援する活動を
 行っている。                              ※4月22日のイベン
 トはご都合がつかず増井雄一郎氏は欠席となります。
 以降の審査や、アドバイスにはご参加されます。『Girl
 s.Product：アイディア発表会』　登壇者          Girls Produc
 tのアイディア発表会でアイディアを披露していただく
 の方々です。                                                       
                    蒼山 さん                    Coming Soon・・・ 
                                                          2011年?サイ
 バーエージェント内定                      2011年長男出産  
                     2012年入社                      2015年長女出
 産                                                                      
           新井 さん                    『ストレスフリーにポ
 ートフォリオで自己アピール』                               
                          行政書士として独立開業するかたわ
 ら、フェチ東京と言うフェチを集めたサイトをStartupWee
 kendで作って優勝。                    今はクリエーターの
 ためのサイトを作るために動いています。                
                                                                          
          吉田 さん                    『校正・校閲共有SNSヤ
 ジルシ』                                                        千
 葉寄りの茨城「チバラギ出身」の23歳、社会人2年目に
 なります。ITのプロダクトが好きです。仕事は、アパ
 レルの口コミリサーチ、恰好つけた言葉で言うと「発
 信ツールのエゴサーチャー」。自社ブランドの評判が
 どうか日々収集しています。読書や人の話を聞くこと
 ・企画を考えたりすることが趣味です。とにかく人よ
 りも経験を重ねているなと考えているのは毎日人の意
 見に触れていること。                                           
                                                        塩原 さん     
                『個々に特化したファッションサイト』    
                                                     高校生の頃から
 起業願望を持つと同時にファッションやメイクに悩み
 、同じように困っている多くの女性の力になりたいと
 考えてるようになる。                                           
                                                          Sato さん     
                『perfect women(仮)』                                  
                       1986年生まれ。大学にてドイツ語学文
 学を専攻後、危険物に特化した物流会社に就職、国内
 輸送部門を担当したのち退職。プログラミングの面白
 さに出会い、2014年5月より米SFに本部を置き、テクノロ
 ジー業界における女性の為のエンパワメントを目的と
 したグローバルNPO「Women Who Code」初の日本支部を設立
 。約2年間で60回以上のmeetupを開催。キャロライン・ケ
 ネディ駐日米国大使に謁見、米国大使館共催でのイベ
 ントも開催。スピーカー経験：Google Women Tech Makers 2015 /
  try!Swift 2016                                                          
                                           金 さん                    
 『SHOEZ〜SHOE CLOSETを共有しあうソーシャルサービス〜』
                                                         Geek Girls Carrot
 s Japanファウンダー兼TOKYO Local Leader。普段はモラトリア
 ムフリーランサーです。元サイバーエージェント。広
 告事業本部で3年半勤務した後、ゲーム部門で3年間ア
 ジア圏のマーケティング推進・事業開発に従事。退職
 後、フル稼働でパラレルなキャリア構築をしていまし
 たが、現在は病気をきっかけに稼働をおさえ、新たな
 ワークライフを模索中。                                        
                                                             猪熊 さん
                     Coming Soon・・・                                 
    東京女子大学文理学部心理学科卒業。学生時代に女
 性の自信形成に興味を持ち、心理学を学ぶ。認定心理
 士の資格を取得。2007年（株）リクルートに入社。「ゼ
 クシィ」や「Hot Pepper Beauty」などの事業で事業戦略、
 ブランドプロモーション戦略、マーケティングなどに
 携わる。会社員の傍ら、「女性が豊かに自由に生きて
 いくこと」をコンセプトに、講演やイベント、セミナ
 ーなどで女性支援の活動を行い、高校生から70代の女
 性まで延べ２千人を超える女性たちと出逢う。2014年2
 月にリクルートを退職し、3月に株式会社OMOYAを設立。
 株式会社OMOYAでは、主に女性消費を得意とした、経営
 ・ブランドコンサルティングや企画マーケティング、
 組織のダイバーシティーマネージメント改革、企業内
 の女性活躍推進などを行う。社会人女性の学びの場「
 女子未来大学」ファウンダー。多様な価値観の多様な
 幸せを女性たちが歩めるような未来を目指して女性の
 キャリアや心理的な支援活動などを行っている。       
                                                                          
   木村 さん                    『これ1つで理想の1枚が作れ
 る最高の加工アプリ』                                    自社
 のECサイトに掲載するスナップ写真や商品の撮影を一
 眼レフで行い技術を習得。その後、ファッションアプ
 リstylinkを約4年間運営 ルミネ、109、などの店舗にて商
 品やショップスタッフの撮影を行う。現在その繋がり
 から、ファッションブランドの店舗スタッフおよび本
 社プレス担当者などに写真の撮影方法や加工技術、ポ
 ージングなどを教えている。                                  
                                                 本目 さん            
         『社会を変えるを仕事にする～女子議員が増え
 れば社会は変わる！～』                                        
               IT企業人事職を経験後１，「保育園がなくて
 復帰できません」という女性社員の声と、２，社会を
 変えるために起業した友人の影響と、３，「性別にか
 かわらずやりたいことができる社会をつくりたい」と
 いう思いを実現するのには政治では？とのアドバイス
 から、２０１２年４月から台東区議会議員。             
  ２０１５年８月「政策実現できる女性議員を増やす」
 ためにスキルとワザを共有するための若手女性議員ネ
 ットワーク「WOMAN SHIFT」を立ち上げる。                    
                                                                          
        隈元 さん                    Coming Soon・・・             
                                          マーケティングやPRのコ
 ンサルティングをしているStory Design houseの隈元です。 
              新しいサービス作る機会が無く、このチャン
 スを待ってました！              ということで、アイデ
 ィアを考えて行きます。              どうぞ宜しくお願
 いいたします！                                                    
                                                 蓮池 さん            
         『インスタグラムを使いやすく！』                 
                                      法政大学生命科学部４年生
               プログラミング歴１年                             
                                                                        
 上原 さん                    『大人向け知育ゲーム』       
                                                  教育業界からIT業
 界へ転身し、事業開発を通して国内外の人財育成に携
 わり、課題解決に向けて奮闘中です！                      
                                                                          
      MESHER さん                    Coming Soon・・・               
                                        MESHER.inc 代表              ウ
 エディングプランナーから女性マーケティングの       
        営業企画に転身。PR会社、WEB媒体を経て現職。    
           女性のライフスタイルに必要な情報をディレク
 ションし              新しい価値を生み出すことを得意
 とする。              女性マーケット全般の企画プロデ
 ューサーとして活動中。              http://www.mesher.jp/     
                                                                        
 ※応募順                            参加資格                     
    世の中を便利にするアイディアをお持ちの女性       
  女性たちのチカラで作り出すプロダクトに興味のある
 女性デザイナー        女性たちのチカラで作り出すプ
 ロダクトに興味のある女性エンジニア                世の
 中を便利にするプロダクトを作りたい女性、全員参加
 をお待ちしております！        ■アイディアをお持ち
 の方は以下のページよりご応募下さい。        　※ア
 イディアをお持ちの方のご応募は締め切りました※    
     ■デザイナー、エンジニアとしてご参加下さる方は
 このページの「イベントに参加する」ボタンよりご応
 募下さい。        ※デザイナー、エンジニアの方でも
 、世の中を便利にするアイディアがある方はアイディ
 アをお持ちの方専用のページよりご応募下さい          
           申し込み方法                    ページ右上にある
 緑色の「イベントに参加する」ボタンをクリック、必
 要事項を入力の上、お申し込みください。           ※
 二次募集開始しました！                タイムスケジュー
 ル                                                                      
       時間                        内容                               
                                  19:00                        受付開
 始                                                                      
                                           19:15-                         
                                        イベント説明                
                                                                          
                                19:30-                                    
             アイディアお披露目(1人3分×20人)                 
                                                                        20
 :30-20:40                                                 休憩         
                                                                          
       20:40-20:50                        投票・審査                 
                                                                          
                       20:50-21:30                                        
 懇親会                                                                
                 21:30-22:00                        審査員賞発表＋
 チーム発表                                                          
   ※プログラムの内容は予告なく変更となる場合がご
 ざいますのでご了承ください。            アイディアの
 取り扱いについて                ・事前に同意書へのサイ
 ンをお願いしています。        ・「他人に使われては
 困る！！！」というアイディアは心の中にしまってお
 いてください。            持ち物        プロデューサー
 の方:アイディア3分で発表するための資料をお持ち下
 さい体裁は問いません発表当日は50名程度に向けてプ
 レゼンしていただきますデザイナーの方:ポートフォリ
 オ等ございましたらお持ち下さいチームづくりの際、
 参考にさせていただく場合がございますエンジニアの
 方:特に無し        参加費        1\,000円      『Girls.Product
 』にご参加頂くメリット            ・技術や環境縛りが
 なく、自由に作りたいものがつくれます。              VC
 や企業スポンサードはなどは今回無しとなります。    
     「女性の視点で考えれた世の中を便利にするプロダ
 クト」をつくるに当り、技術や環境縛りはございませ
 ん。試したい技術で好きなものをつくって頂くことが
 できます。                ・開発後のプロダクトの運営や
 利用はチームで自由に決めて頂けます。              作
 ったプロダクトはdots.にて回収などは致しません。そ
 の後、プロダクトとして実際にリリースして頂いても
 、持ち帰って実際にサービスとして組み込むなど、用
 途はチームメンバーで話し合って決定ください。       
              ・審査員にメンターとしてもフォロー頂けま
 す。                  技術面・ビジネス面の視点を持った
 、4名の方から、全3回のアドバイスを頂くことができ
 ます。審査員は下記をご確認ください。                   
  ・作業場所はdots.コミュニティスペース無料でお貸し
 出し致します              イベント期間中（4月22日?7月お
 披露目イベントまで）は、dots.コミュニティスペース
 をMTGや作業スペースとして無料で利用頂くことが可能
 です。（会員カードを発行致します）                    
 ・第1回目、第3回目の優勝者には「THE LANCER」にインタ
 ビューを記事化頂けます。            Special Thanks           
              会場カメラマン        sck さん - Sachiko Tokuoka  @
 sck_m2r        築地の制作会社でカナダのMobifyというサー
 ビスの普及活動と、webのディレクションしたり記事を
 かいたりしています。最近興味があるワードは座禅と
 朝活と糖質制限。関西出身で東京は4年目。自分では標
 準語だと思っているのですが周りからは全然だねと言
 われます。                主催    dots.女子部     dots.女子
 部とは...            2015年8月6日に発足したばかりのdots.
 女子部。        エンジニア始めたばっかりの学生から
 起業家まで色んな人達が揃ってます。        技術や会
 社に縛られない、色んなスキルをもったエンジニア女
 子がつながって、ひろがって        エンジニアとして
 、女子としてキラキラ輝けるステキLIFEを送れるよう、
         　やりたいことを全部やろう！楽しいことを全
 部やろう！        という部活です。        立ち上がった
 ばかりの部活だからこそ、フラットに楽しめることも
 ポイントです。                        dots.女子部の今後の
 イベントは、下記のグループやページでお知らせしま
 す。ぜひご気軽にご参加ください (*^o^*)        dots.女子
 部Facebookページ:こちら        dots.女子部Facebookグループ:
 こちら        dots.女子部の活動            dots.女子部では
 他にも下記のようなイベントを行っています。        
 ぜひこちらもご覧ください(*ﾟ▽ﾟ*)                        
 dots.女子部アドベントカレンダー: dots girls Advent Calendar 
 2015        過去のイベント:         2016年2月 dots.女子部勉
 強会 vol.6 Railsハンズオン　～ Rails × ピラティス ～     
    2016年1月 第3回dots.女子部もくもく会 -swiftでiOSアプリ
 をつくろう-        2015年12月 dots.女子部 - オールジャン
 ル女子エンジニア集合！tips共有会！！        2015年12月 
 dots.女子部勉強会 vol.4 デザインハンズオン～まずは名
 刺デザインから（初心者向け）    
LOCATION:TECH PLAY SHIBUYA 東京都渋谷区宇田川町20-17 NMF渋谷公
 園通りビル 8F
URL:https://techplay.jp/event/581424?utm_medium=referral&utm_source=ics&utm
 _campaign=ics
END:VEVENT
END:VCALENDAR
