BEGIN:VCALENDAR
VERSION:2.0
PRODID:-//https://techplay.jp//JP
CALSCALE:GREGORIAN
METHOD:PUBLISH
X-WR-CALDESC:※ご応募は締め切りました※Girls.Product vol.1　
 〜アイディア発表会〜　女性のチカラで世の中を、も
 っと楽しく、もっと便利に　※アイディアをお持ちの
 方はこちらからご参加ください※
X-WR-CALNAME:※ご応募は締め切りました※Girls.Product vol.1　
 〜アイディア発表会〜　女性のチカラで世の中を、も
 っと楽しく、もっと便利に　※アイディアをお持ちの
 方はこちらからご参加ください※
X-WR-TIMEZONE:Asia/Tokyo
BEGIN:VTIMEZONE
TZID:Asia/Tokyo
BEGIN:STANDARD
DTSTART:19700101T000000
TZOFFSETFROM:+0900
TZOFFSETTO:+0900
TZNAME:JST
END:STANDARD
END:VTIMEZONE
BEGIN:VEVENT
UID:583595@techplay.jp
SUMMARY:※ご応募は締め切りました※Girls.Product vol.1　〜ア
 イディア発表会〜　女性のチカラで世の中を、もっと
 楽しく、もっと便利に　※アイディアをお持ちの方は
 こちらからご参加ください※
DTSTART;TZID=Asia/Tokyo:20160422T190000
DTEND;TZID=Asia/Tokyo:20160422T220000
DTSTAMP:20260420T105958Z
CREATED:20160314T062204Z
DESCRIPTION:イベント詳細はこちら\nhttps://techplay.jp/event/58359
 5?utm_medium=referral&utm_source=ics&utm_campaign=ics\n\n         ※ご
 応募は締め切りました※今後のお申し込みは無効とさ
 せていただきます。    Girls.Product vol.1        アイディア
 発表会        Presented by dots.女子部        女性のチカラで
 世の中を、もっと楽しく、もっと便利に         概要    
               dots.女子部がお送りする『Girls.Product』が始
 まります！                    今回は第一弾！アイディア
 発表兼チームづくりをする会です。                    ア
 イディア発表会では、アイディアをお持ちの方々に、
 考えぬいていただいたアイディアを集まっていただい
 たデザイナー、エンジニアに向けて発表していただき
 ます。          デザイナー、エンジニアは発表を聞いて
 いただき、気に入った、一緒に開発したいアイディア
 に投票していただきます。           投票でいただいた
 希望や経験を加味してチームづくりを行います。       
    チームができたら7月の最終発表までプロダクト開発
 を進めていただきます！                    イベント参加
 方法：          ■デザイナー、エンジニアとしてご参加
 される方は以下のページよりご応募下さい。 /event/58142
 4                  ■アイディアをお持ちの方は、このペー
 ジの「イベントに参加する」ボタンよりご応募下さい
 。※ご応募は締め切りました※                               
    『Girls.Product』とは                女性チカラで、テク
 ノロジーを使って世の中をもっと便利にしよう！とい
 うプロジェクトです。                参加者は全員女性！
         プロデューサー1名、デザイナー1名、エンジニア
 2名でプロダクト開発を進めて頂く予定です！(人数は
 前後あり)                日頃から感じている、「こんな
 の欲しい。」「ちょっと違うんだよなあ…」を自分た
 ちの手で解決しましょう！        女性から湧き上がっ
 てくる、今までカタチにされなかったアイディアを募
 集しています！                詳細は↓コチラ↓からもご
 覧いただけます        △▼△Girls.Product△▼△        私
 たちのこのプロジェクトにかける思いも以下でご覧い
 ただけます！        女子たちの「こんなの欲しい」を
 実現！ 女性だけでつくる『GIRLS.PRODUCT』(THE LANCER)        
 あなたと一緒に世の中を変えたいです！                『
 Girls.Product』の進め方                ご参加頂く皆様は4月
 末から7月末までの3ヶ月間でプロダクトを開発してい
 ただきます。        必須でご参加頂きたいのは下記3回
 の発表会です。                第1回： アイディア発表会 
 (4/22)        第2回： プロトタイプ開発 (5月末)        第3
 回： 最終発表会 (7月末)                あとはチーム毎、
 自由に最終発表会へ向けて開発して下さい。        開
 発期間中は審査員の方によるアドバイスや、dots.女子
 部によるサポートなど定期的に行わせていただきます
 。                『Girls.Product』審査員          Girls Productの
 全工程で審査をして下さる審査員の方々です。          
                       Toreta\, Inc. CTO/MobiRuby inventor              
 増井 雄一郎 氏              大学時代に起業しWebサイト制
 作などを行う傍ら、PukiWikiなどのオープンソース開発
 にも積極的に参加。中島聡氏と共にアプリ開発会社を
 起業するために2008年に渡米。iPhone向け写真共有アプリ
 PhotoShareをリリース。2010年に帰国し、アプリSDK『Titanium
  Mobile』の伝道師として活動。2012年9月に退職、FrogApps\,
  Inc(現 miil Inc)を設立しiOS/Android向けにミイルをリリー
 ス。現在は2013年に起業したToreta\, Inc. CTO。オープンソ
 ース活動としてMobiRuby、個人サービスとしてwri.peを作
 成中。趣味はお風呂でコーディング。                      
                                         株式会社 Zaim 代表取締役
               閑歳 孝子 氏 - @kansai_takako              1979年生
 まれ。慶應義塾大学環境情報学部卒業後、出版社で記
 者・編集に携わる。29歳からエンジニアとして働き始
 め、Web系ベンチャー在籍中の2011年にプライベートで開
 発したオンライン家計簿サービス「Zaim」のiPhoneアプリ
 版をリリース。2012年に法人化し、日本最大級のサービ
 スとなった。日経新聞による家計簿アプリランキング
 一位・グッドデザイン賞ベスト100など受賞。             
                                                  クックパッド株式
 会社 デザイナー              池田 拓司 氏 - 池田 拓司    
           1978年生まれ。福岡県北九州市出身。多摩美術
 大学美術学部2部デザイン学科を卒業。ニフティ株式会
 社、株式会社はてなを経て、2012年4月よりクックパッ
 ド株式会社。サービスのデザインやユーザー体験に対
 する責任を持つ。                                                 
              クラスメソッド株式会社 執行役員 モバイル
 サービス部長              大橋 力丈 氏 - 大橋 力丈        
       1978年生まれ。専門学校で3DCG科を卒業後、ソフト
 ウェアハウスでエンジニアとして働き、2009年にクラス
 メソッド株式会社に入社。クラスメソッドでは、モバ
 イルアプリサービス事業を行っており、様々な事業会
 社のモバイルアプリサービスを、「iOS」「Android」「AWS
 」といった技術を利用し、様々な支援する活動を行っ
 ている。                              ※4月22日のイベントは
 ご都合がつかず増井雄一郎氏は欠席となります。以降
 の審査や、アドバイスにはご参加されます。        世
 の中を便利にするアイディアを持つ女性とは             
      ふとしたときに        「こういうプロダクトがあっ
 たら、もっと便利になるのになあ」        こう思うと
 きはありませんか？                そのアイディアを、あ
 なたが世の中を便利にできると思ったアイディアを、
 ぜひこのGirlsproductで、一緒に実現させましょう！       
  こちらのページでご応募していただきたい方は、『世
 の中を便利にするアイディアをお持ちの女性』です！ 
        実現したいアイディアをお持ちの女性であれば、
 どなたでもご応募いただけます。                ・企画に
 挑戦したい！        ・アイデアを表に出したい！        
 という思いがある方を大大大募集しております！       
          ぜひこのGirlsproductから、世の中をより便利にす
 る・ワクワクするプロダクトを生み出しましょう!      
   エンジニアの方やデザイナーの方でも、アイディア
 をお持ちの方はこちらのページからご参加ください♩ 
        参加資格                        世の中を便利にするア
 イディアをお持ちの女性        女性たちのチカラで作
 り出すプロダクトに興味のある女性デザイナー        
 女性たちのチカラで作り出すプロダクトに興味のある
 女性エンジニア                世の中を便利にするプロダ
 クトを作りたい女性、全員参加をお待ちしております
 ！        ■デザイナー、エンジニアとしてご参加くだ
 さる方は以下のページよりご応募下さい。        　/even
 t/581424　        ■世の中を便利にするアイディアをお持
 ちのかたは、このページの「イベントに参加する」ボ
 タンよりご応募下さい。　※ご応募は締めきりました
 ※        ※デザイナー、エンジニアの方でも、世の中
 を便利にするアイディアがある方もぜひこちらのペー
 ジからご応募ください！！                タイムスケジュ
 ール                                                                   
          時間                        内容                            
                                     19:00                        受付
 開始                                                                   
                                              19:15-                      
                                           イベント説明             
                                                                          
                                   19:30-                                 
                アイディアお披露目(1人3分×20人)              
                                                                          
  20:30-20:40                                                 休憩      
                                                                          
          20:40-20:50                        投票・審査              
                                                                          
                          20:50-21:30                                     
    懇親会                                                             
                    21:30-22:00                        審査員賞発表
 ＋チーム発表                                                       
      ※プログラムの内容は予告なく変更となる場合が
 ございますのでご了承ください。            アイディア
 の取り扱いについて                ・事前に同意書へのサ
 インをお願いしています。        ・「他人に使われて
 は困る！！！」というアイディアは心の中にしまって
 おいてください。            持ち物        プロデューサ
 ーの方:アイディア3分で発表するための資料をお持ち
 下さい体裁は問いません発表当日は50名程度に向けて
 プレゼンしていただきますデザイナーの方:ポートフォ
 リオ等ございましたらお持ち下さいチームづくりの際
 、参考にさせていただく場合がございますエンジニア
 の方:特に無し    アイディアの取り扱いについて        
                   ・事前に同意書へのサインをお願いして
 います。            　　  ・「他人に使われては困る！
 ！！」というアイディアは心の中にしまっておいてく
 ださい。                    参加費        1\,000円      『Girls.
 Product』にご参加頂くメリット            ・技術や環境縛
 りがなく、自由に作りたいものがつくれます。          
     VCや企業スポンサードはなどは今回無しとなります
 。        「女性の視点で考えれた世の中を便利にする
 プロダクト」をつくるに当り、技術や環境縛りはござ
 いません。試したい技術で好きなものをつくって頂く
 ことができます。                ・開発後のプロダクトの
 運営や利用はチームで自由に決めて頂けます。          
     作ったプロダクトはdots.にて回収などは致しません
 。その後、プロダクトとして実際にリリースして頂い
 ても、持ち帰って実際にサービスとして組み込むなど
 、用途はチームメンバーで話し合って決定ください。 
                    ・審査員にメンターとしてもフォロー頂
 けます。                  技術面・ビジネス面の視点を持
 った、4名の方から、全3回のアドバイスを頂くことが
 できます。審査員は下記をご確認ください。             
        ・作業場所はdots.コミュニティスペース無料でお
 貸し出し致します              イベント期間中（4月22日
 〜7月お披露目イベントまで）は、dots.コミュニティス
 ペースをMTGや作業スペースとして無料で利用頂くこと
 が可能です。（会員カードを発行致します）             
        ・第1回目、第3回目の優勝者には「THE LANCER」にイ
 ンタビューを記事化頂けます。          主催    dots.女子
 部     dots.女子部とは...            2015年8月6日に発足した
 ばかりのdots.女子部。        エンジニア始めたばっかり
 の学生から起業家まで色んな人達が揃ってます。       
  技術や会社に縛られない、色んなスキルをもったエン
 ジニア女子がつながって、ひろがって        エンジニ
 アとして、女子としてキラキラ輝けるステキLIFEを送れ
 るよう、        　やりたいことを全部やろう！楽しい
 ことを全部やろう！        という部活です。        立ち
 上がったばかりの部活だからこそ、フラットに楽しめ
 ることもポイントです。                        dots.女子部
 の今後のイベントは、下記のグループやページでお知
 らせします。ぜひご気軽にご参加ください (*^o^*)        
 dots.女子部Facebookページ:こちら        dots.女子部Facebook
 グループ:こちら        dots.女子部の活動            dots.女
 子部では他にも下記のようなイベントを行っています
 。        ぜひこちらもご覧ください(*ﾟ▽ﾟ*)             
            dots.女子部アドベントカレンダー: dots girls Adven
 t Calendar 2015        過去のイベント:         2016年2月 dots.
 女子部勉強会 vol.6 Railsハンズオン　～ Rails × ピラティ
 ス ～        2016年1月 第3回dots.女子部もくもく会 -swiftで
 iOSアプリをつくろう-        2015年12月 dots.女子部 - オー
 ルジャンル女子エンジニア集合！tips共有会！！        2
 015年12月 dots.女子部勉強会 vol.4 デザインハンズオン～
 まずは名刺デザインから（初心者向け）    
LOCATION:TECH PLAY SHIBUYA 東京都渋谷区宇田川町20-17 NMF渋谷公
 園通りビル 8F
URL:https://techplay.jp/event/583595?utm_medium=referral&utm_source=ics&utm
 _campaign=ics
END:VEVENT
END:VCALENDAR
