BEGIN:VCALENDAR
VERSION:2.0
PRODID:-//https://techplay.jp//JP
CALSCALE:GREGORIAN
METHOD:PUBLISH
X-WR-CALDESC:【満員御礼！増枠】 dots.女子部 - オールジャ
 ンル女子エンジニア集合！tips共有会vol. 2　〜私、この
 技術に恋してます♡〜
X-WR-CALNAME:【満員御礼！増枠】 dots.女子部 - オールジャ
 ンル女子エンジニア集合！tips共有会vol. 2　〜私、この
 技術に恋してます♡〜
X-WR-TIMEZONE:Asia/Tokyo
BEGIN:VTIMEZONE
TZID:Asia/Tokyo
BEGIN:STANDARD
DTSTART:19700101T000000
TZOFFSETFROM:+0900
TZOFFSETTO:+0900
TZNAME:JST
END:STANDARD
END:VTIMEZONE
BEGIN:VEVENT
UID:586949@techplay.jp
SUMMARY:【満員御礼！増枠】 dots.女子部 - オールジャンル
 女子エンジニア集合！tips共有会vol. 2　〜私、この技術
 に恋してます♡〜
DTSTART;TZID=Asia/Tokyo:20160520T193000
DTEND;TZID=Asia/Tokyo:20160520T220000
DTSTAMP:20260421T092259Z
CREATED:20160422T045909Z
DESCRIPTION:イベント詳細はこちら\nhttps://techplay.jp/event/58694
 9?utm_medium=referral&utm_source=ics&utm_campaign=ics\n\ndots.女子部  
      オールジャンル女子エンジニア集合！        tips共
 有会 vol.2〜私、この技術に恋してます♡〜         概要 
      普段なんとなく知ってる、なんとなく使っている
 技術ありませんか？  今回dots.女子部がお送りするイベ
 ントは、『tips共有会 vol.2！！』です。   - 仕事以外の
 言語もかじりたい   - 技術tipsをもっともっと知りたい 
  - 技術が好きでたまらない気持ちを共有したい  フロ
 ントエンド、バックエンド、サーバーサイド、インフ
 ラ etc...  技術や言語の種類を問わず、みなさんでtipsを
 共有しませんか？      ★LT募集中です★  「みんなに教
 えたいこんなtipsあるよ♪」という方是非LT枠でご参加
 ください！また、dots.女子部勉強会のLTは気軽でいいね
 ！と評判なので未経験の方も大歓迎です☆※LT枠でご
 応募の方は、申込時に必ずEメールアドレスをご記載く
 ださい。         ♪dots.女子部の様子♪　　      　     タ
 イムスケジュール                      時間          講演内
 容                      19:00          受付開始                     
  19:30          開始                      -19:40          会場のご
 案内など                      19:40 - 21:00          tips Time♪    
                   21:00 - 22:00          懇親会      登壇者    『
 実装だって楽したい！〜リアルタイム通信はじめの一
 歩〜』ちゃんとくさん - @tokutoku393サーバの準備して？
 データ成形して？DBも必要？無理無理！ぺらぺらのHTML
 でリアルタイム通信しよ！という話です。『Scala女子
 はカッコいい』しょこさん - @sd_ts1017｜松村 翔子みな
 さんScalaのイメージってどうですか？よく知らない方
 も「なんかデキる人が使ってそうなやつ」くらいのイ
 メージはあるのではないでしょうか。今日の発表聞い
 て「あ、私Scalaちょっと分かります」って言えるよう
 になってみませんか？『Python&機械学習にHelloWorld!して
 旦那候補を探すツールを開発する』きりぽんさん - @lit
 tle_85｜kiriko yano旦那候補を探すために機械学習の勉強
 をしている話をします『React.jsでもいい感じにCSS書き
 たいじゃん？（仮）』きりえさん - @cradle_of_nox｜佐藤 
 有花まだまだベストプラクティスの見つからない React.
 js で試行錯誤している話をします。主に、React.js を始
 めて1時間くらいで皆が感じる(はずの)素朴な思い、「R
 eact.js ってインラインスタイルしか書けないの！？し
 かもなんかすごいキモい！？！！」に自分なりの回答
 を出す予定です。React.js でもいい感じに CSS 書きまし
 ょう！『Docker + MQTTでIoTインフラをさくっと作れる気が
 した』ゆーなさん - @__yuunyan__｜yuna kuritaphpなどの本番
 運用でDockerがつかわれるようになりましたが、IoTのイ
 ンフラ用に自在にカスタマイズするような気がしてい
 る時期もありました。mosquittoやbigquery、fluentdなどとい
 ったインフラをDockerでの構築をfluentd-plugin-mqttのauthorが
 直接LTします。『Rails Mountable Engineでできること』さや
 さん -  saya tsutsumiRailsを使ったことがあっても、Mountable
  Engineは使う機会が無い方もいるかと思います。Mountable
  Engineの実用例や導入方法をサクッとお話しします！※
 プログラムの内容は予告なく変更となる場合がござい
 ますのでご了承ください。       ハッシュタグ      #dotsg
 irls    参加対象     ・女性エンジニアの方（技術ジャン
 ル問いません！）  ・技術LTしてみたいけど、なかなか
 機会がない方  ・女子エンジニアの仲間が欲しい方  ・
 いろんな技術（フロント・サーバー・インフラ・デザ
 イン）の知識を吸収したい方！  ※限定イベントのた
 め、男性のご参加はご遠慮頂いています。     主催     
   dots.運営事務局  dots.女子部      dots.女子部とは...      
  2015年8月6日に発足したdots.女子部。   エンジニア始め
 たばっかりの学生から起業家まで色んな人達が揃って
 ます。   技術や会社に縛られない、色んなスキルをも
 ったエンジニア女子がつながって、ひろがって   エン
 ジニアとして、女子としてキラキラ輝けるステキLIFEを
 送れるよう、   やりたいことを全部やろう！楽しいこ
 とを全部やろう！   という部活です。   「目指せ！フ
 ルスタックエンジニア」をモットーに色んなイベント
 を開催しています。   立ち上がったばかりの部活だか
 らこそ、フラットに楽しめることもポイントです。  do
 ts.女子部の今後のイベントは、下記のグループやペー
 ジでお知らせします。ぜひご気軽にご参加ください (*^
 o^*)dots.女子部Facebookページ:こちらdots.女子部Facebookグル
 ープ:こちら    dots.女子部の活動       dots.女子部では他
 にも下記のようなイベントを行っています。   ぜひこ
 ちらもご参加ください(*ﾟ▽ﾟ*)参加受付中のイベント
 :2016年5月16日  第7回dots.女子部もくもく会過去のイベン
 ト:2016年4月〜 Girls.Product 〜女性の力で世の中を、もっ
 と楽しく、もっと便利に〜2016年3月   bot開発もくもく
 会2016年3月   わたし、一生エンジニア宣言！～ 女性エ
 ンジニアとして長く働く秘訣 ～2016年1月   dots.女子部
 勉強会 vol.6 Railsハンズオン　～ Rails × ピラティス ～20
 15年12月 dots.女子部勉強会 vol.5 オールジャンル女子エ
 ンジニア集合！tips共有会！！2015年12月 dots.女子部勉強
 会 vol.4 デザインハンズオン～まずは名刺デザインから
 （初心者向け）dots.女子部アドベントカレンダー: dots g
 irls Advent Calendar 2015
LOCATION:TECH PLAY SHIBUYA 東京都渋谷区宇田川町20-17 NMF渋谷公
 園通りビル 8F
URL:https://techplay.jp/event/586949?utm_medium=referral&utm_source=ics&utm
 _campaign=ics
END:VEVENT
END:VCALENDAR
