BEGIN:VCALENDAR
VERSION:2.0
PRODID:-//https://techplay.jp//JP
CALSCALE:GREGORIAN
METHOD:PUBLISH
X-WR-CALDESC:第五回ゲームサーバ勉強会
X-WR-CALNAME:第五回ゲームサーバ勉強会
X-WR-TIMEZONE:Asia/Tokyo
BEGIN:VTIMEZONE
TZID:Asia/Tokyo
BEGIN:STANDARD
DTSTART:19700101T000000
TZOFFSETFROM:+0900
TZOFFSETTO:+0900
TZNAME:JST
END:STANDARD
END:VTIMEZONE
BEGIN:VEVENT
UID:590582@techplay.jp
SUMMARY:第五回ゲームサーバ勉強会
DTSTART;TZID=Asia/Tokyo:20160618T130000
DTEND;TZID=Asia/Tokyo:20160618T182000
DTSTAMP:20260423T181730Z
CREATED:20160602T134759Z
DESCRIPTION:イベント詳細はこちら\nhttps://techplay.jp/event/59058
 2?utm_medium=referral&utm_source=ics&utm_campaign=ics\n\n第五回ゲー
 ムサーバ勉強会\n\n日付：2016年6月18日（土）\n\n時間：1
 3：30～16：10（受付：13：00～13：30）\n\n懇親会：16：20
 ～18：20（会場内で行います）\n\n\n\n間が空いてしまい
 ましたが・・・今年も続けて行いたいと思います！\n
 初級者～中級者向けで考えております。\nサーバーの
 事を全く分からないクライアント側の人も大歓迎です
 ！\n今回はリアルタイムサーバのお話を中心に行いま
 す\n※時間が過ぎていても入場可能です。是非お越し
 下さい。\n\n持ち物\n\n筆記用具\n深夜の電話連絡に耐え
 られる心\n\nセッション情報\n\n\n\n\n  タイムライン\n  
 タイトル\n  講演者\n  内容\n\n\n\n\n  13:30～14:30\n  Embulkや
 Digdagのお話\n  Tresuredataさま\n  ワークフローのDigdagやEmb
 ulkについてお話をして頂く予定です\n\n\n  14:40～15:30\n  
 リアルタイム通信サーバーをプロトコルから作ってみ
 た話\n  清水さま\n  Erlangで書いてるリアルタイムサー
 バの内容をお伝えします\n\n\n  15:40～16:10\n  リアルタイ
 ム通信ゲームの実装例\n  株式会社 Aiming山藤さま\n  大
 阪で行われたGameServerDevelopersの内容を東京でもお話し
 て頂きます\n\n\n\n\n懇親会\n\n本会終了後の16:20～18:20に
 同会場でビアバッシュを予定しています。\n追加料金
 は必要ございませんので、是非ご参加下さい！\n
LOCATION:TECH PLAY SHIBUYA 東京都渋谷区宇田川町20-17 NMF渋谷公
 園通りビル 8F
URL:https://techplay.jp/event/590582?utm_medium=referral&utm_source=ics&utm
 _campaign=ics
END:VEVENT
END:VCALENDAR
