BEGIN:VCALENDAR
VERSION:2.0
PRODID:-//https://techplay.jp//JP
CALSCALE:GREGORIAN
METHOD:PUBLISH
X-WR-CALDESC:法林浩之のFIGHTING TALKS 〜生誕50周年記念試合〜
X-WR-CALNAME:法林浩之のFIGHTING TALKS 〜生誕50周年記念試合〜
X-WR-TIMEZONE:Asia/Tokyo
BEGIN:VTIMEZONE
TZID:Asia/Tokyo
BEGIN:STANDARD
DTSTART:19700101T000000
TZOFFSETFROM:+0900
TZOFFSETTO:+0900
TZNAME:JST
END:STANDARD
END:VTIMEZONE
BEGIN:VEVENT
UID:592533@techplay.jp
SUMMARY:法林浩之のFIGHTING TALKS 〜生誕50周年記念試合〜
DTSTART;TZID=Asia/Tokyo:20160715T190000
DTEND;TZID=Asia/Tokyo:20160715T220000
DTSTAMP:20260419T215005Z
CREATED:20160622T171808Z
DESCRIPTION:イベント詳細はこちら\nhttps://techplay.jp/event/59253
 3?utm_medium=referral&utm_source=ics&utm_campaign=ics\n\n私も今年の7
 月で50歳になります。節目の年齢ということで記念に
 何かやりたいと思い、トークイベントを企画しました
 。よかったらお酒やおつまみを片手に楽しんでもらえ
 たらうれしいです。ご来場をお待ちしています。\n\n法
 林浩之\n\n\n\nプログラム\n\n\n対戦その1：砂原秀樹 × 法
 林浩之\n\n自分の歴史を振り返る中でjus(日本UNIXユーザ
 会)は外せません。そこで、私と同じjus幹事であり、IT
 業界の大先輩でもある砂原秀樹先生(慶應義塾大学メデ
 ィアデザイン研究科)(@sunakichiwide)に対戦をお願いしま
 した。JUNETやWIDEプロジェクトなどに始まるこれまでの
 研究だけでなく、最近の研究や関心事もお聞きしたい
 と思います。\n対戦その2： 前佛雅人 × 法林浩之\n\nも
 う1人の対戦相手は、現在お世話になっているさくらイ
 ンターネット関係の人にしようと思い、7月から同社で
 働き始めた前佛雅人さん(@zembutsu)にお願いしました。
 前佛さんには、Dockerなど技術的な話題や、主宰されて
 いるプレゼン研究会のこと、さらには農業の話など、
 いろいろお聞きしたいと思っています。\n\n\n時間割\n\n
 (目安なので適当に前後します)\n\n\n\n\n  時刻\n  プログ
 ラム\n\n\n\n\n  19:00\n  開始〜dots.よりご案内〜乾杯\n\n\n  
 19:15\n  対戦その1：砂原秀樹 × 法林浩之\n\n\n  20:15\n  休
 憩/歓談\n\n\n  20:30\n  対戦その2：前佛雅人 × 法林浩之\n
 \n\n  21:30\n  歓談\n\n\n  22:00\n  終了\n\n\n\n\nその他\n\n\nビ
 アバッシュ程度の軽食と飲物を用意します。(参加費は
 そのために使います)\n準備が間に合えばベルギービー
 ルの大瓶を1本入れたいと思います。→ 注文しました\n
 \n
LOCATION:TECH PLAY SHIBUYA 東京都渋谷区宇田川町20-17 NMF渋谷公
 園通りビル 8F
URL:https://techplay.jp/event/592533?utm_medium=referral&utm_source=ics&utm
 _campaign=ics
END:VEVENT
END:VCALENDAR
