BEGIN:VCALENDAR
VERSION:2.0
PRODID:-//https://techplay.jp//JP
CALSCALE:GREGORIAN
METHOD:PUBLISH
X-WR-CALDESC:データサイエンティストのための Spark 実践セ
 ミナー
X-WR-CALNAME:データサイエンティストのための Spark 実践セ
 ミナー
X-WR-TIMEZONE:Asia/Tokyo
BEGIN:VTIMEZONE
TZID:Asia/Tokyo
BEGIN:STANDARD
DTSTART:19700101T000000
TZOFFSETFROM:+0900
TZOFFSETTO:+0900
TZNAME:JST
END:STANDARD
END:VTIMEZONE
BEGIN:VEVENT
UID:593031@techplay.jp
SUMMARY:データサイエンティストのための Spark 実践セミナ
 ー
DTSTART;TZID=Asia/Tokyo:20160707T183000
DTEND;TZID=Asia/Tokyo:20160707T203000
DTSTAMP:20260421T080057Z
CREATED:20160629T045159Z
DESCRIPTION:イベント詳細はこちら\nhttps://techplay.jp/event/59303
 1?utm_medium=referral&utm_source=ics&utm_campaign=ics\n\nデータサイ
 エンティストのための Spark 実践セミナー\n\n　　　　
 　　Big Data University Tokyo Meetup #5\n\nデータサイエンティ
 ストの間で人気が高まっている Spark。データをインメ
 モリで高速に処理できるSparkを使うと、大規模なデー
 タを扱う際にもストレスなく分析できます。  今回の
 第５回 Big Data University - Tokyo Meetupでは、技術評論社刊
 「詳解Apache Spark」の共著者自らがクラウド上でSparkを
 使う方法を解説します。また、合わせて、6/16 のDatapalo
 oza Tokyo で発表されたコンテスト「人工知能は名刺をど
 こまで解読できるのか」の概要や応募方法について紹
 介します。　　\n\nアジェンダ\n\n1. 18:30-18:45　分析コン
 ペ「人工知能は名刺をどこまで解読できるのか」開催
 概要\n\nクラウド名刺管理サービスを展開するSansan社主
 催の、名刺レイアウトの解析を行う分析コンペについ
 て説明をします。\n\nSpeaker: Sansan 株式会社　取締役 CISO
 /CSIRT 主管　常樂　諭\n\n2. 18:45-19:00　Data Scientist Workbench
 を使った画像処理の基本\n\n名刺レイアウトの解析を行
 う分析コンペに必要な画像処理について、Data scientist W
 orkbenchでどのようにできるのか？の説明をします。\n\nS
 peaker: オプト・ホールディング株式会社 中林　紀彦\n\n
 3. 19:00-19:30　Data Scientist Workbenchの活用方法の基礎~ハン
 ズオン編~\n\nDSWBの基本機能からSpark連携までを体験頂
 けます。\n\nSpeaker: 日本アイ・ビー・エム株式会社　貝
 嶋　創\n\n4. 19:30-20:15　「詳解Apache Spark (技術評論社)」
 の共著者が語るApache Sparkの勘所\n\nSpark エキスパートが
 Spark の使いどころ、分析への適応を余すところなくお
 伝えします。\n\nSpeaker: 日本アイ・ビー・エム株式会社
    田中　裕一\n\n5. 20:15-20:45　ネットワーキング・タイ
 ム（講師とのQA & 懇談）\n
LOCATION:TECH PLAY SHIBUYA 東京都渋谷区宇田川町20-17 NMF渋谷公
 園通りビル 8F
URL:https://techplay.jp/event/593031?utm_medium=referral&utm_source=ics&utm
 _campaign=ics
END:VEVENT
END:VCALENDAR
