BEGIN:VCALENDAR
VERSION:2.0
PRODID:-//https://techplay.jp//JP
CALSCALE:GREGORIAN
METHOD:PUBLISH
X-WR-CALDESC:PayPal Tech Meetup #3
X-WR-CALNAME:PayPal Tech Meetup #3
X-WR-TIMEZONE:Asia/Tokyo
BEGIN:VTIMEZONE
TZID:Asia/Tokyo
BEGIN:STANDARD
DTSTART:19700101T000000
TZOFFSETFROM:+0900
TZOFFSETTO:+0900
TZNAME:JST
END:STANDARD
END:VTIMEZONE
BEGIN:VEVENT
UID:596328@techplay.jp
SUMMARY:PayPal Tech Meetup #3
DTSTART;TZID=Asia/Tokyo:20160914T183000
DTEND;TZID=Asia/Tokyo:20160914T223000
DTSTAMP:20260420T222347Z
CREATED:20160802T082943Z
DESCRIPTION:イベント詳細はこちら\nhttps://techplay.jp/event/59632
 8?utm_medium=referral&utm_source=ics&utm_campaign=ics\n\nPayPal Tech Meet
 up #3- Travel Hack -PayPal Tech Meetupは、Fintech InnovatorであるPay
 Palが主催する、イノベーションとコラボレーションを
 コンセプトに技術テーマについて語り合ったりデモを
 披露したりする技術系勉強会、交流会です。単一方向
 ではない参加者の双方的な交流を目指し、デベロッパ
 ーの方のインスピレーションを刺激できるような会に
 なればと思います。最後は美味しい食事と飲み物でLet'
 s have a party!豪華審査員と景品で大好評だった前回に続
 き今回もデモ大会を開催いたします！（前回のスペシ
 ャルレポート: /report/20160615_588605）今回は、PayPalと日本
 旅館協会の提携を記念して、これからのシーズンにピ
 ッタリな「旅」をテーマに「Travel Hack」と題し、PayPal
 またはBraintree APIを使ったアプリ（Web、モバイル、デバ
 イスなど種類は問いません）を作ってLT形式で発表し
 ていただき、投票により各種賞を決めたいと思います
 ！受賞者には豪華景品、発表者には参加賞を贈呈いた
 します！参加方法：デモを希望される方は「デモ発表
 枠」で参加してください。抽選により決まります。発
 表しない方は「一般参加枠」で申し込んでください。
 こちらは先着順です。参加要項：デモ発表者はイベン
 ト当日までに仕上げたPayPalかBraintreeのAPIを使ったアプ
 リを使って５分間のプレゼンをしていただきます。発
 表は個人とし、本人の作成物を使ったデモとします。
 発表に自己紹介や所属組織の宣伝をしていただくこと
 は可能ですが、時間配分はデモメインでお願いいたし
 ます。使ったAPIとその実装内容についてもご説明をお
 願いします。ハッカソンではありませんが、発表物は
 当イベント応募開始からイベント当日までに作成した
 ものとしてください。（ご自身の過去の作成物の一部
 流用、改良版などは認めますが、別のイベントや他者
 と共同で作ったものをそのまま流用することはやめて
 ください）審査は当日の参加者全てによるGoogleフォー
 ムによる投票と特別審査員による特別票との合算で行
 います。審査（投票）基準：ハッカソンではありませ
 んので、当日デモを見た率直な感想を優先していただ
 きたいですが、あくまでデモをメインの基準としてく
 ださい。LTにおける話術やネタ的な面白さよりもAPIの
 使い方や決済方法、アプリのアイディアそのものとい
 ったデモのクオリティを重視することとします。一般
 参加者は各自１票を一人に投票し、審査員は５票分の
 特別票を一人に投票かつ審査員賞を一人選んでいただ
 きます。特別審査員：　柴田　啓さん （ベンチャーリ
 パブリック/Travel.jp　CEO） @keishibata\n\n\n\n\n\n\n\n　増井
 　雄一郎さん（トレタ　CTO）@masuidrive　鶴本　浩司さ
 ん（トラベルボイス　CEO）@tsurumoto　松本　裕一さん（
 トラベルビジョン　代表取締役発行人 兼 編集長）yuich
 i.matsumoto.5\n\n\n\n\n\n\n\n\n\n\n\n\n\n\n\n\n\n\n\n\n\n\n\n\n\n\n\n\n\n
 \n\n景品：金賞（１名）PayPal旅行クーポン３万円銀賞（
 １名）PayPal旅行クーポン２万円銅賞（１名）PayPal旅行
 クーポン１万円健闘賞（１名）PayPalグッズ３点セット
 審査員賞（１名）PayPalグッズ３点セット（審査員から
 選定）参加賞（その他５名）PayPalグッズ１点PayPalが使
 える主な国内予約サイト　　　注意事項：APIを利用す
 る際は本番アカウントである必要はありません。テス
 ト環境であるSandboxを使うことをお勧めします。Braintree
 は日本では現在Sandboxのみ利用可能です。発表物に対す
 る個人間のトラブルや審査結果に対する責任は負いか
 ねますのでご了承ください。タイムテーブル18:30 開場
 （受付で名刺を頂戴いたします）18:50 イベント説明※
 審査員のご紹介もさせていただきます。19:00 デモ発表
 開始 5分 x 7組（タイムキーパーあり。5分強制終了です
 ！）1. 高橋祐樹 さん『TableMate（テーブルをシェアしよ
 う）』2.@ampersand_xyz あんど さん 『未定』3.Masaru Furuya 
 さん 『面白い旅人を応援するサービス Tabireon』\n\n\n\n\
 n\n\n\n4.@okoysm しょこ さん 『未定』\n\n\n\n\n\n\n\n\n\n\n\n\n\
 n\n\n\n\n\n\n\n\n\n\n5. tnir Takuya Noguchi さん 『貪欲な旅おす
 すめします（仮）』6. いがわ さん 『未定』7. @algas 山
 内雅浩 さん 『訪日外国人向け新幹線チケットのオン
 ライン代理購入サービス exticket.jp』※交代をスムーズ
 に行えるように事前準備をお願いいたします。20:45 投
 票タイムTwitterとスライドに投票フォームのURLを流すの
 で、皆さん一斉に投票してください。20:50 Drink Up! 20:55 
 結果発表＆景品授与しばらくご歓談中に運営の方で投
 票を集計して、完了したらそのまま発表と景品授与で
 す！※審査員の方からも一言もらいます！21:00 まとめ
 、次回予告22:30 撤収参加費無料ハッシュタグ#paypaltech
 その他当日は投票フォームにアンケート項目も記載予
 定です。PayPal Developer Sitehttps://developer.paypal.com/Braintreeht
 tps://www.braintreepayments.com/PayPal開発者向け日本語ページht
 tps://www.paypal.jp/merchant/developer/PayPal Qiitahttp://qiita.com/tags/
 PayPalPayPal 日本語スタックオーバーフローhttp://ja.stackove
 rflow.com/questions/tagged/paypal前回の様子/eventreport/588605
LOCATION:TECH PLAY SHIBUYA 東京都渋谷区宇田川町20-17 NMF渋谷公
 園通りビル 8F
URL:https://techplay.jp/event/596328?utm_medium=referral&utm_source=ics&utm
 _campaign=ics
END:VEVENT
END:VCALENDAR
