BEGIN:VCALENDAR
VERSION:2.0
PRODID:-//https://techplay.jp//JP
CALSCALE:GREGORIAN
METHOD:PUBLISH
X-WR-CALDESC:【満員御礼につき40席増枠→更に40席増枠！】
 【クラウドワークス×クラスメソッド×ネクスト】『新
 サービス・技術に興味があるエンジニア向け勉強会 』
 今サービスづくりをするのに選びたい技術はこれだ。
X-WR-CALNAME:【満員御礼につき40席増枠→更に40席増枠！】
 【クラウドワークス×クラスメソッド×ネクスト】『新
 サービス・技術に興味があるエンジニア向け勉強会 』
 今サービスづくりをするのに選びたい技術はこれだ。
X-WR-TIMEZONE:Asia/Tokyo
BEGIN:VTIMEZONE
TZID:Asia/Tokyo
BEGIN:STANDARD
DTSTART:19700101T000000
TZOFFSETFROM:+0900
TZOFFSETTO:+0900
TZNAME:JST
END:STANDARD
END:VTIMEZONE
BEGIN:VEVENT
UID:599919@techplay.jp
SUMMARY:【満員御礼につき40席増枠→更に40席増枠！】【ク
 ラウドワークス×クラスメソッド×ネクスト】『新サー
 ビス・技術に興味があるエンジニア向け勉強会 』今サ
 ービスづくりをするのに選びたい技術はこれだ。
DTSTART;TZID=Asia/Tokyo:20160929T192000
DTEND;TZID=Asia/Tokyo:20160929T223000
DTSTAMP:20260420T192158Z
CREATED:20160912T025155Z
DESCRIPTION:イベント詳細はこちら\nhttps://techplay.jp/event/59991
 9?utm_medium=referral&utm_source=ics&utm_campaign=ics\n\n【満員御礼
 につき40席増枠 → 更に40席増枠！】【クラウドワーク
 ス×クラスメソッド×ネクスト】『新サービス・技術に
 興味があるエンジニア向け勉強会 』 今サービスづく
 りをするのに選びたい技術はこれだ！\n概要\n 新技術
 ・新言語を使ってサービスを作った話！今からサービ
 スづくりをするのに選びたい技術、をテーマに3社に語
 って頂きます。\n\n    \n        チーム人数、メンバー構
 成、利用技術、利用ツール\n        なぜ新技術や新言語
 を導入しようと思ったのか\n        技術の選定はどのよ
 うに行ったのか\n        導入にあたりどのようなプロセ
 スがあったのか\n        学習コストはどうしたのか\n    
     実際に導入した際の成功事例、失敗事例\n    \n\n登
 壇者\n\n    \n        \n        \n            株式会社クラウド
 ワークス\n            飯田 意己 氏                     Yoshiki I
 ida                      yo-iida                                \n       
      開発Div. ニュービジエンタープライズチーム チー
 ムリーダー 2015年5月にクラウドワークスに入社。「ク
 ラウドテック」や「クラウドワークスリサーチ」など
 の新規サービス立ち上げ開発に携わり、現在はエンタ
 ープライズ事業部向けの新規プロダクト開発チームの
 リーダーを務める。効率的にプロダクト開発を進める
 ための適切な技術とツールの選択からチームマネジメ
 ントまで担当している。 \n            \n    \n    \n        \n 
        \n            クラスメソッド株式会社\n            和
 田 祐介 氏  和田祐介 ｜ Developers.IO                 \n        
     2016年3月クラスメソッド株式会社に入社。入社後はS
 calaを使ったモバイルバックエンドのAPI設計・実装を担
 当。AWSのマネージメントサービスであるDynamoDBやSQSを
 使いつつ、複数の外部サービスを呼び出すようなシス
 テムの構築を経験。負荷・障害に強い設計に関心があ
 り、デバイスの移り変わりに柔軟に対応できるシステ
 ムを構築できるようなバックエンドアーキテクトを目
 指す。\n        \n    \n    \n        \n        \n            株式
 会社ネクスト\n            池田 和洋 氏\n            HOME'S事
 業本部サービス推進部デバイスソリューションユニッ
 トiOS開発グループ2008年新卒入社。『HOME’S』のWebサイ
 ト、API、アプリなどの開発を経験後、R&D部門であるリ
 ッテルラボラトリーにて、視覚障がい者向け物件検索
 アプリ「HOME’S アクセシビリティ対応版」や部屋作り
 シミュレーションシステム「GRID VRICK」を開発。2016年
 より現部署に異動。iOSアプリ開発に従事している。\n  
       \n    \n\nタイムスケジュール\n\n    \n        \n          
   \n                時間\n                内容\n            \n       
      \n                19:00\n                受付開始\n            \
 n            \n                19:20〜21:00\n            \n            \
 n                 tips共有\n                    \n                    
 「複数のマイクロサービスと連携した Web APIの設計と
 構築 in Playframework Scala」\n                    クラスメソッ
 ド株式会社 和田 祐介 氏\n                    \n                
     「HOME'Sアプリ Swift化」\n                    株式会社ネ
 クスト 池田 和洋 氏\n                    Swift移行の背景、
 移行に際しての苦労や工夫、チーム内でのナレッジ共
 有の方法についてお伝えします。\n                    \n    
                 「React+Webpackを利用したRailsアプリケーショ
 ンをHerokuで本番運用するノウハウ」\n                    株
 式会社クラウドワークス 飯田 意己 氏\n                    
  ※ その他随時更新 \n            \n            \n                
 21:00〜22:00\n                \n                    座談会\n         
        \n            \n        \n    \n    ※ 適宜休憩を取りま
 す。当日予告なく時間配分内容が変更になる可能性が
 ございます。\n\n参加対象\n当イベントにご興味がある
 方\n参加費\n無料\n主催\ndots.\n登壇企業\n\n    \n    \n    \n
 \n\n
LOCATION:TECH PLAY SHIBUYA 東京都渋谷区宇田川町20-17 NMF渋谷公
 園通りビル 8F
URL:https://techplay.jp/event/599919?utm_medium=referral&utm_source=ics&utm
 _campaign=ics
END:VEVENT
END:VCALENDAR
