BEGIN:VCALENDAR
VERSION:2.0
PRODID:-//https://techplay.jp//JP
CALSCALE:GREGORIAN
METHOD:PUBLISH
X-WR-CALDESC:Service Design Night vol.3 〜 新規事業立ち上げ時の
 チームビルディングとプロセス 〜
X-WR-CALNAME:Service Design Night vol.3 〜 新規事業立ち上げ時の
 チームビルディングとプロセス 〜
X-WR-TIMEZONE:Asia/Tokyo
BEGIN:VTIMEZONE
TZID:Asia/Tokyo
BEGIN:STANDARD
DTSTART:19700101T000000
TZOFFSETFROM:+0900
TZOFFSETTO:+0900
TZNAME:JST
END:STANDARD
END:VTIMEZONE
BEGIN:VEVENT
UID:601062@techplay.jp
SUMMARY:Service Design Night vol.3 〜 新規事業立ち上げ時のチー
 ムビルディングとプロセス 〜
DTSTART;TZID=Asia/Tokyo:20161013T184500
DTEND;TZID=Asia/Tokyo:20161013T223000
DTSTAMP:20260419T161127Z
CREATED:20160926T041127Z
DESCRIPTION:イベント詳細はこちら\nhttps://techplay.jp/event/60106
 2?utm_medium=referral&utm_source=ics&utm_campaign=ics\n\nService Design N
 ight とは\n事業開発やプロダクトの構築プロセスにおい
 て、\n\nビジネス要件に偏ったユーザーファーストでな
 いプロダクト開発になってしまう\nビジネス、エンジ
 ニア、デザイナーでコミュニケーションが分断され、
 デザイン思考を活用したプロダクト開発ができない  \n
 意思決定プロセスが不明瞭で、ユーザビリティに欠け
 たちぐはぐなプロダクトが出来上がってしまう  \n\n等
 の課題を持つサービス開発チームは少なくないでしょ
 う。\n適切にUXを提供することが求められる昨今では、
 デザイナーが果たす役割はデザイン制作だけでなく、
 機能やUIの意思決定プロセスやチームビルディング、
 仕様設計等も含め幅広い領域となります。 そこで、本
 イベントでは組織・チームとしてデザインを実践して
 いくために何をすべきか、デザイナー育成をどのよう
 に取り組んでいるのか？など、登壇者と来場者でディ
 スカッションを通して、プロダクト開発に関わる人々
 のデザインへの理解を深め実践へ活かしてもらうこと
 を目的としています。\n#sdnight Vol.3 概要\nアプリやWEBサ
 ービスの開発コストが低下し、多くのサービスがリリ
 ースされる昨今、ユーザーが最初にサービスに触った
 際のUXの重要性は増すばかりです。この流れを受け、
 プロダクト開発においてもデザインの関与する領域は
 広くなりデザイナーはより重要な役目を果たすように
 なっています。特に事業立ち上げ時には、想定したユ
 ーザーに対し適切に価値提供できるように極力シンプ
 ル・検証ポイントの明確な初期プロダクト開発が必須
 となります。今回のVol.3では、新規事業立ち上げ時に
 「どのようなチームビルディングをしていくのが良い
 か？」や「開発要件の定義や会議のファシリテーショ
 ン/意思決定をどのように進めていくのが良いか？」等
 にフォーカスして議論していきます。\n＜本イベント
 でディスカッションする内容＞\n\nプロジェクト初期の
 チームビルディングの手法  \nチームビルディングの重
 要性  \n新規事業立ち上げ時のメンバー構成  \n立ち上
 げにあたってのプロセス  \n各登壇者の経験を元にした
 最適なチームビルディングとは  \n\nこれらについて日
 頃課題を持っている方にお越しいただき活発な議論を
 通して、日頃の業務に活かしていただくことをゴール
 においています。\n登壇者紹介\n\n株式会社ココナラ   
 共同創業者 取締役プロダクトマネージャー、デザイン
 グループ グループマネージャ 新明 智氏\n慶応義塾大
 学を卒業後、大手外資系ITベンダー、独立系ITコンサル
 ティング会社の設立メンバーを経て、株式会社ウェル
 セルフ（現株式会社ココナラ）を共同創業。"一人ひと
 りが「自分のストーリー」を生きていく世の中を作る
 ”というビジョンの元に、知識・スキル・経験のCtoCマ
 ーケットプレイス「ココナラ」を立ち上げる。\n\n\n\n\n
 株式会社スタンダード　UX Designer 鈴木 智大氏\nDTP制作
 会社、新聞社を経た後、株式会社ナナメウエで数々の
 アプリのデザインを手がける。その後、2014年からサー
 ビスの設計に特化したデザインファームであるStandard
 へ参画し、UXデザイナーとして活動している。プロジ
 ェクト中だけではなく、プロジェクト終了後もユーザ
 ーを中心とした設計プロセスを組織に根付かせること
 を目指し、ステークホルダーを巻き込んだワークショ
 ップ形式によるUXデザインのコンサルティングを提供
 する。\n\n\n\n株式会社アトラエ　取締役 CTO yenta開発責
 任者 岡 利幸氏\n2007年にアトラエの新卒一期生として
 入社後、転職サイトGreenの立ち上げの新規営業として3
 年間従事した後、エンジニアに転向して復数の新規事
 業を開発して事業責任者を務め、現在はCTO兼新規事業
 統括としてTalentBaseやyentaの責任者を務める。\n\n\n\nモ
 デレーター\n\n株式会社root　代表取締役 / デザインデ
 ィレクター 西村和則\n2012年株式会社root創業。デジタ
 ルハリウッド卒業後、都内の制作会社にてWebデザイナ
 ーとしてディレクション、デザイン制作を行う。その
 後、個人でのWebサービス立ち上げ、Startup Weekendオーガ
 ナイザーを経てWebサービス開発に特化したデザインコ
 ンサルティング/制作サービス を展開。スタートアッ
 プ、事業会社等のプロダクト開発で事業企画フェーズ
 からデザインに関わる。\n\n\n\nタイムスケジュール\n\n\
 n  時間\n  内容\n\n\n\n\n  18:45\n  受付開始\n\n\n  19:15\n  イ
 ベントスタート\n\n\n  19:20\n  Keynote1　新明 智氏\n\n\n  19:
 35\n  Keynote2　鈴木 智大氏\n\n\n  19:50\n  Keynote3　岡 利幸
 氏\n\n\n  20:05 - 20:10\n  休憩\n\n\n  20:10 - 21:00\n  パネルデ
 ィスカッション\n\n\n  21:10\n  懇親会スタート\n\n\n  22:30\
 n  終了\n\n\n\n※ プログラムの内容は、予告なく変更と
 なる場合がございますのでご了承ください\n対象参加
 者\n\n企画、設計など含むデザインワークに関心のある
 UXデザイナー、UIデザイナー、ディレクター\n事業企画
 者、経営者、プロダクトマネージャー、プロダクトオ
 ーナー\nユーザーファーストな設計をしたいエンジニ
 ア\n\n参加費（懇親会費として）\n\n1500円※ お支払いは
 「PayPal支払い」のみとなります。※ 当日参加/不参加
 に関わらず、払い戻しは検討していませんのでご了承
 ください。\n\n持ち物\n\n受付票の番号\nお名刺\n\n主催\n
 株式会社root\nハッシュタグ\n#sdnight
LOCATION:TECH PLAY SHIBUYA 東京都渋谷区宇田川町20-17 NMF渋谷公
 園通りビル 8F
URL:https://techplay.jp/event/601062?utm_medium=referral&utm_source=ics&utm
 _campaign=ics
END:VEVENT
END:VCALENDAR
