BEGIN:VCALENDAR
VERSION:2.0
PRODID:-//https://techplay.jp//JP
CALSCALE:GREGORIAN
METHOD:PUBLISH
X-WR-CALDESC:dots.デジタルマーケティング女子部作りました
 ＾＾
X-WR-CALNAME:dots.デジタルマーケティング女子部作りました
 ＾＾
X-WR-TIMEZONE:Asia/Tokyo
BEGIN:VTIMEZONE
TZID:Asia/Tokyo
BEGIN:STANDARD
DTSTART:19700101T000000
TZOFFSETFROM:+0900
TZOFFSETTO:+0900
TZNAME:JST
END:STANDARD
END:VTIMEZONE
BEGIN:VEVENT
UID:601282@techplay.jp
SUMMARY:dots.デジタルマーケティング女子部作りました＾
 ＾
DTSTART;TZID=Asia/Tokyo:20161107T140000
DTEND;TZID=Asia/Tokyo:20161107T190000
DTSTAMP:20260420T105047Z
CREATED:20160927T070758Z
DESCRIPTION:イベント詳細はこちら\nhttps://techplay.jp/event/60128
 2?utm_medium=referral&utm_source=ics&utm_campaign=ics\n\ndots.デジタ
 ルマーケティング女子部作りました＾＾～ しなやかに
 働くために基本からキャリアまで幅広く～\n概要\nデジ
 タルマーケターとして、もしくはなろうとして、みな
 さんこんな悩みをお持ちではありませんか？\n\n何から
 学んだらいいのかわからない！\n基本から知りたい！\n
 変化が早いから最新の情報を交換したい！\nキャリア
 パスやスキルなど社内には聞ける人が少ないから情報
 交換したい！などなど他の女子は何をしているのか知
 りたい！\n本部活では定期的に情報発信、交流の場をdo
 tsで設けたいと思います！\n登壇者\n    顧問\n    オイシ
 ックス株式会社 CMO 西井 敏恭氏\n    2013年年末までドク
 ターシーラボにてデジタルマーケティングの責任者を
 務めるなど、Eコマースのマーケティングを10年以上。 
 デジタルマーケティングとの関わりは2001年に二年半世
 界一周の旅にて、人気サイトとなり三冊の旅行記を出
 版したこと。http://www.amazon.co.jp/dp/B00DTO1788/ 現在はCMOサ
 ポートのサービスを展開する株式会社シンクロの代表
 取締役およびオイシックス株式会社のCMOとして国内大
 手からスタートアップ企業のマーケティングアドバイ
 ザーをおこないながら、次世代のEC戦略を先導してい
 る。顧問日本マイクロソフト株式会社 Officeマーケティ
 ング本部シニア デジタル マーケティング マネージャ 
 松田 恵利子氏2011年日本マイクロソフト株式会社入社
 。 日本マイクロソフト入社以前は、Web制作・開発やモ
 バイルマーケティングシステム事業のスタートアップ
 などを経て、2005年ダブルクリック株式会社に入社。Web
 分析ソリューションの導入・運用コンサルティング担
 当やWeb分析部門の事業責任者として、関連サービスの
 事業拡大を行う。（2010年、買収に伴い、トランスコス
 モス株式会社に転籍）プライベートでは、小学校5年生
 の女の子の母。\n     \n\nタイムスケジュール\n\n\n    \n  
       \n            時間\n            講演内容\n        \n        \
 n            13:30 -\n            開場\n        \n        \n           
  14:00 - 14:15\n            ご挨拶\n        \n        \n            14
 :15 - 15:00\n                            『デジマで成果を上げ
 るためのフレームワーク』\n                西井氏\n        
         デジマで成果を上げるためのフレームワークっ
 て何でしょうか？〇〇の売り上げをマーケで伸ばして
 と上司に依頼されたときにまず考えなければいけない
 こと代理店に任せるか、自分でやるか、それぞれどん
 なメリット・デメリットがあるか多岐にわたるデジマ
 のオススメの情報収集法今、こんなことを知りたいと
 思っています。幅広く活躍中の西井さんには、顧問に
 就任していただき、今後も継続的に関わっていただき
 ますので、若手デジタルマーケターが参考になるお話
 をたくさんしていただこうと思っています。教科書が
 ないならみんなで作りましょう＾＾\n            \n        \
 n        \n            15:10 - 15:55\n                            『女
 性がマーケターとしてキャリアを伸ばすために』\n     
            松田氏デジタルマーケッターのキャリア仕事
 と子育てマーケターとして、母として、キャリアを伸
 ばしながら子育てをしている松田さん。これまで働い
 ている中で体験して気づいたこと、両立の仕方、成長
 の仕方についてお話していただきます。"今後私はどう
 やってマーケターとしてのキャリアを伸ばしていけば
 いいんだろう？""このままマーケター続けられるの？"
 と漠然とした不安を持っている方に、参考になるお話
 です。\n            \n        \n        \n            16:00 - 17:00\n 
                            『懇親会』\n                働くママ
 も参加できるように早めに設定＾＾\n                まず
 は部活としてメンバーの横の繋がり作りましょう〜\n  
           \n        \n        \n            17:00 - 18:00\n              
           	『第2部：西井さんの公開コンサル』\n           
      パネル兼公開コンサル、あなたの質問に答えます
 ！\n                お時間の許すかぎりお受けします！\n  
           \n        \n        \n            18:30\n            終了\n  
       \n    \n\n※プログラムは予告なく変更する場合がご
 ざいます。予めご了承ください。\n\n持ち物\n名刺2枚\n
 参加費\n1\,000円\nスポンサー\nトレジャーデータ株式会
 社\n\n
LOCATION:TECH PLAY SHIBUYA 東京都渋谷区宇田川町20-17 NMF渋谷公
 園通りビル 8F
URL:https://techplay.jp/event/601282?utm_medium=referral&utm_source=ics&utm
 _campaign=ics
END:VEVENT
END:VCALENDAR
