BEGIN:VCALENDAR
VERSION:2.0
PRODID:-//https://techplay.jp//JP
CALSCALE:GREGORIAN
METHOD:PUBLISH
X-WR-CALDESC:第2回 データサイエティスト女子部 セミナー
 　　　　「教えて！データサイエンティストの勉強法
 」
X-WR-CALNAME:第2回 データサイエティスト女子部 セミナー
 　　　　「教えて！データサイエンティストの勉強法
 」
X-WR-TIMEZONE:Asia/Tokyo
BEGIN:VTIMEZONE
TZID:Asia/Tokyo
BEGIN:STANDARD
DTSTART:19700101T000000
TZOFFSETFROM:+0900
TZOFFSETTO:+0900
TZNAME:JST
END:STANDARD
END:VTIMEZONE
BEGIN:VEVENT
UID:602616@techplay.jp
SUMMARY:第2回 データサイエティスト女子部 セミナー　　
 　　「教えて！データサイエンティストの勉強法」
DTSTART;TZID=Asia/Tokyo:20161024T190000
DTEND;TZID=Asia/Tokyo:20161024T210000
DTSTAMP:20260421T142100Z
CREATED:20161011T042453Z
DESCRIPTION:イベント詳細はこちら\nhttps://techplay.jp/event/60261
 6?utm_medium=referral&utm_source=ics&utm_campaign=ics\n\n70x8470x84ご好
 評につき、増枠しました！データサイエンティスト女
 子部第2回セミナー概要説明「教えて！データサイエン
 ティストの勉強法」　～最強の女子データサイエンテ
 ィスト軍団があなたのお悩みに答えます～データサイ
 エンティストってどう勉強すればなれるの？数学がわ
 からないとダメ？プログラミングは必須？現役で活躍
 するデータサイエンティストに勉強の秘訣を伺ってみ
 ましょう。そして、後半は講演のお二人とさらに新た
 な女性データサイエンティストが加わり、あなたのお
 悩みにズバっとお答えします！講演1：『データサイエ
 ンティストとして役だったスキルとその勉強法』私の
 データサイエンティスト能力の根源は、大学時代に遡
 ります。大学時代から入社後研修、そしてプロジェク
 ト参画後に学んできたことの中から、製造業・保険業
 のデータ分析プロジェクトを経験する中で、役だった
 スキルとその勉強法についてご紹介します。じっくり
 学びたいスキルから、付け焼き刃でもいいから学びた
 いスキルまでを、経験談をもとにお話しさせていただ
 きます。講演2：『実践トレーニングでスキル習得』CRM
 プランナーの仕事を全うするために、自らデータを扱
 いたくて分析に携わるようになりました。日々は顧客
 情報と購買データを用いた分析がメインです。数字嫌
 いの素人が、実践トレーニングのみでプランニングに
 活かせる分析はできるように。逃げ出したいことも多
 々ありましたが、乗り越えてきた実体験をお話しいた
 します。講演3：『DS女子部トーク』勉強法やキャリア
 パス、データサイエンティストとしてスキルをつけて
 いくためにどうすればよいか、現役の最強データサイ
 エンティスト女子軍団がお答えします。登壇者日本ア
 イ・ビー・エム株式会社Global Business Service - Business Consu
 lting - Advanced Analysis & Optimizationコンサルタント干場 愛
 氏大学では社会工学を学び、2013年に学部卒で日本IBMに
 入社。入社２年目までは自動車業界の品質領域を中心
 に、複数のデータ分析案件に参画。その後、生命保険
 業界のマーケティング分析案件に１年間携わり、現在
 は再び自動車業界でのコグニティブ案件に従事してい
 る。株式会社ユナイテッドアローズ事業支援本部デジ
 タルマーケティング部CRM　　　　　　　　　　　　　
 　　　　　　　　　　　　　チームリーダー安藤 彩子
 氏外資系衣料品メーカーにてCRM担当者としてシステム
 リプレイスやサービス刷新を実施。その後、2013年株式
 会社ユナイテッッドアローズ入社。現在は全社CRM戦略
 ・戦術プランニング、事業部向け顧客化サポートのコ
 ンサルティングなどを行っている。社内のCRM刷新プロ
 ジェクトおよびEC&CRM統合プロジェクトに参画中。株式
 会社JALインフォテック事業企画本部 経営企画部 マー
 ケティンググループ木下 朋子氏大学卒業後、日本航空
 のシステム関連会社であるJALインフォテックに入社。
 ソフトウエアパッケージの営業・販売に携わる。4年前
 より、月間2億ページビューに達するJALの航空券予約サ
 イトのデータ分析に携わる。NECビッグデータ戦略本部
 ・データサイエンス研究所（兼務）主任見上 紗和子氏
 大学院卒業後、NEC入社。毎秒250万件のビッグデータ処
 理を実現する高速ストリーム処理技術などの研究・開
 発に携わる。2013年度より、製造業・小売業を中心とし
 たビッグデータ分析案件、ソリューション企画、分析
 プロセスの標準化活動を行う。タイムスケジュール時
 間講演内容18:30 -受付19:00 - 19:05データサイエンティス
 ト女子部挨拶日本アイ・ビー・エム株式会社　データ
 サイエンティスト協会企画委員　松永 智子19:05 - 19:25
 『データサイエンティストとして役だったスキルとそ
 の勉強法』日本アイ・ビー・エム株式会社　干場 愛氏
 19:25 - 19:45『実践トレーニングでスキル習得』株式会社
 ユナイテッドアローズ　安藤 彩子氏19:45 - 20:30DS女子部
 トーク20:30 - 21:00ネットワーキング参加対象データサイ
 エンティスト、データサイエンティストを目指してい
 る方、データ分析に関心のある方など※本セミナーは
 女性限定です参加費無料持ち物受付番号（本ページに
 て申し込み完了時に発行されます）お飲み物、軽食な
 どのご用意がありませんので、ご自由にお持ちくださ
 いネットワーキングの時間を設けていますので、ご関
 心のある方はお名刺をお持ちくださいセミナーに関す
 る注意事項当日、受付番号を証明できるもの（スマホ
 やタブレットでの画面表示や申し込み完了メールを印
 刷した物）をご持参ください。受付にて確認できない
 場合、入場をお断りさせていただくこともございます
 。主催データサイエンティスト女子部
LOCATION:TECH PLAY SHIBUYA 東京都渋谷区宇田川町20-17 NMF渋谷公
 園通りビル 8F
URL:https://techplay.jp/event/602616?utm_medium=referral&utm_source=ics&utm
 _campaign=ics
END:VEVENT
END:VCALENDAR
