BEGIN:VCALENDAR
VERSION:2.0
PRODID:-//https://techplay.jp//JP
CALSCALE:GREGORIAN
METHOD:PUBLISH
X-WR-CALDESC:【満席につき増席！】RecoChoku Tech Night #02
X-WR-CALNAME:【満席につき増席！】RecoChoku Tech Night #02
X-WR-TIMEZONE:Asia/Tokyo
BEGIN:VTIMEZONE
TZID:Asia/Tokyo
BEGIN:STANDARD
DTSTART:19700101T000000
TZOFFSETFROM:+0900
TZOFFSETTO:+0900
TZNAME:JST
END:STANDARD
END:VTIMEZONE
BEGIN:VEVENT
UID:604068@techplay.jp
SUMMARY:【満席につき増席！】RecoChoku Tech Night #02
DTSTART;TZID=Asia/Tokyo:20161114T193000
DTEND;TZID=Asia/Tokyo:20161114T213000
DTSTAMP:20260420T080551Z
CREATED:20161024T094347Z
DESCRIPTION:イベント詳細はこちら\nhttps://techplay.jp/event/60406
 8?utm_medium=referral&utm_source=ics&utm_campaign=ics\n\nRecoChoku Tech N
 ight #02\n概要\n\n前回、ご好評につき増席いたしました 
 「RecoChoku Tech Night」 を再び実施いたします！「音楽×
 最新技術」の下にこの3\,4年で実施してきた挑戦を、前
 回とは違ったメンバー＆違った内容でお話させていた
 だきます。\n\nまた、今回は特別に 【アマゾンウェブ
 サービスジャパン株式会社】 の方をお招きし、現在の
 レコチョクについてLT形式でお話いただく予定です。\n
 \n今回お話しさせていただく内容は3つになります。1つ
 はウォーターフォール型開発からアジャイル開発への
 変更でわかった裏話。国内トップクラスの音楽配信シ
 ステム(月間数百TBのネットワーク転送量、数百TBの音
 源データを管理)のスクラム開発がどのように行われる
 かをお話いたします。\n\n残り2つはAWS移行についての
 苦労話。OracleからAuroraへ、SolrからCloudSearchへ選択した
 理由や実際に移行して、見えてきた良かった点や課題
 。現在、レコチョクでは全システムをAWSへ全面移行し
 、EC2が約900台、RDSが120台となり、今も増え続けており
 ます。その中の一部をお話いたします。実際に取り組
 んできたエンジニアが本音でお話ししますので是非ご
 期待ください！\n\n\n登壇者\n\n    \n        \n        \n       
      プラットフォーム推進部 アプリケーション開発グ
 ループ グループ長\n            原田 定治\n            1980年
 山口県生まれ。2013年レコチョクへ入社。高専クラスタ
 。メカニックエンジニアからITエンジニアにジョブチ
 ェンジという少し変わった経歴の持ち主。2012年に認定
 スクラムマスター（CSM）の資格を取得。好きな工具ブ
 ランドはneprosとPB。\n        \n    \n    \n        \n        \n   
          事業システム推進部 システム・アーキテクトグ
 ループ\n            酒井 修平\n            1987年生まれ。2013
 年レコチョク入社。前職はSIerにて金融系システムの開
 発に携わる。レコチョク入社後は社内向けシステムや
 、バックエンド系APIの開発・AWS移行を行い、現在は会
 員系システムの開発・運用を担当。最近体力の低下が
 著しいが一応2番セカンド。\n        \n    \n    \n        \n  
       \n            事業システム推進部 システム・アーキ
 テクトグループ\n            山本 耕琢\n            1984年生
 まれ。2012年レコチョク入社。前職は、SIerにて通信キ
 ャリア系システムの開発に携わる。レコチョク入社後
 は、レコチョクの楽曲情報の検索や、決済/会員情報、
 レコメンド情報などを扱うWebAPIの運用と改善を担当。\
 n        \n    \n    \n        \n        \n            アマゾン ウ
 ェブ サービス ジャパン株式会社 ソリューションアー
 キテクト\n            北迫 清訓 様\n            ハードウェ
 アベンダーにて通信・メディア系のお客様を中心に、
 システムコンサルから構築、プロジェクトマネージメ
 ントを長年経験。現職ではメディア及びコンテンツ配
 信系のお客様を主に担当し、コンテンツ配信、アーカ
 イブなどの案件に従事。\n        \n    \n    \n        \n      
   \n            事業システム推進部 部長\n            松嶋 
 陽太\n            ベンチャーのエンジニアやCTOとして立
 ち上げ経験した後、レコチョクへ入社。大規模システ
 ムリプレイスやAWS全面移行等、大規模なプロジェクト
 に責任者として従事。\n        \n    \n\n\nタイムスケジュ
 ール\n\n    \n        \n            \n                時間\n         
        内容\n            \n            \n                19:00\n       
          受付開始\n            \n            \n                19:30
 〜19:35\n                オープニング\n            \n            \
 n                19:35〜19:55\n                \n                    国
 内最大級の音楽配信サービスでスクラム開発やってみ
 た\n                    プラットフォーム推進部 アプリケ
 ーション開発グループ グループ長 原田 定治\n           
          大規模なリニューアル開発ではじめてスクラム
 を導入してみて\n                \n            \n            \n    
             19:55〜20:15\n                \n                    Oracle
 からAuroraへfeat. 開発しかやってこなかったエンジニア\
 n                    事業システム推進部 システム・アーキ
 テクトグループ 酒井 修平\n                    会員サービ
 スのOracleからAuroraへの移行とその運用について\n        
         \n            \n            \n                20:15〜20:35\n    
             \n                    CloudSearchでレコチョク検索の
 実現を目指して\n                    事業システム推進部 
 システム・アーキテクトグループ 山本 耕琢\n            
         CloudSearchでレコチョク検索をどうやって実現した
 か\n                \n            \n            \n                20:40
 〜21:00\n                乾杯\n            \n            \n           
      21:00〜21:05\n                \n                    【LT】AWS社
 からみたレコチョクシステム（仮）\n                    ア
 マゾン ウェブ サービス ジャパン株式会社 ソリューシ
 ョンアーキテクト 北迫 清訓 様\n                    AWS社か
 らみたレコチョクシステムについて\n                \n     
        \n            \n                21:05〜21:10\n                \n 
                    【LT】AWSへ全面移行した「今」を話しま
 す\n                    事業システム推進部 部長 松嶋 陽太
 \n                    AWS移行前後について、ここでしか言え
 ないリアルな本音\n                \n            \n            \n 
                21:15\n                中締め\n            \n          
   \n                21:30\n                終了\n            \n        
 \n    \n    ※ 適宜休憩を取ります。当日予告なく時間配
 分、内容が変更になる可能性がございます。\n\n\n参加
 対象\n当イベントにご興味がある方\n参加費\n1\,000円\n#
 ハッシュタグ\n\n    ＃reco_tech\n\n主催\n株式会社レコチ
 ョク＊レコチョクのエンジニアブログ\n\n\n
LOCATION:TECH PLAY SHIBUYA 東京都渋谷区宇田川町20-17 NMF渋谷公
 園通りビル 8F
URL:https://techplay.jp/event/604068?utm_medium=referral&utm_source=ics&utm
 _campaign=ics
END:VEVENT
END:VCALENDAR
