BEGIN:VCALENDAR
VERSION:2.0
PRODID:-//https://techplay.jp//JP
CALSCALE:GREGORIAN
METHOD:PUBLISH
X-WR-CALDESC:【第3回／最終回！】シシララ安藤さんに学ぶ 
 寺子屋！〜 ゲームクリエーターの仕事術 - 未来を想像
 してみよう -  〜
X-WR-CALNAME:【第3回／最終回！】シシララ安藤さんに学ぶ 
 寺子屋！〜 ゲームクリエーターの仕事術 - 未来を想像
 してみよう -  〜
X-WR-TIMEZONE:Asia/Tokyo
BEGIN:VTIMEZONE
TZID:Asia/Tokyo
BEGIN:STANDARD
DTSTART:19700101T000000
TZOFFSETFROM:+0900
TZOFFSETTO:+0900
TZNAME:JST
END:STANDARD
END:VTIMEZONE
BEGIN:VEVENT
UID:604284@techplay.jp
SUMMARY:【第3回／最終回！】シシララ安藤さんに学ぶ 寺
 子屋！〜 ゲームクリエーターの仕事術 - 未来を想像し
 てみよう -  〜
DTSTART;TZID=Asia/Tokyo:20161108T190000
DTEND;TZID=Asia/Tokyo:20161108T220000
DTSTAMP:20260419T211625Z
CREATED:20161026T074416Z
DESCRIPTION:イベント詳細はこちら\nhttps://techplay.jp/event/60428
 4?utm_medium=referral&utm_source=ics&utm_campaign=ics\n\n【第3回／最
 終回！】シシララ安藤さんに学ぶ 寺子屋！〜 ゲーム
 クリエーターの仕事術 - 未来を想像してみよう -  〜概
 要    シシララ安藤さんに学ぶ！一流ゲームクリエータ
 ーになりたい方々向けの寺子屋 第3回目！シーズン1の
 最終回となります！！最終回の第3回目では「ゲームク
 リエイターの仕事術 - 未来を想像してみよう - 」をテ
 ーマにご講演頂きます！ゲームに魅了され、ゲームを
 クリエイトすることをやめられない！ゲームクリエイ
 ターはそんな人が多いのではないでしょうか。一方で
 、ゲームをクリエイトするって…            絶対に売れ
 る方程式があるわけではない        業界特性上、他社
 の情報を知ることはできない        運が来るまで頑張
 り続けるしかない！but運が来るまで頑張れる気力はど
 うやって保てばいいのか        ある種、暗闇に向かっ
 て走り続けるゲームクリエイターの仕事。もっともっ
 と、ゲーム作りを楽しみたい！成功させたい！そんな
 方々へ数々のヒットタイトルを出してきた安藤さんか
 ら、一流ゲームクリエーターになるための極意、を学
 べる全3回の連載もの寺子屋です。第1回目『「ゲーム
 の商売の話」仕入れるもの、売り方って？の巻。』第2
 回目『売れるゲームをつくるために必要なたった一つ
 のこと』ttps://eventdots.jp/event/593940https://eventdots.jp/event/60
 032受講中は安藤さんに直接実務の相談をすることも可
 能です。受講の後は毎回安藤さんとノミュニケーショ
 ンをはかって頂き、普段は聞けないアレコレをこの機
 会に是非ご相談ください！講師                               
                      安藤 武博 氏                                   
  @takehiro_ando                      安藤武博                        
                                 1975年11月27日 生 / ゲームDJ・ゲ
 ームプロデューサー1998年4月　株式会社エニックス（
 現スクウェア・エニックス）入社。2015年7月　株式会
 社シシララ　設立                「鈴木爆発」(PlayStation)
 、「ヘビーメタルサンダー(PlayStation2)などの家庭用ゲ
 ームのほか、「ケイオスリングス」シリーズ（iPhone/And
 roid）、「拡散性ミリオンアーサー」（iPhone/Android ）な
 どのスマートフォンゲーム、 「実在性ミリオンアーサ
 ー」（TV番組）など、幅広い作品を手掛ける。【シシ
 ララTV】（http://sisilala.tv/）【シシララTV　ニコニコチ
 ャンネル】（http://ch.nicovideo.jp/sisilala-tv）                  
       タイムスケジュール                                        
 時間                内容                                        19:00
                 開場                                        19:30      
           イベントスタート                                       
  19:35〜19:45                イベント概要説明                   
                      19:45〜21:00                安藤さんによる
 講演                                        21:00〜21:10             
    クローズ                                        21:10〜22:00    
             懇親会                            ※ 適宜休憩を取
 ります。当日予告なく時間配分内容が変更になる可能
 性がございますのでご了承ください参加費    1000円 （P
 aypal決済） ※ 「PayPal支払い」は 当日参加/不参加に関
 わらず、払い戻しは検討していませんのでご了承くだ
 さい。1500円（当日現金払い）#ハッシュタグ    #eventdots
  #dotsgame主催dots. / dots.ゲーム部
LOCATION:TECH PLAY SHIBUYA 東京都渋谷区宇田川町20-17 NMF渋谷公
 園通りビル 8F
URL:https://techplay.jp/event/604284?utm_medium=referral&utm_source=ics&utm
 _campaign=ics
END:VEVENT
END:VCALENDAR
