BEGIN:VCALENDAR
VERSION:2.0
PRODID:-//https://techplay.jp//JP
CALSCALE:GREGORIAN
METHOD:PUBLISH
X-WR-CALDESC:JINS MEME DEVELOPER HANDS-ON  #5　（大阪・イノベーシ
 ョンハブ）
X-WR-CALNAME:JINS MEME DEVELOPER HANDS-ON  #5　（大阪・イノベーシ
 ョンハブ）
X-WR-TIMEZONE:Asia/Tokyo
BEGIN:VTIMEZONE
TZID:Asia/Tokyo
BEGIN:STANDARD
DTSTART:19700101T000000
TZOFFSETFROM:+0900
TZOFFSETTO:+0900
TZNAME:JST
END:STANDARD
END:VTIMEZONE
BEGIN:VEVENT
UID:606681@techplay.jp
SUMMARY:JINS MEME DEVELOPER HANDS-ON  #5　（大阪・イノベーショ
 ンハブ）
DTSTART;TZID=Asia/Tokyo:20170127T190000
DTEND;TZID=Asia/Tokyo:20170127T210000
DTSTAMP:20260425T115519Z
CREATED:20161121T042715Z
DESCRIPTION:イベント詳細はこちら\nhttps://techplay.jp/event/60668
 1?utm_medium=referral&utm_source=ics&utm_campaign=ics\n\n※大反響に
 つき、大阪開催決定！メガネ型ウェアラブル開発のは
 じめの一歩。JINS MEME DEVELOPER HANDS-ON 概要世界初、自分
 を見るメガネJINS MEME（ジンズ・ミーム）の開発者向け
 基礎講座です。通常のメガネのフォルムはそのままに
 、眼と頭の動きを24時間捉え続けることのできるセン
 シングデバイス、それがJINS MEMEです。”眼は口ほどに
 ものを言う”という諺が示す通り、眼の動きから得ら
 れるデータには膨大な情報が詰まっています。眼の動
 きを利用したコントローラーから集中度測定アプリま
 で、あなたのアイデアひとつで世の中の役にたつ幅広
 いソリューション開発へ応用が可能です。メガネの進
 化を促すあなたの斬新な開発アイデアを、その手で実
 現させてみませんか？        -----------------------------------
 ----------------------------対象：ウェアラブル・デバイスの
 開発に興味のある方Xcode、Android Studioの基礎知識をお持
 ちの方メガネは外を見るものだと思っていた方メガネ
 を愛してやまない方前々からメガネをかけてみたいと
 思っていた方本当に使えるIoTソリューション開発を目
 指す方---------------------------------------------------------------
 開催日：2017年1月27日（金）19:00 - 21:00 (18:30受付開始)参
 加費：無料----------------------------------------------------------
 -----場所：大阪イノベーションハブ〒530-0011 大阪市北
 区大深町3番1号グランフロント大阪 ナレッジキャピタ
 ルタワーC7階http://www.innovation-osaka.jp/ja/----------------------
 -----------------------------------------タイムスケジュール18:30
  受付開始19:00 本日の流れの説明19:05 基礎情報のレクチ
 ャーJINS MEME についてJINS MEME SDKドキュメント全体構造
 の説明19:25 JINS MEME の開発環境セットアップJINSアカウ
 ント登録、SDKダウンロード、APPID発行Xcode\, Android Studio 
 でのプロジェクト作成20:00 サンプル・アプリを動かす
 、遊ぶパラメーターの設定 & サンプルアプリのビルド2
 0:30 ラップアップ（21:00までに終了）------------------------
 ---------------------------------------講師：佐藤 拓磨（さとう
 ・たくま）JINS MEME デベロッパーリレーションズ担当大
 学卒業後、元外資系コンサルティング会社に入社し、
 企業のBPR・BPO・SCMのコンサルティング支援やシステム
 導入プロジェクト支援に従事。オープンソースをベー
 スとしたCMSのシステム開発会社における統括マネジャ
 ー等を経て2013年JINSに入社。ECなどのWEBアプリやスマホ
 アプリなど含めたデジタルサービス全般のシステム統
 括を担当するほか、JINS MEMEのデベロッパーリレーショ
 ン全般およびアプリ開発を統括する。----------------------
 -----------------------------------------持ち物：Windows \, Macマシ
 ン当選結果メール本文(プリントアウト or スマホでそ
 の場で提示)JINS MEME(お持ちの方）　※JINS MEMEをおもち
 でない方には無償貸し出しいたします。アプリの動作
 が可能なスマートフォン　※対応機種についてはこち
 ら（https://jins-meme.com/ja/support/devices/）事前の準備：Xcode
  \, Android Studioを手持ちPCにインストールし、作業でき
 る状態にしておくこと※　JINS MEME SDKは、下記を推奨環
 境としていますiOS 8以降Xcode 8以降Android 4.4(API Level.19) 
 以降Android Studio 2以降POINTSDKの概要を理解したら、実際
 につないでみる。動かしてみる。本セミナーでは、JINS
  MEME SDKの基本概要の理解をスタートに、眼電位（EOG）
 や6軸（加速度・角速度）センサーをサンプルアプリに
 つなぎ、実際位に動かして遊んでみるまでをゴールと
 します。サンプルアプリとJINS MEME(メガネ）を連動させ
 るプロセスを通じて、スムーズにSDKの構造を理解でき
 ます。JINS MEMEがなくても参加OK！セミナー後もレンタ
 ル可。セミナー参加者には、セミナー中、１名につき
 １本 JINS MEMEをお貸出しします。（貸与するJINS MEMEは全
 て度なしです）セミナー後、ご自宅でゆっくりと開発
 を行いたい！そんなデベロッパーさん向けには、最長
 １カ月／2\,000円 にてレンタルも可能。
LOCATION:大阪イノベーションハブ 〒530-0011 大阪市北区大
 深町3番1号 グランフロント大阪 ナレッジキャピタルタ
 ワーC ７階
URL:https://techplay.jp/event/606681?utm_medium=referral&utm_source=ics&utm
 _campaign=ics
END:VEVENT
END:VCALENDAR
