BEGIN:VCALENDAR
VERSION:2.0
PRODID:-//https://techplay.jp//JP
CALSCALE:GREGORIAN
METHOD:PUBLISH
X-WR-CALDESC:【大好評につき大増席】Firebaseのマーケティン
 グ活用事例
X-WR-CALNAME:【大好評につき大増席】Firebaseのマーケティン
 グ活用事例
X-WR-TIMEZONE:Asia/Tokyo
BEGIN:VTIMEZONE
TZID:Asia/Tokyo
BEGIN:STANDARD
DTSTART:19700101T000000
TZOFFSETFROM:+0900
TZOFFSETTO:+0900
TZNAME:JST
END:STANDARD
END:VTIMEZONE
BEGIN:VEVENT
UID:609502@techplay.jp
SUMMARY:【大好評につき大増席】Firebaseのマーケティング
 活用事例
DTSTART;TZID=Asia/Tokyo:20170113T193000
DTEND;TZID=Asia/Tokyo:20170113T210000
DTSTAMP:20260420T184238Z
CREATED:20161226T062030Z
DESCRIPTION:イベント詳細はこちら\nhttps://techplay.jp/event/60950
 2?utm_medium=referral&utm_source=ics&utm_campaign=ics\n\nイベント説
 明\nGOAL: Firebaseを活用したマーケティング手法について
 理解する！\n\n-  Firebase Analyitcsでのイベント設計のポイ
 ントとは？\n-  取得したデータをどうやって可視化・
 分析するか？\n-  そのデータをFirebaseでどのように施策
 に繋げるのか？\n\n上記について、Firebaseの機能とスタ
 ンバイでの活用事例をご紹介します。\n\n＊スタンバイ
 は、GoogleのApp Dojoで事例を紹介するなどFirebaseの活用を
 積極的に行っています。\n\nアジェンダ\n\nFirebaseとは？
 \nFirebaseを導入した経緯\nFirebaseの活用事例と今後やり
 たいこと\nおまけ\n\n\n※アジェンダは予告なく変更さ
 れる場合がございます。\n\n\n対象\n\nデータドリブンな
 マーケター\nFirebaseに興味があるマーケター\nFirebaseを
 導入してどう活用しようか悩んでいるマーケター\n\n\n
 開催概要\n\n日時:2017/01/13（金）19:30〜21:00（19:15開場）\
 n懇親会(希望者のみ):21:00〜22:00\n場所:株式会社ビズリ
 ーチ 東京都渋谷区渋谷2-15-1 渋谷クロスタワー 26F\n参
 加費:無料\n持参物:名刺1枚（名札用）\n\n\n登壇予定者\n
 株式会社ビズリーチ\nインキュベーションカンパニー
 　マーケティング本部\n現王園 浩士\n\n\n\n時間\n発表者
 \n\n\n\n\n19:15~19:30\n受付\n\n\n19:30~21:00\nイベント\n\n\n21:00~2
 2:00\n懇親会\n\n\n\n注意\n\nイベント参加者へのスカウト
 等勧誘行為は禁止です。\nイベントの写真を撮らせて
 頂く場合がございます。\nイベントキャンセルが多い
 方はこちらで参加をお断りさせていただく場合がござ
 います。\n参加登録時に入力していただいた名前・メ
 ールアドレスは今後ビズリーチのイベント開催等おし
 らせに利用させていただきます。\nご理解ご協力のほ
 ど、よろしくお願い致します。\n\nD3とは\n創業以来、
 高い技術力と戦略的なUI/UXを武器に、世の中に価値あ
 るサービスを生み出しているビズリーチ。\nサービス
 の数が増えるにつれ、技術の幅が広がったため、その
 スキルやノウハウを社内のみならず、\n世の中のエン
 ジニアやデザイナーとも共有すべく、\n私たちは「D3（
 ディーキューブ）※」というプロジェクトチームを立
 ち上げました。\nD3では、たくさんのイベントや勉強会
 を開催し、\n世のエンジニア・デザイナーと共に、さ
 らなる高みを目指します。\n※D3＝DESIGNER & DEVELOPER DIVISI
 ON\n
LOCATION:株式会社ビズリーチ 26階 東京都渋谷区渋谷2-15-1 
 渋谷クロスタワー 26F
URL:https://techplay.jp/event/609502?utm_medium=referral&utm_source=ics&utm
 _campaign=ics
END:VEVENT
END:VCALENDAR
