BEGIN:VCALENDAR
VERSION:2.0
PRODID:-//https://techplay.jp//JP
CALSCALE:GREGORIAN
METHOD:PUBLISH
X-WR-CALDESC:【2017/2/23開催】Reproではじめるアプリ解析・マ
 ーケティングセミナー
X-WR-CALNAME:【2017/2/23開催】Reproではじめるアプリ解析・マ
 ーケティングセミナー
X-WR-TIMEZONE:Asia/Tokyo
BEGIN:VTIMEZONE
TZID:Asia/Tokyo
BEGIN:STANDARD
DTSTART:19700101T000000
TZOFFSETFROM:+0900
TZOFFSETTO:+0900
TZNAME:JST
END:STANDARD
END:VTIMEZONE
BEGIN:VEVENT
UID:611322@techplay.jp
SUMMARY:【2017/2/23開催】Reproではじめるアプリ解析・マー
 ケティングセミナー
DTSTART;TZID=Asia/Tokyo:20170223T160000
DTEND;TZID=Asia/Tokyo:20170223T183000
DTSTAMP:20260423T073848Z
CREATED:20170118T162018Z
DESCRIPTION:イベント詳細はこちら\nhttps://techplay.jp/event/61132
 2?utm_medium=referral&utm_source=ics&utm_campaign=ics\n\nReproの使い
 方やReproの持つアプリの改善ノウハウをもっと知りた
 いというご要望にお応えし、\nアプリの改善をこれか
 ら始める方に向けて、Reproの効果的な使い方をご紹介
 する少人数セミナーを開催いたします！\n「DLはされる
 けどユーザーがすぐ離れて行ってしまう」「課金ユー
 ザーと無料ユーザーのアプリの利用方法の違いを知り
 たい」「効果的なプッシュ通知を送りたい」「リテン
 ション分析の使い方が分からない」\nこういったアプ
 リ運用の悩みはReproを使うことで解決することができ
 ます。\nReproとは？\nhttps://repro.io/\nReproはモバイルアプ
 リの課題の発見から解決の方法までワンストップで提
 供しているアプリの成長支援ツールです。\nアクセス
 分析やユーザー行動の録画機能など課題発見の機能か
 ら、プッシュ通知やアプリ内メッセージなど課題解決
 のための機能まで1つのSDKで提供しています。\nセミナ
 ーの対象者\n\nアプリのディレクター、マーケター、エ
 ンジニア\n\n※ Reproの実装方法ではなく使い方に関する
 セミナーなので、コーディングなどの知識は不要です
 。\n※ すでにReproを利用している必要はありませんが
 、ツールの使い方がメインのセミナーとなっておりま
 すので、アプリ担当者ではない方、Reproを導入する予
 定の無い方のご参加はご遠慮ください。\nこんな方に
 おすすめ\n\nアプリの解析ツールを探している方\nプッ
 シュ通知ツールを探している方\nアプリのグロースハ
 ックに興味がある方\nターゲティングプッシュ通知や
 アプリ内メッセージなど最先端のアプリ内マーケティ
 ングを体験してみたい方\nReproのアカウントをすでに持
 っているが、活用方法に迷っている方\n\nセミナー内容
 \nセミナーはワークショップ形式とし、Reproの管理画面
 とデモアプリをお渡しし、ユーザーをターゲティング
 したプッシュ通知やユーザー行動の録画機能を使った
 アプリの課題発見などについて参加者に実際に体験し
 てもらいます。\n最後に個別相談会も設けております
 ので、アプリの改善に関するものから技術的なご相談
 まで、ご質問がある方はぜひお越しください。スタッ
 フ一同お待ちしております。\nタイムテーブル (予定)\n
 \n\n\n時刻\n詳細\n\n\n\n\n16:00\n受付開始\n\n\n16:25\n会場案
 内、注意事項など\n\n\n16:30\n前半\n\n\n17:10\n休憩\n\n\n17:30
 \n後半\n\n\n18:10\nアンケート記入、個別相談会\n\n\n19:00\n
 終了\n\n\n19:30\n完全撤収\n\n\n\n持ち物、注意事項など\n\n
 ご本人確認のため受付にて名刺を頂戴しますので、名
 刺をお持ちください。\n会場には十分な数の電源をご
 用意していないため、PCを充電してからお越しいただ
 ければと思います。\n会場にはFree Wifiをご用意してお
 りますが、当日は同時に大勢の方が接続するため通信
 速度が遅くなってしまう恐れがあります。できるだけ
 ご自身でWifi環境をご用意ください。\nイベントの模様
 に関しては後日ReproのコーポレートブログやSNSなどで
 記事化させていただきますので予めご了承下さい。\n\n
 運営元の連絡先\n\n企業名：Repro株式会社\n担当者名：
 伊藤 直樹\nEmail: media@repro.io\n\n主催\nRepro株式会社
LOCATION:ラトゥール新宿 3F セミナールーム 東京都新宿区
 西新宿6-15-1
URL:https://techplay.jp/event/611322?utm_medium=referral&utm_source=ics&utm
 _campaign=ics
END:VEVENT
END:VCALENDAR
