BEGIN:VCALENDAR
VERSION:2.0
PRODID:-//https://techplay.jp//JP
CALSCALE:GREGORIAN
METHOD:PUBLISH
X-WR-CALDESC:Riot.js 勉強会 @Tokyo #2
X-WR-CALNAME:Riot.js 勉強会 @Tokyo #2
X-WR-TIMEZONE:Asia/Tokyo
BEGIN:VTIMEZONE
TZID:Asia/Tokyo
BEGIN:STANDARD
DTSTART:19700101T000000
TZOFFSETFROM:+0900
TZOFFSETTO:+0900
TZNAME:JST
END:STANDARD
END:VTIMEZONE
BEGIN:VEVENT
UID:611394@techplay.jp
SUMMARY:Riot.js 勉強会 @Tokyo #2
DTSTART;TZID=Asia/Tokyo:20170202T193000
DTEND;TZID=Asia/Tokyo:20170202T213000
DTSTAMP:20260420T210314Z
CREATED:20170119T060045Z
DESCRIPTION:イベント詳細はこちら\nhttps://techplay.jp/event/61139
 4?utm_medium=referral&utm_source=ics&utm_campaign=ics\n\n最近\, じわ
 じわと流行りつつある JavaScript フレームワーク 『Riot.j
 s』 の勉強会を開催します!\nRiot.js の入門的な話から\, 
 実際にプロダクトで採用した際の tips や\nハマりポイ
 ントまで幅広く共有し合える会にしましょう.\n来場者
 にはAbemaTVのiRingをプレゼント致します＾＾\n発表者\, LT
  もまだまだ募集中です!!\n\n\n開催概要\n\n日時　: 2017 2/
 2 19:30 ~\n場所　: サイバーエージェント(東京都渋谷区
 道玄坂１丁目１２−１ マークシティ13F)\n持ち物: ノー
 トPC(ハンズオンやるかも)\n\nタイムテーブル\n\n\n\n時間
 \n詳細\n\n\n\n\n\n19:00 ~ 19:30 (30min)\n開会\n\n\n\n19:30 ~ 19:40 (1
 0min)\nはじめに(79yuuki)\n\n\n\n19:40 ~ 20:00 (20min)\n発表1 - Riot
 でサーバレスにした話\n@room03\n\n\n20:00 ~ 20:20 (20min)\n発
 表2 - Riot.jsとフォームのデータバインディング\n@imakei_\
 n\n\n20:20 ~ 20:40 (20min)\n発表3 - v3の話. おまけ的にv4の展
 望(仮)\n@cognitom\n\n\n20:40 ~\nLT大会 & 懇親会\n\n\n\n残り\nお
 わりに\n\n\n\n残り\n撤収\n\n\n\n\n対象者\n\nRiot.js に興味
 のある方\nRiot.js を実際に採用して開発されている方(
 ぜひ発表を!)\nSPA 開発にあたって採用するフレームワ
 ークを迷われている方\nJavaScript はそんなに得意じゃな
 いけど SPA サイトを作りたい方\nAngularJS や React で消耗
 されている方\n\n\n\nLT大会\nLT の発表時間は一人 5~10分
 ほどです.\n懇親会がてらみんなで発表し合いましょう.
 \nLT登壇予定者リスト\n\n枠1 ... 『チームでの開発を改
 善するためにRiot.jsを導入したはなし』 by @nanawatari8\n枠
 2 ... 『Riot.js v3 migration道』 by @79yuuki\n枠3 ... 『Riot.jsを
 使ってAtom風のプラグイン機構を実装する』 by @h2so5 \n
 枠4 ...  『Riot.jsの導入に向いている案件、向いてない
 案件（仮）』  by @kuwahara_jsng\n\nLT登壇者は引き続き募集
 中です.\n発表したい方は下のコメント欄もしくは @phi_j
 p または  @79yuuki の方までご連絡ください.\n懇親会につ
 いて\nピザ? 寿司? \nお問い合わせ\n不明な点\, 参加に関
 する質問は下のコメント欄もしくは\,\nTwitter にて @phi_j
 p まで\, ご連絡ください.
LOCATION:サイバーエージェント 東京都渋谷区道玄坂１丁
 目１２−１ マークシティ13F
URL:https://techplay.jp/event/611394?utm_medium=referral&utm_source=ics&utm
 _campaign=ics
END:VEVENT
END:VCALENDAR
