BEGIN:VCALENDAR
VERSION:2.0
PRODID:-//https://techplay.jp//JP
CALSCALE:GREGORIAN
METHOD:PUBLISH
X-WR-CALDESC:Inside Frontend #1
X-WR-CALNAME:Inside Frontend #1
X-WR-TIMEZONE:Asia/Tokyo
BEGIN:VTIMEZONE
TZID:Asia/Tokyo
BEGIN:STANDARD
DTSTART:19700101T000000
TZOFFSETFROM:+0900
TZOFFSETTO:+0900
TZNAME:JST
END:STANDARD
END:VTIMEZONE
BEGIN:VEVENT
UID:612076@techplay.jp
SUMMARY:Inside Frontend #1
DTSTART;TZID=Asia/Tokyo:20170225T120000
DTEND;TZID=Asia/Tokyo:20170225T183000
DTSTAMP:20260422T222456Z
CREATED:20170126T082028Z
DESCRIPTION:イベント詳細はこちら\nhttps://techplay.jp/event/61207
 6?utm_medium=referral&utm_source=ics&utm_campaign=ics\n\nイベント概
 要\nInside Frontend #1 は「Web フロントエンドの現場とこれ
 からをつなぐカンファレンス」です。\nWeb 技術の可能
 性が広がると共に、Web フロントエンドと呼ばれる領域
 は多様化しています。さまざまな現場が今どうのよう
 な個別の問題に取り組んでいるのか、同時に Web が今
 後どのように発展していく可能性があるのか、これら
 を一緒に考えていく場です。\n本イベントでは、各社
 の現場で得られたノウハウや、これからの Web 技術に
 ついて、見る、聞く、話すなどして参加者同士の濃い
 コミュニケーションが生まれることを期待しています
 。本イベントの行動規範もご一読ください。\n【Twitter 
 でイベントの最新情報を発信しています!! → https://twit
 ter.com/insidefrontend 】\nコンテンツ\n「セミナー」と「AMA 
 ブース」のほか企業ブースなどを予定しています。\n
 セミナー\n各社のケーススタディの紹介やある分野の
 スペシャリストによる講演を行う、一般的なプレゼン
 テーションです。30 分のセッションを 2 トラック並行
 で 5 コマ、計 10 セッションを行う予定です。\n※ 各セ
 ミナー部屋には十分な席数を用意しますが、混雑時に
 はご協力ください。\nAMA ブース ( Ask Me Anything )\n特定の
 テーマについてブースのオーナーと自由に話をできる
 スペースを用意します。セッションとセッションの間
 のインターバルを長めにとり、その間に AMA ブースで
 の質疑応答や議論を通して、参加者同士の交流を図り
 ます。\n※ ブースという名称ですが約50人規模の小部
 屋で行われる予定です。混雑時には入れない場合もご
 ざいますのでご協力ください。\nタイムテーブル（予
 定）\nセミナーおよび AMA ブースについては後日 Web サ
 イトに詳細を掲載予定です。\n\n\n\n  時間\n  セミナーA\
 n  セミナーB\n\n\n\n\n  12:00 \n  開場\n\n\n  13:00 \n  開会、
 会場案内など\n\n\n  13:15-13:45 (30分) \n  多様化する利用
 環境とどう向き合うかYahoo! JAPAN@fukumotoy\n  Web over ServiceW
 orker@jxck_\n\n\n  13:50-14:15 (25分) \n  \n    インターバル（AMA
  ブース・企業ブース・交流時間）\n    \n      フロント
 エンドの課題を啓蒙する方法 by @yhassy\n      アクセシビ
 リティ by @fukumotoy @makojo\n      Progressive Web Apps by @jxck_\n  
     企業ブース by Yahoo! JAPAN\, CyberAgent\n    \n  \n\n\n  14:20-1
 4:50 (30分) \n  Polyfills are part of the webFT & Nikkei @triblondon* 
 日本語字幕あり\n  Web フロントエンドにおけるコンポ
 ーネント化のアプローチCyberAgent @1000ch\n\n\n  14:55-15:20 (2
 5分) \n  \n    インターバル（AMA ブース・企業ブース・
 交流時間）\n    \n      フロントエンドの課題を啓蒙す
 る方法 by @yhassy\n      アクセシビリティ by @makojo\n      Pr
 ogressive Web Apps by @jxck_\n      企業ブース by Yahoo! JAPAN\, Cyb
 erAgent\n    \n  \n\n\n  15:25-15:55 (30分) \n  アメブロ2016: 実録
 、アメブロフロントリニューアル275日CyberAgent @herablog\n
   Refactoring CSS: 管理されたカオスへの道のり@hiloki @cssrad
 ar\n\n\n  16:00-16:25 (25分) \n  \n    インターバル（AMA ブー
 ス・企業ブース・交流時間）\n    \n      パフォーマン
 ス by CyberAgent @houbin217jz\n      CSS Evolution by @hiloki @cssradar\
 n      React.js by @pirosikick\n      企業ブース by Yahoo! JAPAN\, C
 yberAgent\n    \n  \n\n\n  16:30-17:00 (30分) \n  karmaを使ったSPA
 向けのE2Eテスト技法@kyo_ago\n  データビジュアライゼー
 ションの作り方@_shimizu\n\n\n  17:05-17:30 (25分) \n  \n    イ
 ンターバル（AMA ブース・企業ブース・交流時間）\n    
 \n      パフォーマンス by CyberAgent @houbin217jz\n      CSS Evolu
 tion by @hiloki @cssradar\n      React.js by @pirosikick\n      企業ブ
 ース by Yahoo! JAPAN\, CyberAgent\n    \n  \n\n\n  17:35-18:05 (30分) 
 \n  WebGL/WebVR for FrontEnd Engineer@yomotsu\n  JSON Schema in Web Front
 endYahoo! JAPAN @pirosikick\n \n\n\n  18:05 \n  アンケートタイム
 のち、閉会\n\n\n\n\n場所\nヤフー株式会社 紀尾井タワー
  セミナールーム（受付は2階）\n〒102-8282 東京都千代田
 区紀尾井町1-3 東京ガーデンテラス紀尾井町 紀尾井タ
 ワー\n\n南北線 永田町駅9a出口直結\n半蔵門線 永田町駅
 7番出口より徒歩2分\n丸ノ内線、銀座線　赤坂見附駅D
 出口より徒歩2分\n有楽町線 永田町駅5番出口方面より
 徒歩3分\n\n共催各社\n本企画は、Web フロントエンド系
 の勉強会を独自開催している各社の有志で運営してい
 ます。\n\nヤフー株式会社 / SCRIPTY\n日本経済新聞社 / Fro
 ntend Meetup Tokyo\n株式会社サイバーエージェント / Frontren
 d powered by CyberAgent\, Inc\n\n更新履歴\n\n01/26 公開\n
LOCATION:ヤフー株式会社 紀尾井タワー セミナールーム（
 受付は2階） 東京都千代田区紀尾井町1-2 東京ガーデン
 テラス紀尾井町 (紀尾井タワー)
URL:https://techplay.jp/event/612076?utm_medium=referral&utm_source=ics&utm
 _campaign=ics
END:VEVENT
END:VCALENDAR
