BEGIN:VCALENDAR
VERSION:2.0
PRODID:-//https://techplay.jp//JP
CALSCALE:GREGORIAN
METHOD:PUBLISH
X-WR-CALDESC:MySQL最新ソリューションセミナー　～エンター
 プライズに求めるべき高可用性＆セキュリティ～
X-WR-CALNAME:MySQL最新ソリューションセミナー　～エンター
 プライズに求めるべき高可用性＆セキュリティ～
X-WR-TIMEZONE:Asia/Tokyo
BEGIN:VTIMEZONE
TZID:Asia/Tokyo
BEGIN:STANDARD
DTSTART:19700101T000000
TZOFFSETFROM:+0900
TZOFFSETTO:+0900
TZNAME:JST
END:STANDARD
END:VTIMEZONE
BEGIN:VEVENT
UID:612408@techplay.jp
SUMMARY:MySQL最新ソリューションセミナー　～エンタープ
 ライズに求めるべき高可用性＆セキュリティ～
DTSTART;TZID=Asia/Tokyo:20170224T143000
DTEND;TZID=Asia/Tokyo:20170224T171500
DTSTAMP:20260420T043406Z
CREATED:20170131T083616Z
DESCRIPTION:イベント詳細はこちら\nhttps://techplay.jp/event/61240
 8?utm_medium=referral&utm_source=ics&utm_campaign=ics\n\nエンタープ
 ライズ・システムに求められる「高可用性」と「セキ
 ュリティ」をテーマに、MySQL最新情報や最新ソリュー
 ションをご紹介します\n\nオープンソースである「MySQL
 」はエンタープライズ利用にどこまで適応するのか？\
 n\nMySQLが世界で最も利用されているオープンソース・
 データベースであっても、\nそれだけでは企業システ
 ムとして、より "安心"、"安全" に使っていける訳では
 ありません。\nMySQLをどのように、より "安心"、"安全" 
 な仕組みや環境にしていくのかが重要なのです。\n\n今
 回は、特に以下のソリューションを中心に具体的なノ
 ウハウや注意点などもご紹介します。\n\n■ MySQL Cluster 
 7.5\n\n　　従来より高可用性と高性能を兼ね備えた分散
 型のRDBMSクラスターとして注目度が高いMySQL Cluster。\n
 　　仕様や機能が大幅に改良された最新バージョンが2
 016年10月にリリース。\n\n■ MySQL Group Replication\n\n　　201
 6年12月にGAがリリースされたばかりの最新のマルチマ
 スター型の高可用性ソリューション。\n　　同じマル
 チマスター型ソリューション Galera Cluster の実績を多く
 持つスマートスタイルが、\n　　国内ベンダーとして
 は先駆けて検証してきた Group Replication の事実を紹介。
 \n\n■ PISO for MySQL　\n\n　　PISOは、OracleDBやSQL Serverなど
 のDBを中心に4\,110以上のライセンスが導入されている
 データアクセス監視ツール。\n\n　　2016年8月のPostgreSQL
 版のリリースに続き、2017年2月よりMySQL版がリリースさ
 れます。\n\nセミナー詳細ページはこちら\n\n開催概要\n
 \n開催日：　2017年2月24日（金）14:30～17:15　（14:00開場
 ）\n\n参加費：　無料\n\n対象  ：　MySQLの最新動向、高
 可用性やセキュリティにご興味をお持ちの方 / MySQLの
 導入を検討されている企業のご担当者様\n\n主催： 　
 株式会社スマートスタイル\n\n協賛： 　日本オラクル
 株式会社　　株式会社インサイトテクノロジー\n\n※　
 受付で名刺を1枚頂戴いたしますのでご用意下さい\n\n
 お申込\n\n本ページもしくはconnpassお申込下さい\n\nプロ
 グラム内容\n\n1） 「MySQL最新情報」\n\n　　\n＜日本オ
 ラクル株式会社　MySQL グローバル・ビジネス・ユニッ
 ト \n\nマスタープリンシパルセールスコンサルタント  
 杉山真也 氏＞\n\n・MySQL 8.0 DMR 及びMySQL Cluster 7.5 GA　\n\n
 2） 「”MySQL Group Replication “GAリリースで大注目！！　
 ～[第一弾]従来のHAソリューションと比較してみた～」
 \n\n＜株式会社スマートスタイル　MySQLソリューション
 事業部データベース部　高橋嘉 氏＞\n\n・Group Replication
 の概要\n\n・MySQLのHAソリューションパターン\n\n・HAと
 してのGroupReplicationの仕組み\n\n・Group Replicationを使う上
 での注意点\n\n3）「MySQLにおけるセキュリティ対応の重
 要性」\n\n＜株式会社インサイトテクノロジー　プロダ
 クトコンサルティング部　村澤崇信 氏＞\n\n・MySQLにお
 けるセキュリティ対応の重要性\n\n・PISO for MySQLの紹介
 　（MySQL向けデータアクセス監視ツール）\n\n備考\n\nお
 問合せ\n\n株式会社スマートスタイル　セミナー運営事
 務局\n\ne-mail　:　marketing@s-style.co.jp\n
LOCATION:株式会社スマートスタイル　本社　マルチファン
 クションルーム 東京都新宿区西新宿6-5-1 　新宿アイラ
 ンドタワー２２F
URL:https://techplay.jp/event/612408?utm_medium=referral&utm_source=ics&utm
 _campaign=ics
END:VEVENT
END:VCALENDAR
