BEGIN:VCALENDAR
VERSION:2.0
PRODID:-//https://techplay.jp//JP
CALSCALE:GREGORIAN
METHOD:PUBLISH
X-WR-CALDESC:【今年こそは！】情報処理技術者試験もくも
 く勉強会 [秋葉原]
X-WR-CALNAME:【今年こそは！】情報処理技術者試験もくも
 く勉強会 [秋葉原]
X-WR-TIMEZONE:Asia/Tokyo
BEGIN:VTIMEZONE
TZID:Asia/Tokyo
BEGIN:STANDARD
DTSTART:19700101T000000
TZOFFSETFROM:+0900
TZOFFSETTO:+0900
TZNAME:JST
END:STANDARD
END:VTIMEZONE
BEGIN:VEVENT
UID:612527@techplay.jp
SUMMARY:【今年こそは！】情報処理技術者試験もくもく勉
 強会 [秋葉原]
DTSTART;TZID=Asia/Tokyo:20170209T193000
DTEND;TZID=Asia/Tokyo:20170209T230000
DTSTAMP:20260424T182608Z
CREATED:20170201T101032Z
DESCRIPTION:イベント詳細はこちら\nhttps://techplay.jp/event/61252
 7?utm_medium=referral&utm_source=ics&utm_campaign=ics\n\nもくもく会
 とは？\n一つの場所に集まって、各自がやりたいこと(
 勉強したり作業したり本を読んだり)をやる会です。家
 ではどうも集中できない方、集まって作業をしたい方
 、知り合いを増やしたい方におすすめです。\n是非お
 気軽にご参加ください。\nこの会は？\nこれから資格取
 得を目指す方に優しいもくもく会です。\n参加者が気
 軽に質問出来るような場所を目指しております。\n主
 催者は7年くらい前にセキュリティスペシャリストを取
 得して以来試験とは遠ざかっております。\nネットワ
 ークやデータベースなどの普遍的な内容であれば\n微
 力ながら分からない箇所の解説などお手伝い出来るか
 と思います。\nやること\n・情報処理技術者試験の参考
 書、問題集など\n・書籍を読んで分からないところは
 質問してみましょう（答えられるとは限りません）\n
 日時\n2016年2月9日（木）19時30分〜23時\nスケジュール\n\
 n\n\n時間\n内容\n\n\n\n\n18:00 -\n開場\n\n\n19:30 - 19:35\n簡単
 な挨拶 & やること共有など\n\n\n19:35 - 23:00\nもくもく勉
 強 & 相談、雑談など\n\n\n\n※途中参加や途中退出は自
 由です。\n持ち物\n各自もくもくに必要なもの(PC、書籍
 など）\nおやつの差し入れ大歓迎\n※電源、Wi-Fiはあり
 ます。\n参加費\n1\,000円 (会場費)\n開催場所\nコワーキ
 ングスペース秋葉原 Weeyble（ウィーブル)\n東京都千代
 田区神田須田町２丁目１９−２３(野村第３ビル４階)\n
 秋葉原駅電気街口または中央改札口より徒歩3分。\n都
 営新宿線 岩本町駅徒歩3分、銀座線 神田駅6番出口徒歩
 2分
LOCATION:コワーキングスペース秋葉原Weeyble 東京都千代田
 区神田須田町２丁目１９−２３ (野村第３ビル ４階)
URL:https://techplay.jp/event/612527?utm_medium=referral&utm_source=ics&utm
 _campaign=ics
END:VEVENT
END:VCALENDAR
