BEGIN:VCALENDAR
VERSION:2.0
PRODID:-//https://techplay.jp//JP
CALSCALE:GREGORIAN
METHOD:PUBLISH
X-WR-CALDESC:優勝賞金1000万に向けて、LINE BOT AWARDS もくもく
 会 2日目！
X-WR-CALNAME:優勝賞金1000万に向けて、LINE BOT AWARDS もくもく
 会 2日目！
X-WR-TIMEZONE:Asia/Tokyo
BEGIN:VTIMEZONE
TZID:Asia/Tokyo
BEGIN:STANDARD
DTSTART:19700101T000000
TZOFFSETFROM:+0900
TZOFFSETTO:+0900
TZNAME:JST
END:STANDARD
END:VTIMEZONE
BEGIN:VEVENT
UID:612581@techplay.jp
SUMMARY:優勝賞金1000万に向けて、LINE BOT AWARDS もくもく会 2
 日目！
DTSTART;TZID=Asia/Tokyo:20170209T190000
DTEND;TZID=Asia/Tokyo:20170209T220000
DTSTAMP:20260423T111432Z
CREATED:20170201T181219Z
DESCRIPTION:イベント詳細はこちら\nhttps://techplay.jp/event/61258
 1?utm_medium=referral&utm_source=ics&utm_campaign=ics\n\nLINE BOT AWARDS 
 もくもく会\n優勝賞金1\,000万円のLINE BOT AWARDSの開発者
 向けのイベントとなります。\nLINE BOT AWARDSの概要やパ
 ートナーメニューの説明の後、各自もくもく開発をし
 ます。\nBOT AWARDS締め切りに向けて開発時間確保のつも
 りでご参加ください！\nLINE社内のエンジニアも参加予
 定ですので技術的な質問を直接するチャンスです。\nht
 tps://botawards.line.me/ja/ \n開催概要\n・日程：2017年2月9日
 （木) 19:00-22:00\n・参加者募集数：30名\n・参加費用：無
 料\n・主催：LINE BOT AWARDS事務局\n・運営協力：dotstudio\n\
 n入館について\nヒカリエ11Fにイベント用の個別受付が
 設置されますので、イベント用受付の案内に従って27
 階にお越しください。\n18:30~19:15の時間で受付を設置し
 ます。\n遅れて参加の方は #BOTAWARDS のハッシュタグで
 ツイートして連絡してください。\nタイムテーブル\n\n\
 n\n時間\n予定\n\n\n\n\n19:00〜\n開場\n\n\n19:20-19:30\nオープ
 ニング / BOT AWARDS概要説明\n\n\n19:30-21:30\nもくもく会\n\n\
 n21:30-22:00\n軽く懇親会\n\n\n\n役立ちリンク\n\nMessagingAPI
 のリファレンス\nLINE BOT AWARDS公式サイト\nLINE Beacon購入
 ページ\nLINE Beacon設定ページ\nLINE_DEV 公式ツイッターア
 カウント\nFacebook グループ\nCodeZine 「日本一わかりやす
 いLINE Bot開発講座」連載一覧\n\n各種SDK\n\nJava\nPHP\nGo\nPer
 l\nRuby\nPython\n\nご注意\n\nイベント内容は一部変更にな
 る可能性がございます。\nイベント当日の様子は後日
 何らかの媒体にて公開させていただくことがございま
 す。\n
LOCATION:LINE株式会社 東京都渋谷区渋谷2-21-1 (渋谷ヒカリ
 エ 27階)
URL:https://techplay.jp/event/612581?utm_medium=referral&utm_source=ics&utm
 _campaign=ics
END:VEVENT
END:VCALENDAR
