BEGIN:VCALENDAR
VERSION:2.0
PRODID:-//https://techplay.jp//JP
CALSCALE:GREGORIAN
METHOD:PUBLISH
X-WR-CALDESC:オンラインワークショップ
X-WR-CALNAME:オンラインワークショップ
X-WR-TIMEZONE:Asia/Tokyo
BEGIN:VTIMEZONE
TZID:Asia/Tokyo
BEGIN:STANDARD
DTSTART:19700101T000000
TZOFFSETFROM:+0900
TZOFFSETTO:+0900
TZNAME:JST
END:STANDARD
END:VTIMEZONE
BEGIN:VEVENT
UID:612856@techplay.jp
SUMMARY:オンラインワークショップ
DTSTART;TZID=Asia/Tokyo:20170209T210000
DTEND;TZID=Asia/Tokyo:20170210T000000
DTSTAMP:20260423T002418Z
CREATED:20170204T061511Z
DESCRIPTION:イベント詳細はこちら\nhttps://techplay.jp/event/61285
 6?utm_medium=referral&utm_source=ics&utm_campaign=ics\n\n※※前回は
 雑談回にしたため、第４回の再開催となります。※※ 
  \n人工知能の開発での活用が期待される量子コンピュ
 ータの仕組みについて勉強します。\nまた、量子物理
 学なんかは全くわからない所から量子コンピュータも
 どきが作れないか模索します。\n(相当難しいので何も
 出来上がらないかもしれません。)  \n必要なもの：Pytho
 nが動くマシン(pipを使える必要あり)  、Pythonでコード
 が書けること\n開催数：全５回ぐらいを予定\n開催場所
 ：Skype　https://join.skype.com/J1kNfXUAaIr0\n※初めて参加され
 る方がいらっしゃいましたら、上記ルームへアクセス
 し、簡単な挨拶をお願いします。  \n前回の内容\nhttps:/
 /speakerdeck.com/hiroki8080/onrainwakusiyotupuzi-liao-2  \n・巡回セ
 ールスマン問題を量子アニーリングに当てはめて実装
 するには\n・クラス構成
LOCATION:オンライン
URL:https://techplay.jp/event/612856?utm_medium=referral&utm_source=ics&utm
 _campaign=ics
END:VEVENT
END:VCALENDAR
