BEGIN:VCALENDAR
VERSION:2.0
PRODID:-//https://techplay.jp//JP
CALSCALE:GREGORIAN
METHOD:PUBLISH
X-WR-CALDESC:Linux女子部09 「新定番！10年効く分散ストレー
 ジ技術 Ceph勉強会」
X-WR-CALNAME:Linux女子部09 「新定番！10年効く分散ストレー
 ジ技術 Ceph勉強会」
X-WR-TIMEZONE:Asia/Tokyo
BEGIN:VTIMEZONE
TZID:Asia/Tokyo
BEGIN:STANDARD
DTSTART:19700101T000000
TZOFFSETFROM:+0900
TZOFFSETTO:+0900
TZNAME:JST
END:STANDARD
END:VTIMEZONE
BEGIN:VEVENT
UID:61293@techplay.jp
SUMMARY:Linux女子部09 「新定番！10年効く分散ストレージ技
 術 Ceph勉強会」
DTSTART;TZID=Asia/Tokyo:20140807T190000
DTEND;TZID=Asia/Tokyo:20140807T210000
DTSTAMP:20260420T184943Z
CREATED:20140701T190031Z
DESCRIPTION:イベント詳細はこちら\nhttps://techplay.jp/event/61293
 ?utm_medium=referral&utm_source=ics&utm_campaign=ics\n\n開催前のお
 知らせ\n\n\n【当日参加できない方】第一部「Ceph アー
 キテクチャ解説」をschooで配信しますので、ぜひご利
 用下さい。schooの配信チャンネル登録は以下schoo公式ペ
 ージより願いしますhttp://schoo.jp/class/1012\n【一般枠の方
 】事情により参加が難しい場合は速やかにキャンセル
 処理をお願いします。多数の希望者がキャンセル待ち
 となっていますので、ご協力の程よろしくお願い致し
 ます。\n【参加される方】開催当日は、沢山の方が参
 加されます。現在のところ全員が相席となりますので
 ご理解ご協力をお願い致します。また遅刻者は立ち見
 になる可能性もありますので、予めご了承下さい。\n\n
 \n～10年効く分散ストレージ技術～ Ceph勉強会\n\nいま、
 OSSのストレージ技術が注目されています。本勉強会で
 は、その技術の一つであるCeph(セフ)を詳解します。 \n\
 n第一部では、まず分散ストレージ技術とは何かを易し
 く解説し、Cephの概念であるRADOS (Reliable Autonomic Distribute
 d Object Storage)の特徴と、アルゴリズムで用いられるCRUSH
 の優位性、そしてOpenStackとの統合について解説いただ
 きます。第二部では、Cephが他のファイルシステムとど
 う異なるのか、そして気になる安定性について経験談
 を交えてご講演いただきます。\n\n概要\n\n主催\n\nLinux
 女子部\n\n会場提供\n\nレッドハット株式会社\n\n参加費\
 n\n無料\n\n対象(あくまでも目安です)\n\nCeph入門者から
 ベテランまで\n\nインフラ系エンジニア、ソフトウェア
 エンジニア、OpenStackエンジニア、情報系の学生\n\n参加
 申込み方法\n\n男性は「一般枠」、女性は「女子枠」、
 学生は「学生枠」を選択してください。男女共学で学
 んでいきましょう。\n\n講師\n\n第一部 岩尾 はるか 氏(@
 Yuryu)\n第二部 小原 泰弘 氏\n予習資料\n\n以下の資料を
 ご確認ください。※発表者が当日利用する資料とは異
 なります\n\nCeph アーキテクチャ概説\n\n8/7(木)スケジュ
 ール\n\n\n\n\n時間\n内容\n\n\n\n    \n        18:30～19:00\n      
   開場\n    \n\n    \n        18:55～19:00\n        会場説明 (開
 演5分前に会場説明を始めさせていただきます)\n    \n\n 
    \n        19:00～19:50\n        第一部「Ceph アーキテクチ
 ャ解説」【講師】岩尾 はるか 氏\n    \n\n    \n        19:50
 ～20:00\n        プチ質問タイム(10分)\n    \n\n    \n        20:
 00～20:10\n        休憩(10分)\n    \n\n    \n        20:10～20:40\n 
        第二部「Cephにまつわる経験談」【講師】小原 泰
 弘 氏\n    \n\n    \n        20:40～20:50\n        ハイパー質問
 タイム(10分)\n    \n    \n        20:50～20:55\n        OCDETとユ
 ーザ会の活動実績紹介日本Cephユーザー会 ファウンダ
 ー 北川 大輔  氏(@zero_root)\n    \n    \n        20:55～21:00\n  
       「まったく意味ないけど5分でDocker使ってCeph体験
 しようぜ！」しおばら ひろあき 氏(@h_sinohara)\n    \n\n   
  \n        21:00頃\n        閉会\n    \n\n    \n        希望者の
 み\n        懇親会\n    \n\n\n会場利用や当日の受付につい
 て\n\n\n恵比寿開催です。開催場所にご注意下さい\n5Fの
 会場に直接お越し下さい。(総合受付の8Fではありませ
 んので注意してください)\n受付時はconnpassにより発行
 された受付票の番号とユーザー名を受付担当にお伝え
 下さい\n会場ビルは、20時以降は入り口が施錠されて入
 れなくなります。 必ず、20時までに会場に入るように
 お願いします\n万一20時を過ぎた際は、2つのハッシュ
 タグ #ljstudy #ボスケテ でTweetいただいて、関係者が気
 づいた際は１F通用口まで迎えに行きますが、Tweetを見
 張っている担当者がいるわけではありませんので、す
 ぐに迎えにいけるとお約束はできません。予めご了承
 下さい。\n会場内には売店がありません。飲み物、軽
 食は各自持ち込み下さい\n必要に応じて電源タップな
 どをご用意ください\n会場には無線LANの用意はござい
 ますが、場合によっては低速になるかもしれません。
 確実にインターネット接続されたい方は、PocketWifi等を
 ご持参下さい。\n電源はございますが、Apple製品のアダ
 プターはそのまま接続できない可能性があるので、延
 長ケーブルが必要かもしれません\n子連れ参加ご希望
 の場合はコメント欄にてご連絡頂くか、Twitter @mana_cat 
 までご連絡ください(休憩室を用意しております)\n貴重
 品の管理は参加者ご自身で行なっていただきますよう
 、よろしくお願いします\n\n\n本勉強会は、会場をご提
 供いただくレッドハット様とは、会場の提供以外の関
 係はございません。開催中の内容は、当勉強会や発表
 者の見解や意見であり、必ずしもレッドハット様の見
 解・意見を代弁するものではありません。\n\nコミュニ
 ティからのお願い\n\n当勉強会は、ITエンジニアのスキ
 ルアップ支援のために無償で開催しております。その
 ため、「自発的に勉強したい方のみ」に参加を限定さ
 せて頂いております。\nLinux女子部コミュニティはボラ
 ンティアによる運営を行っており、企業からの資金提
 供は受けておりません。企業セミナーとは異なります
 ことをご理解ください。\n\nまた、講師の先生は参加す
 るエンジニアのスキルアップのために無償にて引き受
 けて頂いており、業務時間外に資料を作成いただいて
 おります。 その点も十分にご理解の上、自覚を持って
 ご参加ください。\n\n開催当日、時間に余裕のある参加
 者の皆様は、後片付けやゴミの分別など、可能な範囲
 でご協力いただけますと助かります。\n\n注意\n\n以下
 のような迷惑行為は禁止です。 もし迷惑行為を 取ら
 れた方は、即刻退場いただくとともに、次回以降の参
 加をお断りします。\n\n\n講師および参加者に対して、
 勉強会の妨害と見られる言動や行動\n酒気帯び、迷惑
 行為、セクハラ\n人材紹介、転職、宗教、マルチ商法
 など、本勉強会とは関係のない勧誘 \n\n\n開催中の事故
 ・天災・その他の事象によってもたらされたすべての
 不利益に関して、当勉強会、および会場提供者はその
 責任を負いかねます。\n\n本勉強会の問い合わせ先\n\nLi
 nux女子部主催者@mana_cat まで連絡するか、コメント欄で
 ご相談ください。
LOCATION:レッドハット株式会社　恵比寿ネオナート　5階
 セミナー会場 東京都渋谷区恵比寿4丁目1番18号
URL:https://techplay.jp/event/61293?utm_medium=referral&utm_source=ics&utm_
 campaign=ics
END:VEVENT
END:VCALENDAR
