BEGIN:VCALENDAR
VERSION:2.0
PRODID:-//https://techplay.jp//JP
CALSCALE:GREGORIAN
METHOD:PUBLISH
X-WR-CALDESC:【ご好評につき増席いたしました！】【女性
 限定】 R言語によるデータ分析入門、ハンズオンセミ
 ナー！（子連れ参加OK）
X-WR-CALNAME:【ご好評につき増席いたしました！】【女性
 限定】 R言語によるデータ分析入門、ハンズオンセミ
 ナー！（子連れ参加OK）
X-WR-TIMEZONE:Asia/Tokyo
BEGIN:VTIMEZONE
TZID:Asia/Tokyo
BEGIN:STANDARD
DTSTART:19700101T000000
TZOFFSETFROM:+0900
TZOFFSETTO:+0900
TZNAME:JST
END:STANDARD
END:VTIMEZONE
BEGIN:VEVENT
UID:612979@techplay.jp
SUMMARY:【ご好評につき増席いたしました！】【女性限定
 】 R言語によるデータ分析入門、ハンズオンセミナー
 ！（子連れ参加OK）
DTSTART;TZID=Asia/Tokyo:20170318T133000
DTEND;TZID=Asia/Tokyo:20170318T170000
DTSTAMP:20260421T034320Z
CREATED:20170206T072228Z
DESCRIPTION:イベント詳細はこちら\nhttps://techplay.jp/event/61297
 9?utm_medium=referral&utm_source=ics&utm_campaign=ics\n\n【ご好評に
 つき増席いたしました！】【女性限定】 R言語による
 データ分析入門、ハンズオンセミナー！（子連れ参加O
 K）概要近年注目を浴びているITキーワードにはビッグ
 データ、データサイエンスなどデータ活用に関するも
 のが多くあります。2020年頃までにネットワークにつな
 がるセンサーや機器は圧倒的な数になると予測されて
 おり、そこから得られる膨大なデータの活用が期待さ
 れています。本セミナーでは、統計分析フリーソフト
 「R」を用いてハンズオン形式で実際のデータを使った
 基礎的なデータ分析を実践していただきます。R言語を
 使ったデータ分析がどのようなものか触れてみたい方
 はぜひご参加ください！統計分析ツールとして世界的
 に普及し、今後も拡張が見込まれる「R」を用いて、R
 言語・データ分析の基礎を習得していただければと思
 います。R言語未経験者の女性を対象としたセミナーで
 すが、何等かのプログラミング経験がある方を想定し
 ています。また、キッズスペースもございますので、
 お子様・ご主人様とご一緒にファミリーでもご参加い
 ただけます！登壇者                                Accenture Tech
 nology / Senior Manager            Tomotaka. Miyamae            アクセ
 ンチュアのテクノロジー部門のトレーニング統括。小
 売業、エンターテイメント業等に対する業務改革の企
 画・システム構築経験を経て、社内の社員に対するト
 レーニングの戦略・企画検討と運用を担う。             
                                Accenture Technology            Risa. Mats
 umoto            2009年新卒入社。R・SAS・SPSSを使ったデー
 タ分析経験から直近は新入社員向けにR等を使ったデー
 タ分析基礎トレーニングの作成・運営を担当。 2児(4歳
 \, 1歳)の母            タイムスケジュール                    
                     時間                内容                         
                13:00〜13:30                受付                       
                  13:30〜14:00                                    オー
 プニング：「データ分析背景、R概要」                     
                                    14:00〜16:00                         
            「R」用いたデータ分析、ハンズオンセミナー 
                                                        16:00〜16:05     
            総括                                        16:05〜16:10   
              アンケート回答タイム                              
           16:10〜17:00                懇親会                         
    ※ 当日予告なく時間配分、内容が変更になる可能性
 がございます。    ※ 当日はメディア取材が入る可能
 性がございます。参加対象            女性        何かし
 らプログラミング経験者        R未経験者の方    持ち物
             名刺１枚                    以下のリンクより統
 計分析フリーソフト「R」および「R」の統合開発環境(
 無料)「RStudio Desktop」をインストールしたノートPC。    
                     R：http://cran.ism.ac.jp/                        RSt
 udio Desktop(free)：https://www.rstudio.com/products/rstudio/download/  
           参加費無料主催                
LOCATION:TECH PLAY SHIBUYA 東京都渋谷区宇田川町20-17 NMF渋谷公
 園通りビル 8F
URL:https://techplay.jp/event/612979?utm_medium=referral&utm_source=ics&utm
 _campaign=ics
END:VEVENT
END:VCALENDAR
