BEGIN:VCALENDAR
VERSION:2.0
PRODID:-//https://techplay.jp//JP
CALSCALE:GREGORIAN
METHOD:PUBLISH
X-WR-CALDESC:【好評により110席増席！】サムザップテック
 ナイトvol.3　「"勝ち続ける"スマホゲームの運用ノウハ
 ウ～長寿タイトルが明かすデータ活用術」
X-WR-CALNAME:【好評により110席増席！】サムザップテック
 ナイトvol.3　「"勝ち続ける"スマホゲームの運用ノウハ
 ウ～長寿タイトルが明かすデータ活用術」
X-WR-TIMEZONE:Asia/Tokyo
BEGIN:VTIMEZONE
TZID:Asia/Tokyo
BEGIN:STANDARD
DTSTART:19700101T000000
TZOFFSETFROM:+0900
TZOFFSETTO:+0900
TZNAME:JST
END:STANDARD
END:VTIMEZONE
BEGIN:VEVENT
UID:616455@techplay.jp
SUMMARY:【好評により110席増席！】サムザップテックナイ
 トvol.3　「"勝ち続ける"スマホゲームの運用ノウハウ～
 長寿タイトルが明かすデータ活用術」
DTSTART;TZID=Asia/Tokyo:20170420T193000
DTEND;TZID=Asia/Tokyo:20170420T213000
DTSTAMP:20260422T045238Z
CREATED:20170313T032152Z
DESCRIPTION:イベント詳細はこちら\nhttps://techplay.jp/event/61645
 5?utm_medium=referral&utm_source=ics&utm_campaign=ics\n\n【サムザッ
 プテックナイトとは？】\n\n「戦国炎舞 ‐KIZNA‐」をは
 じめとしたスマートフォンゲームを開発・運用する株
 式会社サムザップが開催する勉強会です。\n\nテーマに
 合わせて専門性の高い方をお呼びし、全てのスマート
 フォンゲームクリエイターの方々に\n\n「実務で活かせ
 る生の情報」を持ち帰っていただける勉強会を実施し
 、\nスマートフォンゲーム業界を盛り上げていくこと
 を目的に定期的に開催する予定です。\n\n無料イベント
 となっておりますので、ぜひお気軽にご参加ください
 ！\n懇親会ではフード・ドリンクもご用意しておりま
 す◎。\n\n【サムザップテックナイトvol.3概要】\n\n株式
 会社スクウェア・エニックス「乖離性ミリオンアーサ
 ー」と株式会社サムザップ「戦国炎舞 –KIZNA-」の運用
 についてパネルディスカッションを行います。\n\nタイ
 トルは\n\n「"勝ち続ける"スマホゲームの運用ノウハウ
 ～長寿タイトルが明かすデータ活用術」\n\nスマートフ
 ォンゲーム業界でも屈指の長期運用タイトルを抱える2
 社が、実体験をもとに運用ノウハウを語ります。\n\n今
 まで語られることのなかった、2タイトルのデータ運用
 ノウハウなど、ここでしか聞けない内容にもご期待く
 ださい。\n\n懇親会ではフード・ドリンクもご用意して
 おります。お気軽にご参加ください。\n\n【登壇者プロ
 フィール】\n\nパネリスト\n\n株式会社スクウェア・エ
 ニックス 鈴木大地（すずき・たいち）氏\n\n\n\n2010年よ
 りオンラインゲーム運営に従事。\n大手オンラインゲ
 ーム運営会社で「ファンタジーアース ゼロ」の\nイベ
 ント施策立案・KPI分析・オフラインイベントの運用な
 どに携わる。\n2014年よりソーシャルゲーム業界に転身
 し、株式会社スクウェア・エニックスにて「ミリオン
 アーサー」シリーズに関わる。\n現在は「乖離性ミリ
 オンアーサー」にて運営プロデューサーを担当。\n業
 界屈指の長寿タイトルにまつわるノウハウを保持して
 いる。\n\n株式会社サムザップ 山下敬介（やました・
 けいすけ）氏\n\n\n\n大手SIerにて証券業務に従事。\nプ
 ライベートでMMOにハマり、某ゲームではトップギルド
 に生息していた経歴を持つ。\nその後、2012年からスマ
 ートフォンゲーム業界に転身。\n分析部門にてデータ
 マイニングを経験後、\nR&D部門にて統計解析を用いた
 研究開発や社内KPI講師等を担当。\n2014年からは株式会
 社サムザップにてマーケティングDiv改善Gリーダーに就
 任。\n戦国炎舞 -KIZNA-等のヒット作の分析環境構築～独
 自モデルによる戦略面の改善コンサル迄幅広く手掛け
 ている。\n\nモデレーター\n\n株式会社サムザップ 飯田
 隼一（いいだ・じゅんいち）氏\n\n\n\nゲームデザイナ
 ー。\n美大卒業後、2012年よりコンシューマゲーム会社
 、モバイルゲーム会社にてゲームデザイナーとして新
 規開発から運用までを経験。\nその後海外支社の取締
 役として、世界展開タイトルのプロデュース・ディレ
 クションを手がける。\n複数の地域での開発経験に基
 づいたゲームデザインと、美的知識を活かしたディレ
 クションを得意とする。\n現在、株式会社サムザップ
 にてプロデューサーとして意欲的に新規タイトルを企
 画・開発中。\n
LOCATION:TECH PLAY SHIBUYA 東京都渋谷区宇田川町20-17 NMF渋谷公
 園通りビル 8F
URL:https://techplay.jp/event/616455?utm_medium=referral&utm_source=ics&utm
 _campaign=ics
END:VEVENT
END:VCALENDAR
