BEGIN:VCALENDAR
VERSION:2.0
PRODID:-//https://techplay.jp//JP
CALSCALE:GREGORIAN
METHOD:PUBLISH
X-WR-CALDESC:【特別無料】緊急開催！IoTもくもく勉強会3/18
 【先着６名】
X-WR-CALNAME:【特別無料】緊急開催！IoTもくもく勉強会3/18
 【先着６名】
X-WR-TIMEZONE:Asia/Tokyo
BEGIN:VTIMEZONE
TZID:Asia/Tokyo
BEGIN:STANDARD
DTSTART:19700101T000000
TZOFFSETFROM:+0900
TZOFFSETTO:+0900
TZNAME:JST
END:STANDARD
END:VTIMEZONE
BEGIN:VEVENT
UID:616728@techplay.jp
SUMMARY:【特別無料】緊急開催！IoTもくもく勉強会3/18【先
 着６名】
DTSTART;TZID=Asia/Tokyo:20170318T120000
DTEND;TZID=Asia/Tokyo:20170318T143000
DTSTAMP:20260424T135801Z
CREATED:20170315T181022Z
DESCRIPTION:イベント詳細はこちら\nhttps://techplay.jp/event/61672
 8?utm_medium=referral&utm_source=ics&utm_campaign=ics\n\n\n\ndoorkeeper
 から引っ越してきました。\nhttps://manage.doorkeeper.jp/groups
 /yokohamaiot\nIoTものづくり勉強会\n概要\n横浜にて、IoTも
 のづくり勉強会を開催します！\nロボットやマイコン
 に興味のある方、是非ご参加ください。\nもくもく（
 自習）勉強会になります。基本的には、参考になるweb
 サイトを紹介しますので、それを見て自習となります
 。\nＩｏＴがはじめての方でも大丈夫ですが、講義形
 式ですべて教えて欲しい方やマンツーマンでガッツリ
 教えて欲しい方には向きません。\nあくまで会場費程
 度の費用で自習ができる勉強会であることをご承知お
 きください。\nただし、メンターに質問していただけ
 れば、できるかぎり問題解決できるよう努力いたしま
 す。\nまた、問題点の解決の仕方（ネット検索の方法
 ）などをお教えします。\nこんな方におすすめ\n*学校
 のarduinoの授業のための勉強をしたい方\n*webやアプリ系
 のプログラミング経験があり、ものづくりも学びたい
 方\n*モノづくりの仲間づくりや勉強のペースを作りた
 い方\n*作りたいプロジェクトがあり、質問したい方\n*
 これからIoTの勉強をしていきたい方\n費用\n１０００円
 →今回は予定していたセミナーが中止になりましたの
 で、特別に無料とします！！\n持ち物\nできればPCを持
 参ください。windows、mac、linuxでもOKです。PCがあればそ
 の場でプログラム作成・動作確認を行えます。\n最低
 催行人員に満たない場合、中止とする場合があります
 。\nネット環境\nテザリングですが、ネット接続が使用
 できます。同時接続人数に限りがありますので、でき
 るだけ接続環境をお持ちくださると助かります。\nプ
 ログラム\n\n\n\n時間\n内容\n\n\n\n\n12：00\n開場\n\n\n\n受付
 \n\n\n\n自己紹介、今日やりたいこと発表\n\n\n\n基本的に
 もくもく勉強会。質問は随時受け付けます。お教えす
 るサイトを参考にしながら動かしてみてください。自
 分のプロジェクトを持ってきて聞いてもOKです。\n\n\n\n
 今日の成果を発表\n\n\n14：30\n終了\n\n\n\n\n\n\narduinoコー
 ス（初心者向け）\n標準所要時間\n\n\n\n\n①LEDをチカチ
 カさせる\n15分\n\n\n②サーボモーターを動かす\n30分\n\n\
 n③Arduinoで作曲する\n30分\n\n\n④センサーで距離を測る\
 n30分\n\n\n\n\n\n\nESP-WROOM完成品コース（エンジニア向け
 ）\n標準所要時間\n\n\n\n\n①LEDをチカチカさせる\n15分\n\
 n\n②ESP-WROOMをWebサーバーにする\n30分\n\n\n③ESP-WROOMでtwe
 etする\n60分\n\n\n④センサー値をwebサーバーに記録する\
 n60分\n\n\n\n\n\n\nESP-WROOM配線からコース（エンジニア向
 け）\n標準所要時間\n\n\n\n\n①ESP-WROOMをarduinoとして動か
 す\n120分\n\n\n②LEDをチカチカさせる\n15分\n\n\n③ESP-WROOM
 をWebサーバーにする\n30分\n\n\n④ESP-WROOMでtweetする\n60分
 \n\n\n⑤センサー値をwebサーバーに記録する\n60分\n\n\n\n
 参加予定の皆様へ\n以下のサイトでarduinoIDE最新版を事
 前にインストールして頂けると助かります。よろしく
 お願いします。（windowsはinstallerのほうでお願いします
 ）\nhttps://www.arduino.cc/en/Main/Software\n参加者の声\n* もの
 づくりの勉強のために参加しました。説明がわかりや
 すい。\n*arduinoを使ってみたかった。楽しかったです。
 \n*電子工作を勉強したかった。初心者でも非常にわか
 りやすく説明して頂いた。\n*arduinoに興味があった。プ
 ログラムが動いた時の達成感が大きかった。\n*arduinoの
 勉強がしたかった。モノを動かせて楽しかった。\n*つ
 まづきながらも、Hello Worldまでいけて達成感があった
 から。\n貸出品\narduino　おなじみのarduino。簡単にセン
 サーなどを試すことができます。\n\nESP WROOM WiFiモジュ
 ール完成品。ツイッターで自動に”暑い！”とつぶや
 かせることもできます。ネット連携の楽しさを味わう
 ことができます。\n\nESP WROOM WiFiモジュール（部品から
 ）。部品から組み立てるものづくりの楽しみを味わえ
 ます。配線や設定を間違えて動かないことも多く、苦
 労しますが、動いた時のやり切った感はこれが一番で
 す。\n参加して部品から組み立てた方のブログ\nhttp://sa
 kanaaas.hateblo.jp/entry/2016/05/15/214420\n
LOCATION:横浜開港記念会館　２号室  横浜市中区本町１丁
 目６番地
URL:https://techplay.jp/event/616728?utm_medium=referral&utm_source=ics&utm
 _campaign=ics
END:VEVENT
END:VCALENDAR
