BEGIN:VCALENDAR
VERSION:2.0
PRODID:-//https://techplay.jp//JP
CALSCALE:GREGORIAN
METHOD:PUBLISH
X-WR-CALDESC:日本OpenStackユーザ会 第33回勉強会
X-WR-CALNAME:日本OpenStackユーザ会 第33回勉強会
X-WR-TIMEZONE:Asia/Tokyo
BEGIN:VTIMEZONE
TZID:Asia/Tokyo
BEGIN:STANDARD
DTSTART:19700101T000000
TZOFFSETFROM:+0900
TZOFFSETTO:+0900
TZNAME:JST
END:STANDARD
END:VTIMEZONE
BEGIN:VEVENT
UID:618490@techplay.jp
SUMMARY:日本OpenStackユーザ会 第33回勉強会
DTSTART;TZID=Asia/Tokyo:20170419T190000
DTEND;TZID=Asia/Tokyo:20170419T210000
DTSTAMP:20260420T105021Z
CREATED:20170406T080244Z
DESCRIPTION:イベント詳細はこちら\nhttps://techplay.jp/event/61849
 0?utm_medium=referral&utm_source=ics&utm_campaign=ics\n\n今回のテー
 マは OpenStack Ocata リリースです。\n2017年2月に安定版と
 して正式リリースされた OpenStack Ocata とその前後のリ
 リースの開発動向について紹介いたします。OpenStack そ
 のものについての説明はいたしませんので、OpenStack 各
 プロジェクトとその用途など、OpenStack に関する基本的
 な知識を持っている方を対象といたします。\nなお、
 後半で OpenStack のライトニングトーク(LT)を行います。L
 T 発表者にエントリされる方は LT 参加枠にも申し込ん
 で下さい（1人6分、先着順）。\n概要\nオープンソース
 クラウド基盤ソフトウェアである、OpenStackに関する勉
 強会です。\n\n対象とレベル\n\n\n\n\n対象\n\n\n\n\n\nOpenStac
 kに興味がある方\n○\n\n\nOpenStackの利用を検討(評価)し
 ている方\n○\n\n\nOpenStackを既に利用されている方\n○\n\
 n\nOpenStack開発に関わる方\n○\n\n\n\n\n\n\nレベル\n\n\n\n\n\n
 初心者\n\n\n\n中級者\n○\n\n\n上級者\n\n\n\n\n参加費\n無料
 \nタイムテーブル\n\n\n\n時間\n内容\n発表者(敬称略)\n\n\n
 \n\n18:40 -\n受付\n\n\n\n18:55 - 19:00\n各種案内\n\n\n\n19:00 - 19:
 50\nOpenStack Ocata リリース\nNEC 吉山 晃\n\n\n20:00 - 20:30\nOpen
 Stack ライトニングトーク #1\nrev4t\n\n\n↓\nOpenStack ライト
 ニングトーク #2\nhiroyuki\n\n\n↓\nOpenStack ライトニングト
 ーク #3\nkota_tsuyuzaki\n\n\n↓\nOpenStack ライトニングトーク
  #4\nKazuhiroMiyahara\n\n\n20:30 - 20:50\n質問タイム\n-\n\n\n- 21:00
 \n解散\n\n\n\n\n\n内容は予告なく変更される可能性があ
 ります。\nEtherpad URL : https://etherpad.openstack.org/p/josug-study
 33\nハッシュタグ : #opst33\n\n会場\n〒102－0071 東京都千代
 田区富士見2-10-2　飯田橋グラン・ブルーム\n 株式会社
 インターネットイニシアティブ\n注意事項\n\n勉強会場
 は禁煙です。\n会場内での食事はできません。飲料の
 み持ち込み可です。\nゴミは必ず各自でお持ち帰りく
 ださい。\n\n入館に関して\n\n入館には受付が必要です
 。2FのIIJ受付に勉強会用のブースを特設しますので、
 受付を済ませてから入館をお願いします。（受付は B
 ゲート前になります。レストラン側からは入れません
 ）\n受付は19:30までです。それ以降で参加される方は無
 人の2F受付前でハッシュタグを付けて関係者を呼んで
 下さい。\n確実ではないので、遅れないようにお願い
 します。\n\nリモート配信\n予定はありません\nその他\n
 \n発表者・関係者・スタッフの申し込みは不要です。\n
 不参加の方は必ずキャンセルしてください。\n\n免責事
 項\n本勉強会の内容は、発表者が知り得た範囲での発
 表であり、その正確性と完全性を保証するものではあ
 りません。\n本勉強会から得られた情報により、何ら
 かの損害を負った場合であっても、発表者並びに主催
 者は一切の責任を負いません。予めご了承ください。\
 n皆様のご理解とご協力を、よろしくお願いいたします
 。
LOCATION:インターネットイニシアティブ 東京都千代田区
 富士見2-10-2 (飯田橋グラン・ブルーム)
URL:https://techplay.jp/event/618490?utm_medium=referral&utm_source=ics&utm
 _campaign=ics
END:VEVENT
END:VCALENDAR
