BEGIN:VCALENDAR
VERSION:2.0
PRODID:-//https://techplay.jp//JP
CALSCALE:GREGORIAN
METHOD:PUBLISH
X-WR-CALDESC:GPU Deep Learning Community #4
X-WR-CALNAME:GPU Deep Learning Community #4
X-WR-TIMEZONE:Asia/Tokyo
BEGIN:VTIMEZONE
TZID:Asia/Tokyo
BEGIN:STANDARD
DTSTART:19700101T000000
TZOFFSETFROM:+0900
TZOFFSETTO:+0900
TZNAME:JST
END:STANDARD
END:VTIMEZONE
BEGIN:VEVENT
UID:618743@techplay.jp
SUMMARY:GPU Deep Learning Community #4
DTSTART;TZID=Asia/Tokyo:20170427T190000
DTEND;TZID=Asia/Tokyo:20170427T213000
DTSTAMP:20260420T030057Z
CREATED:20170409T160049Z
DESCRIPTION:イベント詳細はこちら\nhttps://techplay.jp/event/61874
 3?utm_medium=referral&utm_source=ics&utm_campaign=ics\n\nGPU Deep Learnin
 g Community #4を開催致します!!\n9月\, 11月、2月に続き第4
 回を開催致します。 今回も、先進的な取り組みを行う
 各社に登壇して頂くのに加えて、LT枠も募集します。\n
 セミナー終了後には会場内で懇親会も行います。ぜひ
 ご参加下さい。\n懇親会はイベント申込時のアンケー
 トからお申し込み下さい。\n\n日時/場所\n日時: 4/27(木) 
 19:00-20:45 (懇親会 20:45-21:30)\n場所: 日本マイクロソフト
 （東京都港区港南2-16-3 品川グランドセントラルタワー
 ） 31F セミナールームC+D\nMapはこちら : https://www.microsoft
 .com/ja-jp/mscorp/branch/sgt.aspx\n\nLT発表者募集!!\nLT発表者を
 募集します。\n持ち時間は10分。DLの活用事例や、実際
 に導入してみて見えてきたこと、苦労したこと、DLに
 望むこと、なんでも結構です。\n遠慮は不要、ぜひ発
 表して下さい!!\n4/24までに、LT枠に発表タイトルと合わ
 せてご応募下さい。応募多数の場合は抽選のうえ、こ
 ちらで発表致します。\n\n主催\nGPU Deep Learning Community\n\n
 アジェンダ\n\n\n\n時間\nセッションタイトル\nスピーカ
 ー\n\n\n\n\n18:30-19:00\n開場/受付\nセミナー受付(2F)にて、
 名刺と受付票(Connpass受付番号)をご提示下さい\n\n\n19:00-
 19:05\nオープニング\n\n\n\n19:05-19:25\nディープラーニング
 の応用事例としてのPaintsChainer\nPreferred Networks\n\n\n19:25-1
 9:45\nJetson TX2を触ってみた\nMacnica\n\n\n19:45-20:05\nDeep Learni
 ngの外観検査への適用について\nシーイーシー\n\n\n20:05-
 20:25\nディープラーニングフレームワークCognitive Toolkit 
 (CNTK)とそこから広がるAI 系Azure Serviceとその活用事例\n
 日本マイクロソフト\n\n\n20:25-20:35\nLT(1): Deep Learning Instit
 ute他\nNVIDIA\n\n\n20:35-21:30\n懇親会\n懇親会のみ有料(1\,000
 円)です。懇親会開始前までに会場でお支払い下さい\n\
 n\n21:30\n終了/解散\n\n\n\n\n※内容は変更になる可能性が
 あります。※対象外のお客様には、セミナーへのご参
 加をご遠慮いただく場合がございます。\n※名刺1枚と
 参加票を持参下さい。必要に応じて運営メンバーから
 コンタクトするケースがあります。ご了承下さい。
LOCATION:日本マイクロソフト 東京都港区港南2-16-3 (品川グ
 ランドセントラルタワー)
URL:https://techplay.jp/event/618743?utm_medium=referral&utm_source=ics&utm
 _campaign=ics
END:VEVENT
END:VCALENDAR
