BEGIN:VCALENDAR
VERSION:2.0
PRODID:-//https://techplay.jp//JP
CALSCALE:GREGORIAN
METHOD:PUBLISH
X-WR-CALDESC:ROS Japan UG #10 勉強会
X-WR-CALNAME:ROS Japan UG #10 勉強会
X-WR-TIMEZONE:Asia/Tokyo
BEGIN:VTIMEZONE
TZID:Asia/Tokyo
BEGIN:STANDARD
DTSTART:19700101T000000
TZOFFSETFROM:+0900
TZOFFSETTO:+0900
TZNAME:JST
END:STANDARD
END:VTIMEZONE
BEGIN:VEVENT
UID:618972@techplay.jp
SUMMARY:ROS Japan UG #10 勉強会
DTSTART;TZID=Asia/Tokyo:20170520T140000
DTEND;TZID=Asia/Tokyo:20170520T173000
DTSTAMP:20260420T110806Z
CREATED:20170412T000015Z
DESCRIPTION:イベント詳細はこちら\nhttps://techplay.jp/event/61897
 2?utm_medium=referral&utm_source=ics&utm_campaign=ics\n\n※イベント
 内容は予告なく変更される場合があります。\n概要\n\n
 内容：ROSに関連する発表、LT\n日時：5月20日 13:30開場、
 14:00開始\n場所：秋葉原駅近くの貸し会議室\n\nROS Japan U
 sers Groupが開催する第10回勉強会です。\n今回は株式会
 社インテック様との共催で、会場を提供していただき
 ました。\nスケジュール\n\n\n\n時間\n枠\n発表者（敬称
 略）\nタイトル\n\n\n\n\n13:30 ~ 14:00\n受付\n\n\n\n\n14:00 ~ 14:2
 0\n発表\n@t.fukuta\nITとRT（ネットワーク技術と時々、仮
 想化）\n\n\n14:20 ~ 14:35\n発表\n@otl\nRustのススメとrosrustの
 紹介\n\n\n14:35 ~ 14:55\n発表\n@s.kajita\nChoreonoid+ROS\n\n\n14:55 ~
  15:00\nLT\n@NoriakiNakagawa\nラズパイマウスの紹介\n\n\n15:00 ~
  15:20\n休憩\n\n\n\n\n15:20 ~ 15:40\n発表\n@youtalk\nROS2はじめま
 した\n\n\n15:40 ~ 16:00\n発表\n@YukiKitsukawa\nAutowareの紹介\n\n\
 n16:00 ~ 16:20\n発表\n@vivitter\nロボットサービス開発の現
 場から〜SIerから見たロボットサービス開発の難しさ〜
 \n\n\n16:20 ~ 16:40\n休憩\n\n\n\n\n16:40 ~ 16:50\nLT\n@yoneken\n‪ROS
 の通信速度について‬\n\n\n16:50 ~ 17:00\nLT\n@nnn112358\nOpenPo
 se de ROS\n\n\n17:00 ~ 17:10\nLT\n@potix2\nrealsenseを使ってcrazyflie
 を自律飛行させてみた\n\n\n17:10 ~ 17:20\nLT\n@morikentiger\n1
 ヶ月で4足歩行ロボットをラピッドプロトしてみた\n\n\n
 17:20 ~ 17:30\nLT\n@RyodoTanaka\nMoveit!を用いたアプリケーショ
 ンの紹介\n\n\n17:30 ~ 17:33\nLT\n@DeanKH\n‪gazeboで力覚センサ
 プラグインを使う‬\n\n\n17:33 ~ 17:36\nLT\n@shiba_8ro\nTurtlebot
 3の紹介\n\n\n17:36 ~ 18:00\n撤収\n\n\n\n\n\n発表者へ\n発表希
 望者はSlackまたはTwitterで @youtalk 宛てに発表タイトルと
 発表希望枠を添えてご連絡ください。先着順で対応し
 、イベントページに反映させます。\n発表終了後、資
 料公開が可能な方は、本イベントページから資料投稿
 にご協力お願いします。\n一般参加者へ\nROS\, ROS Japan Us
 ers Groupに関するツイート、投稿などには、ぜひ #rosjp 
 を付けて発信してください。\n準備物はありませんが
 、ROS環境をセットアップ済みのPCを持参すると、発表
 者の小ネタがあれば、その場で試せて楽しいかもしれ
 ません。\n最後、撤収作業のご協力をよろしくお願い
 します。\n過去の勉強会\nこれまでの勉強会はDoorKeeper
 で運営してきました。過去の勉強会の様子をご覧にな
 りたい方はどうぞ。
LOCATION:ハロー貸会議室 秋葉原駅前 東京都千代田区神田
 和泉町1-1-16 KONKOビル 7階 
URL:https://techplay.jp/event/618972?utm_medium=referral&utm_source=ics&utm
 _campaign=ics
END:VEVENT
END:VCALENDAR
