BEGIN:VCALENDAR
VERSION:2.0
PRODID:-//https://techplay.jp//JP
CALSCALE:GREGORIAN
METHOD:PUBLISH
X-WR-CALDESC:エンジニアのための、アイディア創造ワーク
 ショップ〜“顧客のニーズを知る”ことから始める新
 規サービスのつくり方〜《懇親会付》
X-WR-CALNAME:エンジニアのための、アイディア創造ワーク
 ショップ〜“顧客のニーズを知る”ことから始める新
 規サービスのつくり方〜《懇親会付》
X-WR-TIMEZONE:Asia/Tokyo
BEGIN:VTIMEZONE
TZID:Asia/Tokyo
BEGIN:STANDARD
DTSTART:19700101T000000
TZOFFSETFROM:+0900
TZOFFSETTO:+0900
TZNAME:JST
END:STANDARD
END:VTIMEZONE
BEGIN:VEVENT
UID:619320@techplay.jp
SUMMARY:エンジニアのための、アイディア創造ワークショ
 ップ〜“顧客のニーズを知る”ことから始める新規サ
 ービスのつくり方〜《懇親会付》
DTSTART;TZID=Asia/Tokyo:20170427T193000
DTEND;TZID=Asia/Tokyo:20170427T220000
DTSTAMP:20260420T043411Z
CREATED:20170417T034914Z
DESCRIPTION:イベント詳細はこちら\nhttps://techplay.jp/event/61932
 0?utm_medium=referral&utm_source=ics&utm_campaign=ics\n\n【懇親会付
 】アイディア創造ワークショップ〜“顧客のニーズを
 知る”ことから始める新規サービスのつくり方〜\n\n体
 験型ワークショップ＆懇親会\n\n「TORIKAJI」は、これか
 らの時代の新規サービス開発で必要とされるスキルや
 マインドセットを実践によって身につけるために開発
 されたカリキュラムです。\n\n本ワークショップでは、
 顧客ニーズの観察からアイディア発散を経てソリュー
 ションに落とし込むまでの過程を体験的に学びながら
 、デジタル時代に適した新規サービス創造の視点を理
 解することを目指します。\n\nワークショップ後には懇
 親会を予定しており、講師への具体的な相談や他の参
 加者の方と情報共有などの交流を図ることができます
 。\n\n《どんなことができる？》\n\n\nありきたりなアイ
 ディアから、よりイノベーティブに発想するコツがわ
 かる\nビジネス、クリエイティブ領域の視野が広がる\n
 常に顧客のニーズを意識することで、世の中に本当に
 求められているサービスを提供するマインドセットが
 できる\nビジネスとして成り立たせるために必要な要
 素がわかり、優先順序が明確になる\nこれまで気づか
 なかったビジネスチャンスを見つける方法がわかる\n\n
 \n《こんな方におすすめ》\n\n\n新規サービスをを立ち
 上げたい方\nビジネス領域・クリエイティブ領域への
 視野を広げて、新しい価値を創出したい方\n顧客のニ
 ーズを起点としたサービス開発に興味がある方\n技術
 的なスキルアップの他にできることを探しているエン
 ジニアの方\n\n\n開催概要\n\n開催日時：4月27日(木) 19:30
 ～22:00\n\n定員：30名\n\n参加費用：1000円\n\n会場：コー
 ドキャンプ株式会社（東京都新宿区西新宿7-22-35 西新
 宿三晃ビル4階)\n\nアクセス：新宿駅 徒歩10分/西新宿駅
  徒歩7分/新宿西口駅 徒歩6分/大久保駅 徒歩7分\n\n★★
 さらに、ワークショップ参加特典あり★★\n\n【特典１
 】　オリジナルワークシートをお持ち帰りいただけま
 す。\n\n【特典２】　有料講座『HAYATE』を特別価格でご
 受講いただけます。\n\nワークショップを通じて、新規
 事業開発プログラム 『HAYATE』にご興味をお持ちいただ
 いた方には、個別にご質問・ご相談いただけます。本
 機会をお気軽にご活用ください。\n\n《『HAYATE』とは？
 》\n\n《テクノロジー》×《クリエイティブ》×《ビジ
 ネス》の３領域横断型スキル養成プログラム「TORIKAJI
 」が提供する、\nデジタル時代に適した新規サービス
 創造の手法を体験的に学べる満足度90%以上のワークシ
 ョップ型講座です。\n\n\n新規サービス立ち上げ必要な
 プロセスがわかる\n革新的なアイディアを生み出すコ
 ツがわかる\nビジネスを前提としたサービス設計がで
 きる\n\n
LOCATION:コードキャンプ 東京都新宿区西新宿7-22-35 西新宿
 三晃ビル4階
URL:https://techplay.jp/event/619320?utm_medium=referral&utm_source=ics&utm
 _campaign=ics
END:VEVENT
END:VCALENDAR
