BEGIN:VCALENDAR
VERSION:2.0
PRODID:-//https://techplay.jp//JP
CALSCALE:GREGORIAN
METHOD:PUBLISH
X-WR-CALDESC:二川でサーバルちゃんと Xamarin もくもく会
X-WR-CALNAME:二川でサーバルちゃんと Xamarin もくもく会
X-WR-TIMEZONE:Asia/Tokyo
BEGIN:VTIMEZONE
TZID:Asia/Tokyo
BEGIN:STANDARD
DTSTART:19700101T000000
TZOFFSETFROM:+0900
TZOFFSETTO:+0900
TZNAME:JST
END:STANDARD
END:VTIMEZONE
BEGIN:VEVENT
UID:619770@techplay.jp
SUMMARY:二川でサーバルちゃんと Xamarin もくもく会
DTSTART;TZID=Asia/Tokyo:20170429T130000
DTEND;TZID=Asia/Tokyo:20170429T170000
DTSTAMP:20260420T094502Z
CREATED:20170422T040016Z
DESCRIPTION:イベント詳細はこちら\nhttps://techplay.jp/event/61977
 0?utm_medium=referral&utm_source=ics&utm_campaign=ics\n\nようこそ ざ
 まりパークへ！ Xamarin もくもく会だよー！\nMicrosoft Stud
 ent Partners と JXUG が共催しているイベントだよー！\nも
 くもくしたり、情報交換したりしましょー。\nもくも
 くする前に、ジャパリ…いや「のんほいパーク」に、
 フレンズさん達に会いに行きましょう(任意です)。\n※
 もくもく会のみ希望される方は、午後から来てもらっ
 て大丈夫です。\nよてい\n\n\n\nじかん\nなにする\n\n\n\n\n
 10:00〜13:00\n(任意)のんほいパークでフレンズとふれあ
 いましょう\n\n\n13:00〜13:30\nじこしょーかい\n\n\n13:30〜16
 :30\n会場で Xamarin もくもくしましょう\n\n\n16:30〜17:00\nLT
 (えるてぃー)×3つ\n\n\n17:30〜\n(任意)こんしんかい\n\n\n\n
 たいしょう\n\nXamarin が好きなフレンズ\nXamarin を触って
 みたいフレンズ\nスマートフォンアプリ開発に関心の
 あるフレンズ\nプログラミングに興味があるフレンズ\n
 \nXamarin もくもく会について\nXamarin に関すること（ま
 あプログラミングならなんでもいいや）について自習
 します。\n分からないことは教え合いましょう、われ
 われはかしこいので。\n希望があれば Xamarin について
 のミニセッションをやるかもしれません。\nかいじょ
 ー\n\n株式会社マップクエスト2F会議室\n豊橋市大岩町
 下渡27-1\nJR二川駅南口より徒歩3分(橋を超えて右折して
 しばらくの建物)です\n玄関でベルを鳴らしてください\
 n会場に WiFi はありません、電源はあります\n\n\n\nにも
 つ\n\nXamarin の開発環境をインストールした Windows PC ま
 たは、同 Mac。\nできるだけ事前に環境を準備してきて
 ください。会場には WiFi がないので、会場でセットア
 ップを行うとパケ死します。\nVisual Studio 2017 を使うフ
 レンズさんは こちら をごらんください\nその以外のフ
 レンズさんは こちら をごらんください\n\n\nどうして
 も環境が作れなかったフレンズさんは当日サポートし
 ます\n\nきょーざい\n「はじめて Xamarin をやってみる」
 というフレンズさんは、\n\nJXUG : 関連ページ一覧\n\nに
 ある「ハンズオンまとめ」のなかのどれかをやってみ
 るとよいでしょう。\nLT(えるてぃー:らいとにんぐとー
 く)\n自分の語りたいことを５分くらいで短くプレゼン
 します。\nXamarin にかんする事でも関係ないことでも、
 けものフレンズのことでもなんでもオーケー。\n3人く
 らい募集しますので、コメントや管理者へ連絡して教
 えてください。\n\nのんほいパークについて\n\nのんほ
 いパーク 豊橋動植物公園\n豊橋市大岩町字大穴1-238\nJR
 二川駅南口より徒歩6分です \n\n\n\n当日は、10:00 に正門
 前切符売り場付近に、それっぽい人 が居るので、よけ
 れば一緒にパークをめぐりましょー。\n\n※こちらは任
 意です。もくもく会のみ希望される方は、午後から会
 場にお越しください。\n※のんほいパークへは入場料(6
 00円)が必要です。\n\nのんほいパークには、「さばんな
 ちほー」「へいげん」「こはん」「としょかん」「ゆ
 きやまちほー」「ゆうえんち」などがあります。園内
 はジャパリバスが走っていて、ばすてきなものもあり
 ます。展望塔レストランで「サーバルパフェ」をたべ
 よー。\nのんほいパークにいるフレンズ\n\nサーバル(New
 !)\nフェネック(New!)\nPPP\nイワビー\nジェーン\nフルル\n\n
 \n博士\n助手\nカピバラ(New!)\nカバ\nコツメカワウソ\nシ
 ロサイ\nヒグマ\nライオン\nアミメキリン\nクジャク\nタ
 ンチョウ\nヒト\n\nがいます。\n吉崎先生アアアァァァ
 ！\nこんしんかいについて\n\n網元\n441-3145 愛知県豊橋
 市大岩町北元屋敷２８−１\nJR二川駅北口より徒歩3分
 です \n\n\n\n18:00 から二川駅付近にある網元 (居酒屋)で
 予定しています。状況によっては、豊橋駅まで移動す
 るかもしれません。\n\n※こちらは任意です。もくもく
 会のみ希望される方は、17:30で解散です。\n\nMicrosoft Stu
 dent Partners(MSP)ってなにー？\nMSPとはマイクロソフトで
 技術者や開発者へのテクノロジの啓蒙活動をするデベ
 ロッパーエバンジェリズム統括本部が運営するグロー
 バル学生コミュニティ(学生団体)だよー！\nマイクロソ
 フトの技術 －Windows\, Micorosoft Azure\, Visual Studio\, Kinect\, 
 C#\, .NET\, Office\, Skype\, Edge\, Minecraft などで開発すること
 のおもしろさ、楽しさを学生に伝え、学生の Microsoft Fu
 n! を増やすことをミッションとして活動してるよー！\
 nあんちはらすめんとぽりしー（のけものはいない）\nJ
 XUG では、アンチハラスメントポリシーを掲げています
 。参加されるすべての方は、以下のページのポリシー
 を順守いただきますよう、お願いいたします。\nJXUG : 
 コミュニティポリシー\n登壇者の方はできるだけ事前
 のスライドチェックを受けてください。ポリシーに抵
 触するような行為があった場合には、コミュニティ側
 から発表の中止などを行う場合がありますので、あら
 かじめご了承ください。\n健全な運営にご協力をお願
 いいたします。
LOCATION:株式会社マップクエスト 豊橋市大岩町下渡27-1
URL:https://techplay.jp/event/619770?utm_medium=referral&utm_source=ics&utm
 _campaign=ics
END:VEVENT
END:VCALENDAR
