BEGIN:VCALENDAR
VERSION:2.0
PRODID:-//https://techplay.jp//JP
CALSCALE:GREGORIAN
METHOD:PUBLISH
X-WR-CALDESC:【大阪】GMOエンジニアトーク -先端IT技術を学
 ぶ会- 深層学習、ブロックチェーン、AR/VR
X-WR-CALNAME:【大阪】GMOエンジニアトーク -先端IT技術を学
 ぶ会- 深層学習、ブロックチェーン、AR/VR
X-WR-TIMEZONE:Asia/Tokyo
BEGIN:VTIMEZONE
TZID:Asia/Tokyo
BEGIN:STANDARD
DTSTART:19700101T000000
TZOFFSETFROM:+0900
TZOFFSETTO:+0900
TZNAME:JST
END:STANDARD
END:VTIMEZONE
BEGIN:VEVENT
UID:620339@techplay.jp
SUMMARY:【大阪】GMOエンジニアトーク -先端IT技術を学ぶ会
 - 深層学習、ブロックチェーン、AR/VR
DTSTART;TZID=Asia/Tokyo:20170526T190000
DTEND;TZID=Asia/Tokyo:20170526T213000
DTSTAMP:20260421T203011Z
CREATED:20170428T040531Z
DESCRIPTION:イベント詳細はこちら\nhttps://techplay.jp/event/62033
 9?utm_medium=referral&utm_source=ics&utm_campaign=ics\n\n→[NEW] 05.09 
 増席しました\nGMOエンジニアトークは次世代システム
 研究室による「新技術を実サービスに利活用するため
 に行っている研究開発」について、各担当者からトー
 クを行う勉強会イベントです。\n\n新しい技術や大規模
 なウェブサービスに興味がある方、GMOのエンジニアが
 普段どうのようにしているのか興味がある方は是非ご
 参加ください。皆さんのご参加をお待ちしています！
 ！\nタイムテーブル\n\n\n\n\n概要\n\n\n\n\n18:30-\n開場\n\n\n1
 9:00-\nオープニングトーク\n\n\n19:10 - 19:40\nIoT領域でのブ
 ロックチェーン実践\n\n\n19:50 - 20:20\nモバイルAR技術の
 最先端 Google Tangoを活用してバーチャル道案内スタッフ
 を実現してみた\n\n\n20:30 - 21:00\n深層学習は金融市場を
 シミュレーションすることができるか？\n\n\n\n※質疑
 応答などの時間は設ける予定です\nトークテーマ\n深層
 学習は金融市場をシミュレーションすることができる
 か？\n近年注目を浴びている深層学習の応用手法・GAN(G
 enerative Adversarial Networks)を応用し、金融市場の値動きを
 シミュレーションすることに挑戦します。\n従来、写
 真やイラスト、絵画といった画像データをAIが自動的
 に作り出すことは難しいと考えられてきました。しか
 し、近年は深層学習の応用の研究が進み、従来のAIの
 常識を覆す成果が生み出されています。GANはそうした
 成果の一つであり、学習した画像の丸写しではなく、
 自然な特徴を抑えた画像を自動的に生成することがで
 きます。\n今回は、GANの画像生成能力をマーケットの
 チャートに応用し、自然なマーケットの値動きをシミ
 ュレーションすることができるか実験した成果を発表
 します。\nIoT領域でのブロックチェーン実践\n一般的に
 Fintech領域で活用されるブロックチェーン技術ですが、
 GMOインターネットではIoTの分野にも適用しやすいプラ
 ットフォームを提供しています。今回はその応用事例
 として、実証実験を成功させた『スマート宅配ボック
 ス』をデモを元にその概要を説明し、開発のポイント
 となる点をご紹介します。\n■ サービス紹介ページ\nht
 tps://cloud.z.com/jp/products/blockchain/\nhttps://www.conoha.jp/blockcha
 in/\nモバイルAR技術の最先端 Google Tangoを活用してバー
 チャル道案内スタッフを実現してみた\nTangoは、Googleが
 Android向けにリリースしているAR/MR向けのフレームワー
 クです。\nこれまでのAR技術・コンテンツは、単眼カメ
 ラのキャプチャ画像にCGを重ねる程度で、現実感は薄
 く市場に定着していません。Project Tangoの壮大な可能性
 を活用して より現実と融合したCG、良いARの体験、屋
 内のナビゲーション、そして面白くて魅力的なゲーム
 などを提供することが期待できます。 \n技術の実証実
 験、そして将来のビジネスへ繋がる可能性の検討の目
 的でバーチャル道案内スタッフを実現してみました。T
 angoの強みをどう生かして実現したのかを共有させて頂
 きます。\n会場について\n大阪府大阪市北区大深町3番1
 号 グランフロント大阪タワーB 23階\nGMOインターネット
 大阪オフィス内にあるイベントスペース GMO Yoursで開催
 します。\nグランフロント大阪はJR大阪駅直結
LOCATION:シナジーカフェ GMO Yours 大阪府大阪市北区大深町3
 番1号 グランフロント大阪タワーB 23階
URL:https://techplay.jp/event/620339?utm_medium=referral&utm_source=ics&utm
 _campaign=ics
END:VEVENT
END:VCALENDAR
