BEGIN:VCALENDAR
VERSION:2.0
PRODID:-//https://techplay.jp//JP
CALSCALE:GREGORIAN
METHOD:PUBLISH
X-WR-CALDESC:【6組限定・前提知識不要】パパとお子様のた
 めの母の日IoTイベント！
X-WR-CALNAME:【6組限定・前提知識不要】パパとお子様のた
 めの母の日IoTイベント！
X-WR-TIMEZONE:Asia/Tokyo
BEGIN:VTIMEZONE
TZID:Asia/Tokyo
BEGIN:STANDARD
DTSTART:19700101T000000
TZOFFSETFROM:+0900
TZOFFSETTO:+0900
TZNAME:JST
END:STANDARD
END:VTIMEZONE
BEGIN:VEVENT
UID:620591@techplay.jp
SUMMARY:【6組限定・前提知識不要】パパとお子様のための
 母の日IoTイベント！
DTSTART;TZID=Asia/Tokyo:20170514T130000
DTEND;TZID=Asia/Tokyo:20170514T170000
DTSTAMP:20260420T152859Z
CREATED:20170501T110113Z
DESCRIPTION:イベント詳細はこちら\nhttps://techplay.jp/event/62059
 1?utm_medium=referral&utm_source=ics&utm_campaign=ics\n\n2017年5月14日
 、母の日\n\nママに最高の1日をプレゼントをしたいお
 子様とパパはいらっしゃいませんか?\n\nそのお手伝い
 、CodeCampがいたします!\n\n━━■ お申し込みに関して 
 ▪━━\n\nフォームより参加申し込みをお願いいたしま
 す。\n\n※参加者の応募が多数の場合は抽選とさせてい
 ただきます。\n\n━━■ 参加条件 ▪━━\n\nパパと小学
 4~6年生のお子様\n\nママ(一部参加していただきます)\n\n
 ※お子さまはパパ1人につき2人まで参加可能です\n\n※
 当日はお子様をケアできる保育スタッフもおります\n\n
 ※ママは最初と最後だけ参加!お子様とパパがワークに
 取り組んでいる間(約2〜2.5時間)はフリータイムです!\n\
 n　代官山・恵比寿・渋谷が徒歩圏内なので羽を伸ばし
 てきてください!\n\n━━■ 何をやるの? ▪━━\n\nお子
 様とパパが協力してママをハッピーにするIoT工作を行
 います!\n\n難しい知識は一切不要!ママを喜ばせるたい
 という気持ちだけでOK\n\n━━■ どうやってやるの? ▪
 ━━\n\n事前の知識は不要！\n\nお子様とパパでワーク
 シートを埋めながらママを喜ばせるためのアイディア
 を考えていきます。アイディアが整ったら、お子様は
 工作キットを使って、パパはIoTのデバイスであるMESHを
 つかって、アイディアを実現させるべく工作をします!
 \n\nイベントの最後にママに帰ってきてもらい、お子様
 とパパからのプレゼンタイムでママを驚かせちゃいま
 しょう!\n\n━━■ 何でやるの? ▪━━\n\nコードキャン
 プは、学生~社会人向けにプログラミングやテクノロジ
 ーの教育・研修を提供している会社です。\n\n今回は、
 母の日の特別企画として、2020年からプログラミングが
 必修化される小学生を対象に、親子で楽しくテクノロ
 ジーに触れる機会をつくりたいと思い、当イベントを
 開催するはこびになりました。\n\n━━■ 詳細 ▪━━\
 n\n日時:5/14(日) 母の日 13:00~17:00 (開場12:45)\n\n会場:株式
 会社グッドパッチ\n\nJR渋谷駅から徒歩10分程度\n\n定員:
 6組限定(ママ・パパ・お子様 小学4~6年生)\n\n└応募多
 数の場合は抽選とさせていただきます\n\n参加費:親子1
 組み(パパとお子様2人まで) 3\,000円　お支払いは抽選後
 にご案内致します。\n\nファシリテーター:タキザワケ
 イタ氏\n(http://takizawakeita.tumblr.com/profile)\n\n主催:コード
 キャンプ株式会社\n\n━━■ 【必読】その他注意事項 
 ▪━━\n\n当日はカメラによる撮影を行い、3分程度の
 ショートムービーを制作する予定です。お名前等は出
 ませんが、動画に登場することになります。\n\n※こち
 らの動画素材はCodeCampの事業内容の紹介用としてのみ
 利用しその他第三者への譲渡・提供・販売は行いませ
 んので、ご安心ください。\n\n━━■ お申し込みに関
 して ▪━━\n\n是非、5/14の母の日を思い出に残る素敵
 な日に!\n参加者の応募が多数の場合は抽選とさせてい
 ただきます。\n\n┏━━━━━━━━━━━━━━━━
 ━┓\n\n■CodeCampについて\n\n\n\n人と社会の成長を加速
 させる\n\nコードキャンプは、「人と社会の成長を加速
 させる」というビジョンを掲げております。\n\nあらゆ
 る産業や職種で機械化が進む世界において必要とされ
 るのは、これまでにない新たな価値を提供できる人で
 あり、そうした人材が活躍できる社会だと考えていま
 す。当社は、未来を担う人々の成長を早めより良い社
 会への変化を助けるべく、プログラミングやデザイン
 思考といった次世代の教育サービス事業を展開してい
 きます。\nhttp://corporate.codecamp.jp/\n\n■タキザワケイタ
 氏について\n\n\n\nサービスデザイナー・ワークショッ
 プデザイナー・ファシリテーター・プランナー\n青山
 学院大学 ワークショップデザイナー育成プログラム(WS
 D)講師\nLEGO® SERIOUS PLAY®認定ファシリテーター\nhttp://tak
 izawakeita.tumblr.com/profile\n\n■MESHについて\n\n\n\nさまざま
 な機能を持ったブロック形状の "MESHタグ" を"MESHアプリ
 " でつなげることにより、あなたの「あったらいいな
 」を実現できるそれがMESHです。難しいプログラミング
 や電子工作の知識は必要ありません。IoT(モノ・コトの
 インターネット化)を活用した仕組みも簡単に実現しま
 す。\nhttp://meshprj.com/jp/\n\n会場のGoodpatchの様子\n\n\n\n┗
 ━━━━━━━━━━━━━━━━━┛\n
LOCATION:株式会社グッドパッチ 東京都渋谷区鶯谷町３−
 ３サウスゲート渋谷ビル２階
URL:https://techplay.jp/event/620591?utm_medium=referral&utm_source=ics&utm
 _campaign=ics
END:VEVENT
END:VCALENDAR
