BEGIN:VCALENDAR
VERSION:2.0
PRODID:-//https://techplay.jp//JP
CALSCALE:GREGORIAN
METHOD:PUBLISH
X-WR-CALDESC:第40回　コンピュータビジョン勉強会＠関東
X-WR-CALNAME:第40回　コンピュータビジョン勉強会＠関東
X-WR-TIMEZONE:Asia/Tokyo
BEGIN:VTIMEZONE
TZID:Asia/Tokyo
BEGIN:STANDARD
DTSTART:19700101T000000
TZOFFSETFROM:+0900
TZOFFSETTO:+0900
TZNAME:JST
END:STANDARD
END:VTIMEZONE
BEGIN:VEVENT
UID:621354@techplay.jp
SUMMARY:第40回　コンピュータビジョン勉強会＠関東
DTSTART;TZID=Asia/Tokyo:20170610T130000
DTEND;TZID=Asia/Tokyo:20170610T180000
DTSTAMP:20260422T231526Z
CREATED:20170510T080438Z
DESCRIPTION:イベント詳細はこちら\nhttps://techplay.jp/event/62135
 4?utm_medium=referral&utm_source=ics&utm_campaign=ics\n\n目的：\n今
 回のCV勉強会は「AR/VRを支える技術」というテーマで行
 います。\nAR/VRに関わる若手気鋭の研究者の方々にご講
 演いただく予定です。\nまた、LTの発表も募集しており
 ます。\nAR/VRやビジョンに関係することであればなんで
 もありです。\n\nHoloLensやProject Tangoの話\nこんなARのデ
 モを作ってみた\nVuforiaやAR Toolkit等のARライブラリの話\
 nARに関する研究紹介（自分のものを含む）\nVisual SLAMに
 関する論文を読んでみた\nFace TrackingやKinectなどを用い
 て人体上への重畳表示\netc\n\n発表者：\n今回参加申込
 みは\n\n「参加者枠」\n「発表者枠」\n\nの2つがありま
 す。既にchouseisanで発表希望してくれている方も、発表
 者枠で参加登録して頂ければ幸いです。\nLightning Talk\n\
 ntakmin \nMasaruMizuochi\ntnoho\nlunardog\nIsseiYoshida\nhiwasawa\nyosuke
 _shinya\n\n招待講演\n\n東京大学 樋口先生 (http://keihigu.gith
 ub.io/)\n慶応大学 伊藤先生 (http://campar.in.tum.de/Main/YutaItoh
 )\n慶応大学 杉浦先生 (http://yutasugiura.com/)\n\nタイムテー
 ブル\n\n\n\n時間\n担当者\nタイトル\n\n\n\n\n13:00 - 13:10\n\nO
 pening\n\n\n13:10 - 13:30\ntakmin\nORB-SLAMを動かしてみた\n\n\n13:
 30 - 13:50\nMasaruMizuochi\nPerfume映像演出のダイナミックVRを
 つくってみた\n\n\n13:50 - 14:30\n樋口先生\nVR/AR/CV技術を活
 用したHuman-Computer Interactionの研究事例 ― 或いはHCI研究
 (者)に期待して欲しいこと\n\n\n14:30 - 14:45\n\n休憩\n\n\n14:
 45 - 15:05\ntnoho\nWebRTCを利用した遠隔リアルタイム映像処
 理フレームワークの実装\n\n\n15:05 - 15:25\nlunardog\nDeep Conv
 olutional Food Styling\n\n\n15:25 - 16:05\n伊藤先生\n光学シース
 ルーHMD高性能化に向けたCV技術の活用事例\n\n\n16:05 - 16:
 20\n\n休憩\n\n\n16:20 - 16:40\nIsseiYoshida\nEmbodyMe 顔写真一枚
 から3Dモデルを推定する技術の紹介\n\n\n16:40 - 17:00\nhiwas
 awa\nリアルタイム自由視点動画システム\n\n\n17:00 - 17:20\
 nyosuke_shinya\nDDR: Deep Diminished Realityの実現に向けた一検
 討\n\n\n17:20 - 18:00\n杉浦先生\n設計者と顧客による価値
 共創のためのインタラクティブ技術\n\n\n18:00 - 20:00\n\n
 懇親会\n\n\n\n開催場所：\n会場は株式会社Preferred Networks
  3F大会議室です。\nアクセス\n東京メトロ大手町駅にて
 下車後、C7またはE2出口（東西線ご利用の場合は、丸ノ
 内線方面の乗り換え口）より大手町ビルへ入り、建物
 中央のエレベーターで3Fに上がってすぐです。\n開場は
 12:30頃の予定です。\n＜注意事項等＞\n\n勉強会会場と
 なるセミナールーム以外の入室はご遠慮ください。\n
 特に、Preferred Networksはビル2Fにもオフィスがあります
 が、会場は3Fですのでお間違いないようお願い致しま
 す。\n\n\n電源として延長コードを用意していますが人
 数分には足りないことが予想されるため予めご了承の
 上ご準備ください。\n\n懇親会について\n引き続きPreferr
 ed Networks様の会場をお借りして、ピザやスナックなど
 の立食形式の懇親会を行います。\n参加費：\n\n2000円　
 （社会人）\n1000円　（学生）\n無料 (発表者)\n\n参加費
 は受付時に徴収致しますので、できるだけお釣りの無
 いようにお願いします。\n無線LANについて：\n会場でWiF
 iを開放いたします。\n資料の事前アップロード\nオン
 ラインで参加する方のために、発表者の方は事前にSlid
 eShareやGoogleドキュメントに資料を上げて頂けますでし
 ょうか。\nSlide Share:\nhttp://www.slideshare.net/\nGoogle Docs:\nhtt
 p://docs.google.com/?tab=oo&authuser=0#folders/0B6prpJWU-BLhMzMxNjBkNzktY
 jUwYS00NzUyLTkyNDAtNmZiYWE0NzU3ZmRj\nGoogle Docsのアップロード方
 法は\n\n自分のアカウントのgoogle docsに資料をupする\nup
 した資料の"共有設定"から"ユーザーを追加 でCV勉強会
 のメールアドレス "cvim_tutorial@googlegroups.com" を追加する
 \n"メール通知を送信する（推奨）"にチェックが入って
 いることを確認し\, 共有する\n\n配信：\n勉強会の様子
 は以下から配信予定です。\nhttp://www.ustream.tv/channel/learn
 cv\nまた、勉強会の資料が上がったら、#cvsaisentan タグ
 をつけて以下のカウントからtweet予定ですので、フォ
 ローをお願いします。\nhttp://twitter.com/kantocv\n勉強会の
 サイト：\n過去の履歴などは、以下のサイトで見るこ
 とができます。\nhttp://sites.google.com/site/cvsaisentan/\nまた
 、以下のメーリングリストでも連絡を回しています。\
 nhttp://groups.google.co.jp/group/cvim_tutoria
LOCATION:Preferred Networks 東京都千代田区 大手町１丁目６−
 １ (大手町ビル3F)
URL:https://techplay.jp/event/621354?utm_medium=referral&utm_source=ics&utm
 _campaign=ics
END:VEVENT
END:VCALENDAR
