BEGIN:VCALENDAR
VERSION:2.0
PRODID:-//https://techplay.jp//JP
CALSCALE:GREGORIAN
METHOD:PUBLISH
X-WR-CALDESC:Google I/O 2017 わいわい報告会 @ Mercari
X-WR-CALNAME:Google I/O 2017 わいわい報告会 @ Mercari
X-WR-TIMEZONE:Asia/Tokyo
BEGIN:VTIMEZONE
TZID:Asia/Tokyo
BEGIN:STANDARD
DTSTART:19700101T000000
TZOFFSETFROM:+0900
TZOFFSETTO:+0900
TZNAME:JST
END:STANDARD
END:VTIMEZONE
BEGIN:VEVENT
UID:621494@techplay.jp
SUMMARY:Google I/O 2017 わいわい報告会 @ Mercari
DTSTART;TZID=Asia/Tokyo:20170526T190000
DTEND;TZID=Asia/Tokyo:20170526T213000
DTSTAMP:20260421T065911Z
CREATED:20170511T100012Z
DESCRIPTION:イベント詳細はこちら\nhttps://techplay.jp/event/62149
 4?utm_medium=referral&utm_source=ics&utm_campaign=ics\n\nGoogle I/OはGoo
 gleの年次開発者会議です。カンファレンスは3日間にわ
 たって開催され、\n最新技術や新製品、アプリ開発事
 例など主にモバイル関連技術、プロダクトのトピック
 が扱われます。\n今年の技術動向を知れるまたとない
 機会です。\n「Google I/O 2017 わいわい報告会」では、注
 目の技術やセッションをピックアップ、Android\,Web\,Fireb
 aseの3セグメントに分けて、「これは！」というトピッ
 クを紹介します。\nI/Oではたくさんのセッションがあ
 るので（面白いセッションを探すのも楽しみの一つで
 すが）それなりに見るのも大変です。この報告会をき
 いて興味のある分野をみつけてみませんか？\nAndroid\,We
 b\,Firebaseいずれも関係性の強い分野なので楽しく過ご
 せるとおもいます。\n講演終了後は懇親会として会場
 を開放しますので、聞いた内容について更に突っ込ん
 でみたり、\n疑問点を解消したりと、有意義に活用し
 てもらえるとうれしいです。\n日時\n2017/5/26 19:00~22:00\n
 ※受付は20時に撤収します\nタイムテーブル\n\n\n\n時刻\
 n説明\n\n\n\n\n19:00~\n開場\n\n\n19:30~19:40\nGoogle I/O 2017 Overvie
 w（@mhidaka）- 報告会の説明とイベント概要の紹介\n\n\n19
 :40~20:00\nGoogle Assistant関係のセッションまとめ（@tenntenn
 ）- Google Assistant関係のセッションから面白いものをピ
 ックアップ！\n\n\n20:00~20:10\n休憩\n\n\n20:10~20:30\n注目のMo
 bile Web技術（@yui_tang）- I/Oで注目のWebTechnologyを紹介し
 ます\n\n\n20:30~20:50\nWhat new in Android & What Developers Need To Kn
 ow（@kukino）- 今回のI/Oで発表されたAndroid関連の更新内
 容について紹介します\n\n\n20:50~21:00\nゲストLT メーカー
 フェアにいってきたよ（住友さん）\n\n\n\n※タイトル
 、講演概要は変更する可能性があります。あらかじめ
 ご了承ください。\n会場について\n会場\n\n株式会社メ
 ルカリ 東京支社オフィス\n東京都港区六本木6-10-1 六本
 木ヒルズ森タワー18F\n\n入館の方法\n19:00開場、19:30 開
 始の予定です。20時には受付カウンターを撤収します
 。\n六本木ヒルズ森タワーのLL階にある受付カウンター
 にて受付予定です。参加証をご提示ください。\nその
 際、入館許可証が発行されますので、お持ちになって1
 8Fまでお越しください。\nなお、お帰りの際に、入館許
 可証が必要です。捨てずにお持ちください（退出時に
 警備員さんが回収します）。\nその他\n\nWi-Fiあります
 。\nご飯が目的などイベント趣旨にそぐわないと判断
 したら参加をご遠慮いただくことがあります。\n\n注意
 事項\nオフィス棟の受付が20時までです。もし受付がで
 きずに入れない場合は、本ページ下記の「本イベント
 に関する問い合わせ」かTwitterのハッシュタグでご連絡
 ください。\n本イベントに関する問い合わせ\n本イベン
 トに関するご質問等は、下記のGmailかTwitterにご連絡く
 ださい。\n※メールアドレスはお間違えないようにご
 注意ください。\nGmail : mhidaka@mercari.com\nTwitter : @mhidaka
LOCATION:株式会社メルカリ 東京本社オフィス 東京都港区
 六本木6-10-1(六本木ヒルズ森タワー18F)
URL:https://techplay.jp/event/621494?utm_medium=referral&utm_source=ics&utm
 _campaign=ics
END:VEVENT
END:VCALENDAR
