BEGIN:VCALENDAR
VERSION:2.0
PRODID:-//https://techplay.jp//JP
CALSCALE:GREGORIAN
METHOD:PUBLISH
X-WR-CALDESC:複雑なアプリも最新技術もノンプログラミン
 グですぐできる！～ノンプログラミングPaaSとは～
X-WR-CALNAME:複雑なアプリも最新技術もノンプログラミン
 グですぐできる！～ノンプログラミングPaaSとは～
X-WR-TIMEZONE:Asia/Tokyo
BEGIN:VTIMEZONE
TZID:Asia/Tokyo
BEGIN:STANDARD
DTSTART:19700101T000000
TZOFFSETFROM:+0900
TZOFFSETTO:+0900
TZNAME:JST
END:STANDARD
END:VTIMEZONE
BEGIN:VEVENT
UID:621901@techplay.jp
SUMMARY:複雑なアプリも最新技術もノンプログラミングで
 すぐできる！～ノンプログラミングPaaSとは～
DTSTART;TZID=Asia/Tokyo:20170531T153000
DTEND;TZID=Asia/Tokyo:20170531T180000
DTSTAMP:20260422T154515Z
CREATED:20170516T033223Z
DESCRIPTION:イベント詳細はこちら\nhttps://techplay.jp/event/62190
 1?utm_medium=referral&utm_source=ics&utm_campaign=ics\n\nイベント内
 容\n\n”Mendix App Platform”東京リージョンオープン記念
 セミナーと題して新しくなった「Mendix App Platform」をご
 紹介します。\n\nこれまでスクラッチで作っていた複雑
 な画面や帳票、最新技術の習得に時間のかかったIoTやC
 ognitive、スマートデバイス対応アプリケーションが簡
 単に作れます。\n\n実践的なデモや体験コーナーを通じ
 てMendixを体感してみてください。\n\nこんな方におすす
 め！\n\n・低コスト、省リソースで素早くビジネスを立
 ち上げたい\n\n・複雑な業務に対応するカスタムアプリ
 ケーションを早く開発したい\n\n・最新技術（IoT、Cognit
 ive）と連携した新規システムを開発したい\n\n開催概要
 \n\n【日程】　2017年5月31日（水）\n\n【時間】　15:30～18
 :00（受付　15:00～）\n\n　　　　　※18:00から個別相談
 、体験コーナーをオープンします。\n\n【参加費】無料
 \n\nプログラム\n\n第1部　15:30～　\n\n　　　　Mendix App Pl
 atform概要ご紹介\n\n第2部　16:20～\n\n　　　　最新技術
 を利用して新規サービスを素早く立ち上げる\n\n第3部
 　17:10～\n\n　　　　Mendix Modelerによる開発デモ\n\n第4部
 　18:00～\n\n　　　　（ご希望の方のみ）体験コーナー
 ＆個別相談\n\n19:00　終了\n
LOCATION:JJK会館（全国情報サービス産業厚生年金基金）7
 階 東京都中央区築地4-1-14
URL:https://techplay.jp/event/621901?utm_medium=referral&utm_source=ics&utm
 _campaign=ics
END:VEVENT
END:VCALENDAR
