BEGIN:VCALENDAR
VERSION:2.0
PRODID:-//https://techplay.jp//JP
CALSCALE:GREGORIAN
METHOD:PUBLISH
X-WR-CALDESC:★6/8「初めてのヨガ体験イベント」開催★エ
 ンジニア女性大集合★
X-WR-CALNAME:★6/8「初めてのヨガ体験イベント」開催★エ
 ンジニア女性大集合★
X-WR-TIMEZONE:Asia/Tokyo
BEGIN:VTIMEZONE
TZID:Asia/Tokyo
BEGIN:STANDARD
DTSTART:19700101T000000
TZOFFSETFROM:+0900
TZOFFSETTO:+0900
TZNAME:JST
END:STANDARD
END:VTIMEZONE
BEGIN:VEVENT
UID:622077@techplay.jp
SUMMARY:★6/8「初めてのヨガ体験イベント」開催★エンジ
 ニア女性大集合★
DTSTART;TZID=Asia/Tokyo:20170608T193000
DTEND;TZID=Asia/Tokyo:20170608T210000
DTSTAMP:20260420T031842Z
CREATED:20170518T004403Z
DESCRIPTION:イベント詳細はこちら\nhttps://techplay.jp/event/62207
 7?utm_medium=referral&utm_source=ics&utm_campaign=ics\n\nリフレッシ
 ュと交流を楽しめるヨガイベント！ 仕事帰りに立ち寄
 れる！\n\n★6/8「初めてのヨガ体験イベント」開催★ 
 参加無料★\n\n活躍中の女性エンジニアを応援するイベ
 ントです♪\n「体を動かして日頃の疲れをとりたい」
 「同じ環境で働いている人同士、気軽に交流したい」
 希望を叶えます\n\nエンジニアのシゴトって、デスクワ
 ークが中心。どうしても身体がカチコチに固まります
 よね。\n\nそこで！このイベントでは、ヨガによるリフ
 レッシュタイム＆さまざまな業界で活躍する女性エン
 ジニアが集うコミュニケーションの場をご提供します
 ！\n\nヨガで身体をストレッチしたい！\n他業界の人と
 コミュニケーションをとりたい！\nとにかく疲労回復
 したい！\nそんな思いを抱えている女性エンジニアの
 方、ぜひご参加ください！\n\n\nヨガは体の硬い方や未
 経験の方にも楽しめる内容になってますので、安心し
 て参加いただけますよ♪\n\nイベントスケジュール\n\n19
 :10～19:30 　開場～受付開始\n\n19:30～20:30 　インストラ
 クター・小室 理砂さん指導による初めてのヨガ体験\n\
 n20:30～21:00 　女性エンジニア懇談会\n\n※途中参加可能
 です。\n※ヨガマット・お水などはこちらでご用意い
 たします（無料）。\n※ヨガの際に着用する動きやす
 い服をご持参ください。\n※着替えスペースはご用意
 しています。\n※参加人数の状況のより当日参加も可
 能です。お問合せは下記までお問い合わせください。\
 n※スケジュールは当日、多少変更になる場合がありま
 すがご了承ください。 \n\n開催日時\n\n6月8日（木）19:30
 ～21:00（受付：19:10～）\n\n中止の際はメッセージ、ま
 た、弊社コーポレートサイトやSNSを通じてお知らせい
 たしますので、ご確認をおねがいします\n\n会場\n\n東
 京都港区芝浦3-4-1 グランパークタワー3F　株式会社VSN 
 本社\n地図\n\n参加いただける方\n\nエンジニア関連の仕
 事に就いている女性の方\n\nお持ちいただくもの\n\nヨ
 ガの際に着用する動きやすい服\n
LOCATION:株式会社VSN 本社 東京都港区芝浦3-4-1 グランパー
 クタワー3F
URL:https://techplay.jp/event/622077?utm_medium=referral&utm_source=ics&utm
 _campaign=ics
END:VEVENT
END:VCALENDAR
