BEGIN:VCALENDAR
VERSION:2.0
PRODID:-//https://techplay.jp//JP
CALSCALE:GREGORIAN
METHOD:PUBLISH
X-WR-CALDESC:GitLab Meetup Tokyo #3: GitLab 9.xリリース記念
X-WR-CALNAME:GitLab Meetup Tokyo #3: GitLab 9.xリリース記念
X-WR-TIMEZONE:Asia/Tokyo
BEGIN:VTIMEZONE
TZID:Asia/Tokyo
BEGIN:STANDARD
DTSTART:19700101T000000
TZOFFSETFROM:+0900
TZOFFSETTO:+0900
TZNAME:JST
END:STANDARD
END:VTIMEZONE
BEGIN:VEVENT
UID:622216@techplay.jp
SUMMARY:GitLab Meetup Tokyo #3: GitLab 9.xリリース記念
DTSTART;TZID=Asia/Tokyo:20170607T183000
DTEND;TZID=Asia/Tokyo:20170607T210000
DTSTAMP:20260422T013412Z
CREATED:20170519T020332Z
DESCRIPTION:イベント詳細はこちら\nhttps://techplay.jp/event/62221
 6?utm_medium=referral&utm_source=ics&utm_campaign=ics\n\n概要\nソフ
 トウェア開発者向けプラットフォーム「GitLab」につい
 ての情報交換会です。 Git管理ツールとして始まったGit
 Labで現在どんなことが出来るのか知りたい方や、有効
 に活用する方法について知りたい方の参加をお待ちし
 ております。\n日時\n\n2017年6月7日(水) 18:30〜21:00 (開場 
 18:00)\n\n場所\n\n会場: 富士通株式会社 本社事務所 24F大
 会議室\n住所: 東京都港区東新橋1-5-2 (汐留シティセン
 ター)\n\n\n\n備考\n\n18:00から1Fロビーで入館証を配布し
 ます。入館証を受け取った後、24F大会議室へ移動をお
 願いします。\n入館証は退出時に回収します。必ず返
 却をお願いします。\n19:00以降に到着した場合はTwitter
 ハッシュタグ #gitlabjp にご連絡頂ければ、お迎えに上
 がります。\n20:00以降は入館できませんので、ご注意く
 ださい。\n会場ではWiFiを提供しています。電源はあり
 ませんのでご注意ください。\n会場は禁煙です。\n\n参
 加費\n\n無料\n\n対象\n\nGitLabコミュニティや開発に携わ
 りたい\n業務またはプライベートでGitリポジトリの管
 理ツールを探している\nGitLabで何ができるのか知りた
 い\nGitLabをもっと使いこなしたい\n\n内容\nタイムテー
 ブル\n18:00 開場・18:30 開始\n※ タイムテーブルは変更
 となる場合があります。\n\n\n\n時間\n担当\n内容\n\n\n\n\n
 18:00-18:30\n-\n受付\n\n\n18:30-18:35\n@jeffi7 / @tnir\n会場案内 / 
 GitLab Tokyoについて\n\n\n18:35-18:55\n@tnir\nGitLabの近況\n\n\n18
 :55-19:15\n@joji-f-mckenzie\nGitLab 9.0/9.1/9.2で導入された新機
 能紹介\n\n\n19:15-19:25\nja_JP Translation team\nGitLabのi18nとja_JP
 化の活動\n\n\n19:25-19:35\nYuki Yoshida\nPipeline戦略を考えら
 れる人が良いと思うよ\n\n\n19:35-19:40\n-\n休憩\n\n\n19:40-20:
 10\n*\nLT (5分x4)\n\n\n\n鈴木 和真\n「複数リポジトリでのIs
 sue管理（仮）」\n\n\n\nrelaxteatime\n「【脱Excel方眼紙】 Git
 Lab + PlantUMLで設計書作成」\n\n\n\n@shindoy\nRancher loves (Labs)
  GitLab\n\n\n\n@jvasseur\nCreationLine x GitLab\n\n\n20:10-21:00\n全員(
 任意)\n懇親会\n\n\n21:00-21:05\nGitLab .JP\nクローズ\n\n\n21:05-
 21:30\n全員\nクローズ会場片付け/解散\n\n\n\nトーク・LT
 発表者募集中\nGitLabや周辺技術に関して発表を希望さ
 れる方は、こちらのGoogleフォームでご応募ください。\
 nスポンサー\n\n\n\n\n\n\n\n\n\n\nRancher Japan\nクリエーショ
 ンライン株式会社\nTBA\n\n\n\n会場提供: 富士通株式会社\
 nGitLab Tokyoではスポンサーを募集しています。 (2017-05-30
 ) スポンサー募集を締め切りました。\n\n\n増枠しまし
 た。160→180名 (2017-06-02 15:30)\n再度増枠しました。140→1
 60名 (2017-05-22 09:00)\n申込公開当日で定員に達してしま
 ったため、増員しました。120→140名 (2017-05-19 23:00)\n申
 込公開6時間で定員に達してしまったため、増員しまし
 た。100→120名 (2017-05-19 16:20)\n
LOCATION:富士通株式会社 本社事務所 24F大会議室 東京都港
 区東新橋1-5-2 (汐留シティセンター)
URL:https://techplay.jp/event/622216?utm_medium=referral&utm_source=ics&utm
 _campaign=ics
END:VEVENT
END:VCALENDAR
