BEGIN:VCALENDAR
VERSION:2.0
PRODID:-//https://techplay.jp//JP
CALSCALE:GREGORIAN
METHOD:PUBLISH
X-WR-CALDESC:第2回kLabハッカソン | Webサイトスライダー jQuer
 yプラグインを使おう |
X-WR-CALNAME:第2回kLabハッカソン | Webサイトスライダー jQuer
 yプラグインを使おう |
X-WR-TIMEZONE:Asia/Tokyo
BEGIN:VTIMEZONE
TZID:Asia/Tokyo
BEGIN:STANDARD
DTSTART:19700101T000000
TZOFFSETFROM:+0900
TZOFFSETTO:+0900
TZNAME:JST
END:STANDARD
END:VTIMEZONE
BEGIN:VEVENT
UID:622404@techplay.jp
SUMMARY:第2回kLabハッカソン | Webサイトスライダー jQueryプ
 ラグインを使おう |
DTSTART;TZID=Asia/Tokyo:20170527T140000
DTEND;TZID=Asia/Tokyo:20170527T160000
DTSTAMP:20260420T113644Z
CREATED:20170522T053421Z
DESCRIPTION:イベント詳細はこちら\nhttps://techplay.jp/event/62240
 4?utm_medium=referral&utm_source=ics&utm_campaign=ics\n\n第2回kLabハ
 ッカソン\n\nWebサイトスライダー jQueryプラグインを使
 おう\n\n結局、 jQueryプラグインでどのスライダーが実
 装しやすいの？という疑問を解消するべく、参加者同
 士で色々なプラグインを使ってスライダーを実装して
 みます。\n\nオススメポイント！\n\n・ jQueryの実装がで
 きる！\n\n・わからなかったら仲間に聞ける！\n\n・み
 んなで調べるからプラグインの特性を色々知れる！\n\n
 詳細\n\n+日　時：2017年5月27日(土)　14:00〜16:00\n\n+場　
 所：kLab\n\n+費　用：1\,000円\n\n+対　象：webコーディン
 グができる方\n\n+持ち物：ノートPC\n
LOCATION:kLab 神奈川県横浜市神奈川区三ツ沢下町１４−３
 ３ジェイラム横濱1F
URL:https://techplay.jp/event/622404?utm_medium=referral&utm_source=ics&utm
 _campaign=ics
END:VEVENT
END:VCALENDAR
