BEGIN:VCALENDAR
VERSION:2.0
PRODID:-//https://techplay.jp//JP
CALSCALE:GREGORIAN
METHOD:PUBLISH
X-WR-CALDESC:DIST.16 「esa meetup in Tokyo〜情報共有Night」
X-WR-CALNAME:DIST.16 「esa meetup in Tokyo〜情報共有Night」
X-WR-TIMEZONE:Asia/Tokyo
BEGIN:VTIMEZONE
TZID:Asia/Tokyo
BEGIN:STANDARD
DTSTART:19700101T000000
TZOFFSETFROM:+0900
TZOFFSETTO:+0900
TZNAME:JST
END:STANDARD
END:VTIMEZONE
BEGIN:VEVENT
UID:622616@techplay.jp
SUMMARY:DIST.16 「esa meetup in Tokyo〜情報共有Night」
DTSTART;TZID=Asia/Tokyo:20170623T190000
DTEND;TZID=Asia/Tokyo:20170623T210000
DTSTAMP:20260421T020912Z
CREATED:20170524T020925Z
DESCRIPTION:イベント詳細はこちら\nhttps://techplay.jp/event/62261
 6?utm_medium=referral&utm_source=ics&utm_campaign=ics\n\nタイムテー
 ブル\n\n\n\n時刻\n内容\n\n\n\n\n18:30～19:00\n開場／受付\n\n\
 n19:00～19:10\nごあいさつ\n\n\n19:10〜19:20\n「esa.ioのご紹介
  〜気軽に思いを発信できる文化を作ろう〜」\n\n\n19:25
 ～19:40\n「Node学園祭とesa.io」\n\n\n19:45～20:00\n「サービ
 ス開発を加速させる情報共有」\n\n\n20:00〜20:15\n休憩\n\n
 \n20:15〜20:30\n「わかばちゃんと学ぶ フリーランスのた
 めの情報整理術」\n\n\n20:35～20:50\n「情報共有からはじ
 めるチームづくり」\n\n\n20:50～21:00\nみんなでお片付け
 ／閉場\n\n\n21:00〜\n近隣の店舗に移動して懇親会（懇親
 会参加の方のみ）\n\n\n\nYouTube Live配信\n設備・機材の状
 況が整えば、当日は19:00前後からDISTのYouTubeチャンネル
 でライブ配信をします。設備・機材の都合でライブ配
 信がない場合でも、後日同チャンネルに動画をアップ
 ロードします。\nセッション概要（各15分）\n「esa.ioの
 ご紹介 〜気軽に思いを発信できる文化を作ろう〜」\ne
 sa LLC エンジニア 越川 直人、デザイナー/Co-founder 赤塚 
 妙子（AKATSUKA Taeko）\nesa.ioの開発・運営をされているesa
  LLCからエンジニアの越川氏、デザイナー/Co-founderの赤
 塚氏をお招きし、esa.ioの概要と特長、情報共有ツール
 の導入時に大切なことについてお話しいただきます。
 開発中の新機能のチラ見せもあるカモ!?\n\nesa.ioの概要
 と特長\n情報共有ツールの導入時に大切なこと\nesa.ioが
 目指していること\n\n※本セッションのみ10分となりま
 す。\n「Node学園祭とesa.io」\nNode.js 日本ユーザーグルー
 プ 代表 古川 陽介 （FURUKAWA Yosuke）\nNode.js 日本ユーザ
 ーグループは、日本および周辺アジア地域でのNode.jsの
 普及を目的とした組織です。その活動の一環として、
 定期的に「東京Node学園」という勉強会を開催しており
 、その裏側ではesaを利用したスタッフ間の情報共有が
 行われています。本セッションでは、コミュニティ運
 営における情報共有のコツについてご紹介します。\n\n
 東京Node学園でどのようにesaを利用しているか\n（業務
 ではなく）コミュニティにおける情報共有のコツ\n運
 営をうまく続けられる理由\n\n「サービス開発を加速さ
 せる情報共有」\n株式会社spice life CTO 赤松 祐希 （AKAMAT
 SU Yuki）\nオリジナルTシャツ作成サービス「TMIX」、「ST
 EERS」を展開するspice lifeでは、黎明期からesaを導入し
 、積極的に使ってきました。導入前後で良くなったこ
 となど、普段の事業開発においてesaをどのように使っ
 ているか、当社の事例を余すところなくお伝えします
 。\n\n社内の情報を社全体、チーム単位などでどのよう
 に共有しているか\n情報共有前と後を比べて良くなっ
 た点\nうまくいかず改善した点\nesaの使い方で工夫して
 いる点\n\n「わかばちゃんと学ぶ フリーランスのため
 の情報整理術」\nWebデザイナー/技術書執筆/マンガ家/
 イラストレーター 湊川 あい （MINATOGAWA Ai）\nフリーラ
 ンスWebデザイナーでありながら、技術書執筆、マンガ
 、挿絵などでも活動している湊川氏。\n著書に「わか
 ばちゃんと学ぶGit使い方入門」「わかばちゃんと学ぶW
 ebサイト制作の基本」、Web連載に「マンガでわかるGit
 」「わかばちゃんが行くオフィス訪問マンガ」などが
 あります。\nクライアントとの情報共有をはじめ、技
 術書執筆、日々のモチベーション維持など、様々なシ
 ーンでのesa活用を、実例を挙げて紹介します。\n\nesaで
 捗る書籍執筆！ 2つの理由\nクライアントから「見やす
 い」と評判！ esaで実現するスムーズな受発注\nニッポ
 ーでモチベーション維持！ 楽しい1人esa（最近は2人に
 なりました）\n\n「情報共有からはじめるチームづくり
 」\nソフトウェアエンジニア 小久保 祐介（KOKUBO Yusuke
 ）\n情報共有は、よりよいチームづくりの第一歩です
 。本セッションでは、プロダクト開発に必要な情報共
 有をesaを使ってどのようにやっているのかご紹介した
 いと思います。\n※本セッションは、2017年1月24日に行
 われたesa meetup in NAGOYAでのセッションの再構築版です
 。\n\n情報共有に必要なカテゴリーの分け方\nesaプラク
 ティス\nesaの始め方\nesaを使う心構え\n\n更新履歴\n\n\n\n
 更新日時\n内容\n\n\n\n\n6/23 9:55\n当日用にイベントペー
 ジの情報順を変更しました。\n\n\n6/5 9:35\n当日決済枠の
 申込受付を開始しました。\n\n\n5/24 10:00\nイベントペー
 ジを公開しました。\n\n\n\nイベント概要\n10年前に比べ
 ると、Web制作に必要な知識量は、増加の一途をたどっ
 ています。デザイン、フロントエンド、サーバーサイ
 ドなど、各領域で複雑に入り組む情報を整理し、共有
 することが重要になってきています。それは、会社、
 チーム、コミュニティ、個人、あらゆる解像度で求め
 られることです。\nDISTでも、勉強会運営のノウハウを
 浸透させるべく、ドキュメント共有サービスのesa.ioを
 利用してきました。非営利の任意団体として、不特定
 多数のスタッフに情報を共有する難しさと楽しさを痛
 感しています。\nこのような背景から、esa.ioを開発・
 運営するesa LLCに全面的にご協力をいただき、情報共有
 Nightと題して、東京で初めてのesa meetupを開催すること
 になりました。スピーカー陣は、サービス開発やコミ
 ュニティ運営、さらには書籍執筆と、esa.ioを使いこな
 している方々ばかり。Web制作における、よりよい情報
 共有のあり方について語り合いましょう。\n対象\n\nWeb
 制作における情報共有に興味のある方\n他者（社）がes
 a.ioをどのように使いこなしているか知りたい方\n学生
 でWeb制作業界に興味を持っている方\n\n参加費\nDIST.16で
 は、事前決済枠と当日決済枠の2種類の参加枠を設けま
 した。\n\n経緯については、主宰のブログ記事「勉強会
 のキャンセルと、その対策。DISTの場合。」をご覧くだ
 さい。\nDISTの収支は、すべてGitHub Wikiで公表していま
 す。\n\n勉強会のみ\n1\,000円（フリードリンク付き）\n\n
 事前決済枠、または当日決済枠をお選びください。\n
 開場から休憩明けまで、会場1Fのテラカフェにてソフ
 トドリンクを無料でご提供します。\n事前決済枠\nPayPal
 による事前決済となります。\n具体的な流れは、PayPal
 による事前決済についてをご参考ください。\nキャン
 セル・払い戻しは一切対応できません。あらかじめご
 了承ください。\n\n\n当日決済枠\n当日受付で1\,000円を
 お支払いください。\n\n\n\n勉強会＋懇親会\n上記に加え
 て3\,000円（コース料理＋飲み放題）\n\nPayPalによる事前
 決済のみとなります。\n具体的な流れは、PayPalによる
 事前決済についてをご参考ください。\nキャンセル・
 払い戻しは一切対応できません。あらかじめご了承く
 ださい。\n懇親会のみの参加は受け付けていません。\n
 懇親会に参加される方のみ、勉強会の参加費1\,000円か
 ら500円分をデポジットとして返還します。\n懇親会の
 実費が3\,500円のため、トータルの金額は勉強会の参加
 費1\,000円（内500円が懇親会費として返還）＋懇親会費3
 \,000円＝4\,000円となります。\n懇親会に参加しない方は
 、500円分の返還はありません。\n\n\n\n会場\n東京テクニ
 カルカレッジ B1F テラホール（アクセスマップ）\n\nJR
 東中野駅 東口改札から徒歩1分\n中央線快速は、東中野
 駅に停車しません。中央・総武線（各駅停車）をご利
 用ください。\nくわしくは道順のご案内をご参考くだ
 さい。\n\n\n\nDISTについて\nDISTは、職種や技術の垣根を
 越えてWebに関わるすべての人を結ぶクリエイティブコ
 ミュニティです。有志が非営利で運営しています。\n
 主な活動として、以下の3つをコンセプトとした勉強会
 を定期開催しています。\n\n職種の垣根を越える\n特定
 の技術に依存しない\n今日から現場で使える\n\n注意事
 項\n\nスタッフ枠は、通常参加の方はお使いいただけま
 せん。スタッフとして参加希望の方は、公式サイトの
 お問い合わせフォームよりお問い合わせください。\n
 会場のWi-Fi一般開放はありません。\nライブ配信、写真
 撮影を予定しています。撮影NGの方は事前にお申し出
 ください。\nお支払いいただいた参加費や懇親会費の
 返金は一切できませんので、あらかじめご了承くださ
 い。\n主催者、参加者みんなで作り上げる勉強会です
 。準備や片付けにご協力をお願いします。\n
LOCATION:東京テクニカルカレッジ 東京都中野区東中野4-2-3
URL:https://techplay.jp/event/622616?utm_medium=referral&utm_source=ics&utm
 _campaign=ics
END:VEVENT
END:VCALENDAR
