BEGIN:VCALENDAR
VERSION:2.0
PRODID:-//https://techplay.jp//JP
CALSCALE:GREGORIAN
METHOD:PUBLISH
X-WR-CALDESC:Tokyo HoloLens ミートアップ vol.3
X-WR-CALNAME:Tokyo HoloLens ミートアップ vol.3
X-WR-TIMEZONE:Asia/Tokyo
BEGIN:VTIMEZONE
TZID:Asia/Tokyo
BEGIN:STANDARD
DTSTART:19700101T000000
TZOFFSETFROM:+0900
TZOFFSETTO:+0900
TZNAME:JST
END:STANDARD
END:VTIMEZONE
BEGIN:VEVENT
UID:622746@techplay.jp
SUMMARY:Tokyo HoloLens ミートアップ vol.3
DTSTART;TZID=Asia/Tokyo:20170610T130000
DTEND;TZID=Asia/Tokyo:20170610T190000
DTSTAMP:20260420T111038Z
CREATED:20170525T060046Z
DESCRIPTION:イベント詳細はこちら\nhttps://techplay.jp/event/62274
 6?utm_medium=referral&utm_source=ics&utm_campaign=ics\n\n開催概要\nUn
 ite\,Build\,de:codeふりかえり\nUnite\,Build\,de:codeという怒涛
 の5月が終わり、新しい情報、新しい発見がたくさんあ
 りました。\n今回はそれらの情報をふりかえるととも
 に、今後の方向についてお話していただきます。\n■
 注意事項\n・体験型デモ(おさわり会)ではありません。
 もちろん、参加者がご自身のコンテンツを楽しんでも
 らうのは構いませんが、機材の破損などについて主催
 側でその責任は負えません。\n・イベント中に取材が
 入る可能性があります。またイベントスタッフによる
 写真やビデオ撮影等を予定しております。撮影されま
 した内容は後日主催者や会場提供者によるイベントの
 開催レポート等に使わせていただくことがありますの
 で予めご了承ください。\n■タイムテーブル\n\n\n\n開始
 時間\n内容\n\n\n\n\n12:30\n開場\n\n\n13:00\n前説、自己紹介Ti
 me(Holoとわたし)\n\n\n13:15\nMixed Reality Build Update 高橋 忍さ
 ん(日本マイクロソフト株式会社)\n\n\n14:00\n休憩\n\n\n14:1
 5\nMixedRealityでUI/UXが変わる！Sier視点で考えるHoloLensの
 活用術！  森 真吾さん、井出 将弘さん(TIS株式会社)\n\n
 \n15:00\n休憩\n\n\n15:15\nMRは表現が命！HoloLensのMR機能を最
 大限に生かしたコンテンツ制作ノウハウと事例紹介岩
 本 義智さん(株式会社ネクストスケープ)\n\n\n16:00\n休憩
 \n\n\n16:15\nナビタイムジャパン初のHoloLens向けデモアプ
 リの開発から公開に至るまで打櫻 和弥さん、赤峰 義
 明さん(株式会社ナビタイムジャパン)\n\n\n17:00\n懇親会
 へ転換\n\n\n\n\n\n\n開始時間\n内容\n\n\n\n\n17:00\n懇親会(フ
 リータイム)\n\n\n17:30\nHolo LT\n\n\n18:00\n懇親会(フリータ
 イム)\n\n\n18:30\nWrap up、記念撮影\n\n\n19:00\n撤収\n\n\n\n■
 登壇者／登壇内容のご紹介\n高橋 忍さん\n「Mixed Reality 
 Build Update 」\n日本マイクロソフト株式会社 プリンシパ
 ル テクニカル エバンジェリスト\nhttps://blogs.msdn.microsof
 t.com/shintak/\n\n森 真吾さん、井出 将弘さん\n「MixedReality
 でUI/UXが変わる！Sier視点で考えるHoloLensの活用術！」\n
 TIS株式会社　戦略技術センター\nhttps://www.wantedly.com/comp
 anies/tis\n\n\n岩本 義智さん\n「MRは表現が命！HoloLensのMR
 機能を最大限に生かしたコンテンツ制作ノウハウと事
 例紹介」\n株式会社ネクストスケープ　クラウド事業
 本部　クラウドレンダリング事業開発部　部長\nhttp://w
 ww.nextscape.net/\n\n打櫻 和弥さん、赤峰 義明さん\n「ナビ
 タイムジャパン初のHoloLens向けデモアプリの開発から
 公開に至るまで」\n\nナビタイムジャパンがde:code 2017に
 向けたHoloLens向けデモアプリを開発することになった
 経緯と実際のアプリ開発の流れについてお話します。\
 n\n打櫻 和弥さん (株式会社ナビタイムジャパン 開発部
 部長／アプリ研究開発グループ責任者)\n赤峰 義明さん
  (株式会社ナビタイムジャパン アプリ研究開発シニア
 エンジニア)\n■開催概要\nイベント名：Tokyo HoloLens Meetu
 p vol.3\n日程：6月10日(土)\n時間：12:30 受付開始　13:00～1
 9:00　\n会場：日本マイクロソフト株式会社(品川)\n費用
 ：1\,000円\n主催: HoloMagicians / TMCN \n協力：  \n日本マイク
 ロソフト株式会社 
LOCATION:日本マイクロソフト株式会社セミナールーム 東
 京都港区港南 2-16-3
URL:https://techplay.jp/event/622746?utm_medium=referral&utm_source=ics&utm
 _campaign=ics
END:VEVENT
END:VCALENDAR
