BEGIN:VCALENDAR
VERSION:2.0
PRODID:-//https://techplay.jp//JP
CALSCALE:GREGORIAN
METHOD:PUBLISH
X-WR-CALDESC:JAPAN　OPEN INNOVATION　FES　2017
X-WR-CALNAME:JAPAN　OPEN INNOVATION　FES　2017
X-WR-TIMEZONE:Asia/Tokyo
BEGIN:VTIMEZONE
TZID:Asia/Tokyo
BEGIN:STANDARD
DTSTART:19700101T000000
TZOFFSETFROM:+0900
TZOFFSETTO:+0900
TZNAME:JST
END:STANDARD
END:VTIMEZONE
BEGIN:VEVENT
UID:623288@techplay.jp
SUMMARY:JAPAN　OPEN INNOVATION　FES　2017
DTSTART;TZID=Asia/Tokyo:20171013T100000
DTEND;TZID=Asia/Tokyo:20171013T200000
DTSTAMP:20260423T180403Z
CREATED:20170531T001806Z
DESCRIPTION:イベント詳細はこちら\nhttps://techplay.jp/event/62328
 8?utm_medium=referral&utm_source=ics&utm_campaign=ics\n\n参加費　5\,0
 00円\n\n※別途お申し込み書が必要となります\n\n※こち
 らでお申込みいただいた後、弊社からお申込書を発送
 いたします。（当日払いではございませんのでご了承
 ください）\n\n※eiicon会員は無料です。\n\nコンセプト
 　\n\n～ Re ｍade in Japanの実現 ～\n\nモノづくり大国日本
 を再興させる。米国でもなく欧州でもない、 日本なら
 ではのオリジナルオープンイノベーションの形を創造
 ・実現する。 そのためのヒントとなる場を提供してい
 きます。\n\n概要\n\nオープンイノベーションのノウハ
 ウを得る、face to faceで大企業・スタートアップと議論
 ができる、日本流オープンイノベーションの祭典です
 。\nメインブースではトークセッションやパネルディ
 スカッション、食事をとりながらのネットワーキング
 の場をご用意。大企業とスタートアップのmeetupの機会
 を創出します。\n\n日時\n\n10月13日（金）10:00～（受付
 開始9:30）\n\n場所\n\nSPACES　 100-0004東京都千代田区大手
 町1-6-1大手町ビル 1階\n\nアクセス\n\n大手町駅直結\n\n参
 加費\n\neiicon会員：無料\n\neiicon非会員：5\,000円\n\nお持
 ち物\n\n名刺（受付で頂戴致します）\n\n当日セッショ
 ン・登壇者等詳細はコチラから\n\n　\n\n「eiicon」とは\n
 \nオープンイノベーションのパートナーを探すことが
 できる、ビジネスマッチングプラットフォームです。
 企業が、企業情報をはじめとするミッションや事業成
 長に必要なリソース等、さまざまな情報を「eiicon」に
 登録することができます。それらの情報を発信し合い
 、企業同士が繋がることができる場が「eiicon」です。\
 n\nオープンイノベーションとは…\n\n「企業内部と外部
 のアイデアを組み合わせることで、革新的で新しい価
 値を創り出す」こと。\n（ヘンリーW.チェスブロウ提唱
 ）\n\n参加対象\n\neiicon会員限定：オープンイノベーシ
 ョンに関心をお持ちで、法人企業の役員、事業開発、
 投資・提携業務、\n研究開発、組織開発等に携わって
 いらっしゃる方\n\n主催\n\nオープンイノベーションプ
 ラットフォーム\n\n『eiicon』\n\n⇒eiiconを見る\n\nロケー
 ションスポンサー\n\n日本リージャス\n\n詳細はコチラ
 から\n\n
LOCATION:SPACES　 100-0004東京都千代田区大手町1-6-1大手町ビ
 ル 1階
URL:https://techplay.jp/event/623288?utm_medium=referral&utm_source=ics&utm
 _campaign=ics
END:VEVENT
END:VCALENDAR
