BEGIN:VCALENDAR
VERSION:2.0
PRODID:-//https://techplay.jp//JP
CALSCALE:GREGORIAN
METHOD:PUBLISH
X-WR-CALDESC:ScratchDojo　緑　…001
X-WR-CALNAME:ScratchDojo　緑　…001
X-WR-TIMEZONE:Asia/Tokyo
BEGIN:VTIMEZONE
TZID:Asia/Tokyo
BEGIN:STANDARD
DTSTART:19700101T000000
TZOFFSETFROM:+0900
TZOFFSETTO:+0900
TZNAME:JST
END:STANDARD
END:VTIMEZONE
BEGIN:VEVENT
UID:624092@techplay.jp
SUMMARY:ScratchDojo　緑　…001
DTSTART;TZID=Asia/Tokyo:20170816T103000
DTEND;TZID=Asia/Tokyo:20170816T120000
DTSTAMP:20260425T154334Z
CREATED:20170607T042019Z
DESCRIPTION:イベント詳細はこちら\nhttps://techplay.jp/event/62409
 2?utm_medium=referral&utm_source=ics&utm_campaign=ics\n\nScratchDojo 緑\
 n概要\nScratchDojo　緑では4歳でも出来るプログラミング
 言語（ビスケット）を使ったアニメーション作りを行
 ないます。操作は簡単で鉛筆で絵を書き、メガネで動
 きを決めます。メガネは素材（描かれた絵）の動きを
 決めるプログラムで、眼鏡の中の素材の配置によって
 いろんな動きをすることが出来ます。\n幼児から楽し
 みながらプログラミングを覚え、理解することが出来
 ます。是非、参加していただいて楽しい時間を過ごし
 ましょう。\n次の要領でDojoを開催します。\nDojoはプロ
 グラミング教室というよりも、自由なプログラミング
 ・クラブと思ってくださった方がいいかと思います。\
 n　●　開催場所：名古屋市徳重地区会館（ユメリア徳
 重）第1集会室\n　●　開催日時：8月16日（水）午前10:3
 0～12:00）\n　●　参加費：　親子二人で1\,000円です。
 参加のお子様が一人増えるごとに500円追加料金をお願
 いします。\n　●　実施内容\n　　iPadを用いてアプリ
 ・Viscuitの入門的内容を行ないます。\n応募方法\n電話
 でも可能ですが、この　connpass　から申し込んでいた
 だくと参加者把握の点からも有難いです。\n参加に際
 して\n●　利用機器はiPadが最適です。PCでも可能です
 が、小さいお子さんはマウスが使いにくいかと思いま
 す。\n　●　iPad の場合、アプリ・Viscuit　をインスト
 ールしてきて貰えると有難いです。\n参加に際して・
 ・・安全\n●　親子連れで参加をお願いしています。\n
 以上\n\n2017年6月7日\n松成　文夫
LOCATION:徳重地区会館  〒458-0801 愛知県名古屋市緑区鳴海
 町徳重１８−４１
URL:https://techplay.jp/event/624092?utm_medium=referral&utm_source=ics&utm
 _campaign=ics
END:VEVENT
END:VCALENDAR
