BEGIN:VCALENDAR
VERSION:2.0
PRODID:-//https://techplay.jp//JP
CALSCALE:GREGORIAN
METHOD:PUBLISH
X-WR-CALDESC:Vue.js Tokyo v-meetup #4
X-WR-CALNAME:Vue.js Tokyo v-meetup #4
X-WR-TIMEZONE:Asia/Tokyo
BEGIN:VTIMEZONE
TZID:Asia/Tokyo
BEGIN:STANDARD
DTSTART:19700101T000000
TZOFFSETFROM:+0900
TZOFFSETTO:+0900
TZNAME:JST
END:STANDARD
END:VTIMEZONE
BEGIN:VEVENT
UID:624716@techplay.jp
SUMMARY:Vue.js Tokyo v-meetup #4
DTSTART;TZID=Asia/Tokyo:20170707T190000
DTEND;TZID=Asia/Tokyo:20170707T220000
DTSTAMP:20260421T224447Z
CREATED:20170613T040018Z
DESCRIPTION:イベント詳細はこちら\nhttps://techplay.jp/event/62471
 6?utm_medium=referral&utm_source=ics&utm_campaign=ics\n\n概要\n七夕
 ですね！\nVue.js 日本ユーザーグループに主催による、V
 ue.js の MeetUp イベント開催します！！\nぜひ、参加して
  Vue.js について学び、Vue.js ユーザーと情報交換しまし
 ょう！\n日時\n2017/07/07 (金) 19:30 - 22:00 (19:00 受付開始)\n
 主催\nVue.js 日本ユーザーグループ\n参加方法\n一般参加
 枠\nVue.js Meetup の勉強会(各LTの聴講)のみに参加したい
 方は、「一般参加枠」から申込ください。先着順にな
 ります。\n一般参加 + 懇親会枠\n上記に加えて、勉強会
 後の懇親会にも参加したい方は、「一般参加+懇親会枠
 」から申込ください。先着順になります。\nLT一般発表
 枠\nVue.js Meetup で LT を発表したい方は、「LT一般発表枠
 」からお申込ください。\nテーマはVue.js に関連するテ
 ーマなら何でもOKです。\n参加申し込む際には、コメン
 トにLTのタイトルをコメントお願いします！\nLT発表し
 たいけどタイトル決まっていない方は、仮でもいいの
 でコメントお願いします！\n仮のタイトルで申し込ん
 だ場合は、下記のいずれかの方法でご連絡ください。\
 n\nこのイベントページの"イベントへのお問い合わせ"
 のリンク先から\nTwitter で @kazu_pon 宛\nVue.js 日本ユーザ
 ー向け slack で、kazupon 宛に DM\n\nブログ書く枠\n「ブロ
 グ書く枠」は、MeetUp 後参加レポートのブログを書いて
 くださる方の枠です。\nこの枠で参加された方は MeetUp 
 開催後、参加内容のブログ記事を書いて公開された上
 で、このイベントページのコメントでご報告お願いし
 ます！\nスタッフお手伝い枠\n「スタッフお手伝い枠」
 は、MeepUpの当日イベント運営をお手伝いしてくださる
 方の枠です。\n当日お手伝いとしては受付、業者から
 の飲食受領・会場での準備などのお手伝いになります
 。お手伝いされる方は、時間帯によってはLTの発表一
 部聴講できないかもしれませんが、ご了承下さい。\n
 タイムテーブル\nスケジュールの順番や内容は当日変
 更される可能性があります。\n\n\n\n開始時間\n発表時間
 \n内容\n発表者\n\n\n\n\n19:00\n\n開場\n\n\n\n19:30\n5分\n開始 (
 オープニング)\n@kazupon\n\n\n19:35\n\n前半\n\n\n\n\n10分\nLT1: W
 eex ではじめる Native App 開発 : (LT予約枠)\n@KaraMisoRamen\n\n
 \n\n10分\nLT2: お仕事で Nuxt.js を使うか検討した話 : (LT予
 約枠)\n@inouetakuya\n\n\n\n10分\nLT3: Vue.jsのTransitionでいい感
 じのアプリにする : (LT一般発表枠)\n@tomato360\n\n\n\n10分\n
 LT4: Vue.jsとFirebase Hostingでサーバサイドレンダリング (LT
 一般発表枠)\n@k2wanko\n\n\n20:15\n5分\n休憩\n-\n\n\n20:20\n\n後
 半\n\n\n\n\n10分\nLT5: Vueコンポーネントのユニットテスト
  : (LT一般発表枠)\n@hypermkt\n\n\n\n10分\nLT6: Vueでデザイン
 ツールを作った話 : (LT一般発表枠)\n@KeimaKai\n\n\n\n10分\nL
 T7: kintoneアプリを Vue.jsを使ってカスタマイズする（仮
 ） : (LT一般発表枠)\n@naruohama\n\n\n\n10分\nLT8: VueConf 2017 参
 加レポート : (LT予約枠)\n@ktsn\n\n\n21:00頃\n55分\n懇親会\n\
 n\n\n21:55頃\n\n終了\n\n\n\n22:00頃\n\n完全撤収\n\n\n\n\n一般
 参加+懇親会枠の参加費について\n「一般参加+懇親会枠
 」の参加費につきましては、当日懇親会の軽食とお酒
 ・ソフトドリンク代とさせていただきます。\n懇親会
 参加費 1000円 は会場入館の受付時に集めさせていただ
 きます。\n参加者の方へ\n\n会場では WiFi が利用できま
 す\n宣伝や採用のみを目的とした方のご参加はご遠慮
 ください\n懇親会(一般参加+懇親会枠で申し込まれた方
 のみ)での飛び込みLT(5分程度)歓迎です\n\n発表者の方へ
 \n\n会場では WiFi が利用できます\nプレゼンに使うコン
 ピュータはご持参ください\nプロジェクタには HDMI、Thu
 nderbolt、USB-C で接続できます。これら以外は、アダプ
 タをお持ち頂いて接続をお願いします \n宣伝や採用に
 終始する内容の発表はご遠慮ください (少し含む程度
 は OK)\n\nスタッフとしてお手伝いされる方へ\n\nイベン
 ト当日18:00に現地会場建物入り口前まで集合お願いい
 たします\n\n会場\nLINE株式会社\n東京都新宿区新宿四丁
 目1番6号 JR新宿ミライナタワー15階 オーディトリウム\n
 最寄り新宿駅からの会場ビルまでの行き方はこちら\n
 セミナー会場までの入館方法\n\n会場建物内5Fエントラ
 ンスに設置した受付で入館手続きをしてください。そ
 の際 connpass の本イベントで発行した受付票をご提示く
 ださい。\n入館手続き後、スタッフから渡されたゲス
 トカードをお持ちの上、15Fまでおこし下さい。\nゲス
 トカードは無くさないようご注意ください。首から下
 げることをおすすめします。\n\n懇親会参加の注意事項
 \n勉強会(各LTの聴講)後に行われる懇親会については、
 参加出来る方は以下となっておりますのでご注意くだ
 さい。\n\n一般参加+懇親会枠\nLT予約枠\nLT一般発表枠\n
 ブログ書く枠\nスタッフお手伝い枠\n本イベント運営関
 係者\n\n会場入館について\nエントランスでの会場入館
 の受付は、【 20時 】までにお願いします。それ以降に
 エントランスに来られた場合は、「当日の連絡方法」
 でご連絡をいただければ、スタッフがエントランスま
 で伺います。\n会場退場の注意事項\n受付でスタッフが
 渡したゲストカードは、お帰りの際に必ずスタッフに
 お渡しください。\n当日の連絡方法\n必要な連絡はTwitte
 r @kazu_pon の方に連絡をお願いします。 (即時性が必要
 な場合もこちらが良いと思います)\nもしくはハッシュ
 タグ #vuejs_meetup4 をつけて Tweet するか、slack の #meetup 
 チャンネルでコメントください。\nSlack\nVue.js 日本ユー
 ザー向けの slack もあります。興味がありましたら、ど
 うぞ！\nhttp://vuejs-jp-slackin.herokuapp.com/
LOCATION:LINE株式会社 東京都新宿区新宿四丁目1番6号 JR新
 宿ミライナタワー15階
URL:https://techplay.jp/event/624716?utm_medium=referral&utm_source=ics&utm
 _campaign=ics
END:VEVENT
END:VCALENDAR
