BEGIN:VCALENDAR
VERSION:2.0
PRODID:-//https://techplay.jp//JP
CALSCALE:GREGORIAN
METHOD:PUBLISH
X-WR-CALDESC:第15回 Machine Learning 15minutes!
X-WR-CALNAME:第15回 Machine Learning 15minutes!
X-WR-TIMEZONE:Asia/Tokyo
BEGIN:VTIMEZONE
TZID:Asia/Tokyo
BEGIN:STANDARD
DTSTART:19700101T000000
TZOFFSETFROM:+0900
TZOFFSETTO:+0900
TZNAME:JST
END:STANDARD
END:VTIMEZONE
BEGIN:VEVENT
UID:625199@techplay.jp
SUMMARY:第15回 Machine Learning 15minutes!
DTSTART;TZID=Asia/Tokyo:20170826T140000
DTEND;TZID=Asia/Tokyo:20170826T173000
DTSTAMP:20260424T105333Z
CREATED:20170617T161032Z
DESCRIPTION:イベント詳細はこちら\nhttps://techplay.jp/event/62519
 9?utm_medium=referral&utm_source=ics&utm_campaign=ics\n\n「Machine Learn
 ing 15minutes!」は、「機械学習」について「15minutes以内
 」で語るLTを6～9人程度で行い、DeepLearningなどの先端的
 な事例、強化学習・転移学習などの流行している技術
 、ビジネスへの応用例など、様々な角度から機械学習
 についての知見を広げ、LT終了後の懇親会でネットワ
 ーキングを行うイベントです。\nイベント会場が社内
 と直結している為、セキュリティカードを発行し個人
 の身元を管理する必要があります。 ですので、原則、
 必ずイベントに参加出来る方のみ応募いただく事とさ
 せていただきます。 大変申し訳ありませんが、直前に
 キャンセルをされた方は次回以降、参加を見合わせて
 いただく場合がありますので、ご了承ください。\n※
 タイトルや内容は予定です。予告なく変更になること
 もありますので、ご容赦ください。\n※受付開始13時30
 分〜　参加費として1000円を徴収させていただきます。
 \n　当日は名刺を2枚ご用意ください\n＜登壇者　発表
 内容＞\n蔵田 武志【現場のラボ化とラボの現場化：よ
 り広くより深く】\n　国立研究開発法人 産業技術総合
 研究所\n　筑波大学大学院（教授）\n田口 善弘【テン
 ソル分解を用いた教師なし学習による変数選択】\n　
 中央大学理工学部 物理学科（教授）\n西森 雅峰【LightG
 BMの特徴と仕組み】\n　KLab株式会社\n森山 直人【tensorfl
 owでNLP論文を実装する】\n　パーソルキャリア株式会社
 \n柏野 雄太【ベイジアンディープラーニング】\n　バ
 クフー株式会社\n大久保 健彦【調整中】\n　株式会社
 じげん\n森裕 大朗【AIを学ぶ学生達のインキュベーシ
 ョンプラットフォーム】\n　東京大学\n亀田 重幸【AIニ
 ュースサイト「AINOW」掲載記事でAIトレンド分析~8月~】
 \n　dip AI. Lab\n　\n計8名\nイベントの様子\nhttp://ainow.ai/?s
 =Machine+Learning+15minutes%21+\nこちらのグループで情報を発
 信しております。\nhttps://www.facebook.com/groups/105265991814763
 2/\n＜運営メンバー＞\n【司会】門前 一馬　【司会サポ
 ーター】橘 千里（橘 ゆりあ）\n【撮影カメラマン】渡
 會 恭平　【レポーター】小澤 健祐　\n【受付・会計】
 佐久間　【運営サポート】田村 陵大、渡邊 英知\n【デ
 ィップ株式会社】亀田 重幸　9名\n\n＜対象＞\n機械学
 習及び周辺技術に興味のある、\n・エンジニア・デー
 タアナリスト・ディレクター・デザイナー\n・ビジネ
 スパーソン・プランナー・プロデューサー・会社経営
 者・投資家・学生\nまた、LT登壇者枠を広く公募（審査
 有り）しています。ご希望の方はお気軽に下記までメ
 ッセージください。https://www.facebook.com/kazuma.kadomae\n＜
 参加費について＞\n参加費として頂いた1000円は懇親会
 費用・備品購入費として使用します。\n※領収証は発
 行いたしませんので事前にご承知おきください。\n＜
 注意事項＞\n※受付で名刺を頂戴しますので、名刺を2
 枚お持ちください。お持ちでない場合、別紙に必要事
 項を記載いただきますので、受付に少々時間がかかる
 ことがあります。（氏名、連絡先などの記載がない場
 合は入館管理の都合上ご入場いただけません）\n※電
 源は十分な数がありませんのでフル充電でお越しくだ
 さい。\n※学生は学生証を提示した場合、無料としま
 す。学生証以外は不可ととして有料とします。\n＜協
 力＞\nディップ株式会社　※会場提供・運営協力\n＜主
 催責任者＞\n門前一馬（カドマエ カズマ）\n・全脳ア
 ーキテクチャ・イニシアティブ　正会員　https://www.yout
 ube.com/watch?v=ouP7YJMP97A\n・全脳アーキテクチャ若手の会
 　クリエイティブディレクター　https://www.youtube.com/watc
 h?v=0wtEYXZB2NA
LOCATION:ディップ株式会社 東京都港区六本木3-2-1 六本木
 グランドタワー31階
URL:https://techplay.jp/event/625199?utm_medium=referral&utm_source=ics&utm
 _campaign=ics
END:VEVENT
END:VCALENDAR
