BEGIN:VCALENDAR
VERSION:2.0
PRODID:-//https://techplay.jp//JP
CALSCALE:GREGORIAN
METHOD:PUBLISH
X-WR-CALDESC:Kotlinスタートブック読書勉強会 #2
X-WR-CALNAME:Kotlinスタートブック読書勉強会 #2
X-WR-TIMEZONE:Asia/Tokyo
BEGIN:VTIMEZONE
TZID:Asia/Tokyo
BEGIN:STANDARD
DTSTART:19700101T000000
TZOFFSETFROM:+0900
TZOFFSETTO:+0900
TZNAME:JST
END:STANDARD
END:VTIMEZONE
BEGIN:VEVENT
UID:625237@techplay.jp
SUMMARY:Kotlinスタートブック読書勉強会 #2
DTSTART;TZID=Asia/Tokyo:20170703T193000
DTEND;TZID=Asia/Tokyo:20170703T210000
DTSTAMP:20260423T073653Z
CREATED:20170618T120013Z
DESCRIPTION:イベント詳細はこちら\nhttps://techplay.jp/event/62523
 7?utm_medium=referral&utm_source=ics&utm_campaign=ics\n\nKotlinスター
 トブック読書勉強会 #2\nKotlinスタートブックの読書会
 を全n回開催する予定で、これが2回目です。\n想定して
 いる参加者は、KotlinでAndroidアプリの開発を始めたい人
 、iOSアプリ開発の経験があるけどKotlinにも興味がある
 、サーバーサイドでKotlinを書いてみたい方を対象とし
 ています。\n今回は「第4章 基本的な文法」の予定です
 。\n時間は80分程度、発表者を中心として本の解説をし
 ていきますが、随時、質問や補足なども歓迎します。
 双方向な勉強会でみんなで学んでいきましょう！\n時
 間の制限があるので、本編から派生した面白い話は、F
 acebookグループやTwitterのハッシュタグ#read_kotlinで展開
 されていければいいなあと考えています。\nあると良
 い物\n\nKotlinスタートブック   \n書籍のサンプルコード
 はこちらから  \n\n場所\n未定\nタイムテーブル\n\n\n\n時
 間\n内容\n\n\n\n\n19:15 -\n受付開始\n\n\n19:30 - 19:35\nアイス
 ブレイク\n\n\n19:35 - 21:00\nプレゼンテーション<第4章、
 早く終われば5章>\n\n\n\n主催者紹介\n工藤崇志(@ToraDady)\n
 AllocInitという屋号でいろんなプロジェクトに参画してi
 OS開発をしています。現在はメインの仕事としてはMixi
 内でiOSアプリ開発を担当\n開発経験：5年位、ObjC、Swift\
 , Railsなど\n田中幸一(@tikidunpon)\nappArray inc.で英会話学習
 アプリ SpeakBuddyをKotlin on Spring Bootで開発しています。Ob
 jC、Swift、Kotlin、Spring、Railsなど  \n佐藤剛士(@hatakenokakas
 hi)\nMAMORIO株式会社でiOSエンジニアをしています。\niOS
 開発を中心に、AWSのLambdaなどサーバーレスでの構築が
 できます\nブログ：http://blog.personal-factory.com/\n開発経験
 ：6年くらい、ObjC、Swift、PHP、Linux、Ruby、HTLM、CSS、JavaS
 cript
LOCATION:株式会社Origami 東京都港区南青山5丁目2番1号 NBF AL
 LIANCE 201 
URL:https://techplay.jp/event/625237?utm_medium=referral&utm_source=ics&utm
 _campaign=ics
END:VEVENT
END:VCALENDAR
