BEGIN:VCALENDAR
VERSION:2.0
PRODID:-//https://techplay.jp//JP
CALSCALE:GREGORIAN
METHOD:PUBLISH
X-WR-CALDESC:【福岡開催】LINE Developer Meetup in Fukuoka #18
X-WR-CALNAME:【福岡開催】LINE Developer Meetup in Fukuoka #18
X-WR-TIMEZONE:Asia/Tokyo
BEGIN:VTIMEZONE
TZID:Asia/Tokyo
BEGIN:STANDARD
DTSTART:19700101T000000
TZOFFSETFROM:+0900
TZOFFSETTO:+0900
TZNAME:JST
END:STANDARD
END:VTIMEZONE
BEGIN:VEVENT
UID:625821@techplay.jp
SUMMARY:【福岡開催】LINE Developer Meetup in Fukuoka #18
DTSTART;TZID=Asia/Tokyo:20170719T193000
DTEND;TZID=Asia/Tokyo:20170719T213000
DTSTAMP:20260420T111249Z
CREATED:20170623T100025Z
DESCRIPTION:イベント詳細はこちら\nhttps://techplay.jp/event/62582
 1?utm_medium=referral&utm_source=ics&utm_campaign=ics\n\nLINE Developer M
 eetup in Fukuoka #18\nLINE Fukuokaです。18回目となるLINE Develope
 r Meetup #18\n先日リリースされた 「LINE Creators Studio」 の
 サーバーサイド＆iOS＆Androidと福岡での開発についてお
 話します。\n※ 現在エンジニアの方、またはエンジニ
 ア志望の学生など基本的にプログラミングに関わって
 いるみなさまを対象としております。\n日時\n2017年7月1
 9日（水）19:30~21:30\n場所\nLINE Fukuoka株式会社\n〒812-0012
 　\n福岡県福岡市博多区博多駅中央街8-1 JRJP博多ビル12F
 \n予定\n・「LINE Creators Studio」 Android with Kotlin./Dave\n「LIN
 E Creators Studio」 Androidの開発ではKotlinを利用してます。
 \nKotlin\, AnkoやFirebase Test LabでのUIテスト自動化について
 お話出来たらと思います。\n＜Contents＞\n・1 「LINE Creato
 rs Studio」Android with Kotlin\n・2 「LINE Creators Studio」 Android
 のアプリ設計\n・2-1 Anko - xml layout 0の世界へ\n・3Firebase 
 Test Lab - AndroidでUIテスト自動化が必要な理由\n・「LINE C
 reators Studio」 iOSアプリ開発におけるRxSwiftの使いドコロ
 /ukitaka\n「LINE Creators Studio」 iOSアプリでは、RxSwiftやそ
 の周辺ライブラリを使い倒して実装を行っています。\
 nFRP(Functional Reactive Programming)やらRxSwiftやらが流行って
 いて興味があるけど、実際のiOS開発でどんな風に使っ
 たらいいかわからない！という人向けに、「LINE Creators
  Studio」での利用例を中心に「どんな部分にどのように
 使えるのか」を紹介してみます\n・アプリで簡単にス
 タンプを販売できるためのAPI開発/Adam Millerchip\n「LINE Cr
 eators Studio」 アプリからスタンプを申請・販売できる
 ようにするAPIを開発しました。\nこの発表ではAPI開発
 に使った技術を紹介します。\n※参加費無料。軽食を
 ご用意します。\nSushi&Beerの簡単な軽食をご準備いたし
 ます。また、懇親会を行いますので、ぜひ弊社社員だ
 けでなくご参加のエンジニアの皆さんとご交流くださ
 い。
LOCATION:LINE Fukuoka株式会社 福岡県福岡市博多区博多駅中
 央街8-1 JRJP博多ビル12F
URL:https://techplay.jp/event/625821?utm_medium=referral&utm_source=ics&utm
 _campaign=ics
END:VEVENT
END:VCALENDAR
