BEGIN:VCALENDAR
VERSION:2.0
PRODID:-//https://techplay.jp//JP
CALSCALE:GREGORIAN
METHOD:PUBLISH
X-WR-CALDESC:OPNFVハンズオン#1
X-WR-CALNAME:OPNFVハンズオン#1
X-WR-TIMEZONE:Asia/Tokyo
BEGIN:VTIMEZONE
TZID:Asia/Tokyo
BEGIN:STANDARD
DTSTART:19700101T000000
TZOFFSETFROM:+0900
TZOFFSETTO:+0900
TZNAME:JST
END:STANDARD
END:VTIMEZONE
BEGIN:VEVENT
UID:626049@techplay.jp
SUMMARY:OPNFVハンズオン#1
DTSTART;TZID=Asia/Tokyo:20170825T100000
DTEND;TZID=Asia/Tokyo:20170825T170000
DTSTAMP:20260424T051745Z
CREATED:20170626T060812Z
DESCRIPTION:イベント詳細はこちら\nhttps://techplay.jp/event/62604
 9?utm_medium=referral&utm_source=ics&utm_campaign=ics\n\n今回の沖縄
 オープンラボのオープンフォーラムはOPNFV（https://www.op
 nfv.org/ ）をとりあげ、ハンズオンを行います。OPNFVはNF
 Vをオープンソースで実現するLinux Foundationのプロジェ
 クトです。特にテレコム界隈では話題になっているも
 のの、国内では動かしてみたことがある人はまだ少な
 いのが現状です。そこで、今回のハンズオンでは、OPNF
 Vの最新リリース（Danube）をインストールして、テスト
 プログラムを走らせてみます。これによりOpenStackやODL
 が組み込まれたOPNFVをより具体的に理解することがで
 きます。実際に動かしてみたい、触れてみたいといっ
 た方々にお勧めです。\n（2017/7/31）\n早々に定員オーバ
 ーとなってしまい申し訳ありません。参加枠を拡大し
 ました。また、10名の見学枠を設けました。動いてい
 る様子だけ見たい！などの方はこの見学枠に申し込み
 ください。\nアジェンダ\n10:30-11:00  受付\n11:00-11:30  グ
 ループ分け、OPNFVインストール開始\n11:30-12:00  OPNFV概要
 （講義）\n12:00-13:00  昼食（各自）\n13:00-14:00  OPNFVのコ
 ンポーネントと調べ方（講義）\n14:00-14:30  インストー
 ルされたOPNFVを見てみよう\n14:30-15:30  使ってみよう（Fu
 nctest実行など）\n15:30-16:00  休憩\n16:00-17:00   ナレッジ共
 有\n参加条件\n\nLinuxコマンドの操作ができること\nCentOS
  7系で利用可能なエディタを使えること\n検証サーバヘ
 SSHログインするためのラップトップを持参できること
 （OPNFVを動かす検証サーバ、無線LANは主催者側で用意
 します）\n\n会場\nレッドハット様セミナー室\n行き方:\
 n    JR恵比寿駅 東口を出て右すぐ。\n    渡り廊下越え
 の恵比寿ネオナートビル 5階 に直接お越しください。\
 n    エレベーターホールから左奥正面の扉からお入り
 ください。\n    受付にてお名前を確認させていただき
 ます。
LOCATION:レッドハットセミナールーム 東京都渋谷区恵比
 寿4丁目1-18 恵比寿ネオナート
URL:https://techplay.jp/event/626049?utm_medium=referral&utm_source=ics&utm
 _campaign=ics
END:VEVENT
END:VCALENDAR
